BEGIN:VCALENDAR
VERSION:2.0
PRODID:-//Club Engadine RSL - ECPv6.15.20//NONSGML v1.0//EN
CALSCALE:GREGORIAN
METHOD:PUBLISH
X-ORIGINAL-URL:https://clubengadine.com.au
X-WR-CALDESC:Events for Club Engadine RSL
REFRESH-INTERVAL;VALUE=DURATION:PT1H
X-Robots-Tag:noindex
X-PUBLISHED-TTL:PT1H
BEGIN:VTIMEZONE
TZID:Australia/Sydney
BEGIN:STANDARD
TZOFFSETFROM:+1100
TZOFFSETTO:+1000
TZNAME:AEST
DTSTART:20230401T160000
END:STANDARD
BEGIN:DAYLIGHT
TZOFFSETFROM:+1000
TZOFFSETTO:+1100
TZNAME:AEDT
DTSTART:20230930T160000
END:DAYLIGHT
BEGIN:STANDARD
TZOFFSETFROM:+1100
TZOFFSETTO:+1000
TZNAME:AEST
DTSTART:20240406T160000
END:STANDARD
BEGIN:DAYLIGHT
TZOFFSETFROM:+1000
TZOFFSETTO:+1100
TZNAME:AEDT
DTSTART:20241005T160000
END:DAYLIGHT
BEGIN:STANDARD
TZOFFSETFROM:+1100
TZOFFSETTO:+1000
TZNAME:AEST
DTSTART:20250405T160000
END:STANDARD
BEGIN:DAYLIGHT
TZOFFSETFROM:+1000
TZOFFSETTO:+1100
TZNAME:AEDT
DTSTART:20251004T160000
END:DAYLIGHT
BEGIN:STANDARD
TZOFFSETFROM:+1100
TZOFFSETTO:+1000
TZNAME:AEST
DTSTART:20260404T160000
END:STANDARD
BEGIN:DAYLIGHT
TZOFFSETFROM:+1000
TZOFFSETTO:+1100
TZNAME:AEDT
DTSTART:20261003T160000
END:DAYLIGHT
BEGIN:STANDARD
TZOFFSETFROM:+1100
TZOFFSETTO:+1000
TZNAME:AEST
DTSTART:20270403T160000
END:STANDARD
BEGIN:DAYLIGHT
TZOFFSETFROM:+1000
TZOFFSETTO:+1100
TZNAME:AEDT
DTSTART:20271002T160000
END:DAYLIGHT
END:VTIMEZONE
BEGIN:VEVENT
DTSTART;VALUE=DATE:20260419
DTEND;VALUE=DATE:20260420
DTSTAMP:20260420T025606
CREATED:20240722T121440Z
LAST-MODIFIED:20260113T035536Z
UID:10010863-1776556800-1776643199@clubengadine.com.au
SUMMARY:Poker
DESCRIPTION:Every Wednesday & Sunday \nWednesday from 7pm\nProgressive bounty on offer $100-$2000 each game \n$15 entry with a $10 add on. Starting stack 30k Tournament Chips \nSunday from 2pm\nProgressive bounty on offer $100-$2000 each game \n$25 entry. Starting stack 50k Tournament Chips
URL:https://clubengadine.com.au/event/poker-2/2026-04-19/
CATEGORIES:Bingo & Cash Housie
ATTACH;FMTTYPE=image/png:https://clubengadine.com.au/wp-content/uploads/2024/07/TVL-2026-Weekly-whats-on-1200-x-600-px-6.png
END:VEVENT
BEGIN:VEVENT
DTSTART;TZID=Australia/Sydney:20260416T190000
DTEND;TZID=Australia/Sydney:20260416T210000
DTSTAMP:20260420T025606
CREATED:20240722T125639Z
LAST-MODIFIED:20260113T041816Z
UID:10011906-1776366000-1776373200@clubengadine.com.au
SUMMARY:Trivia
DESCRIPTION:Join us every Thursday night for Trivia! \nFree entry. Cash prizes to be won! \nFrom 7pm in the main lounge
URL:https://clubengadine.com.au/event/trivia/2026-04-16/
CATEGORIES:Bingo & Cash Housie
ATTACH;FMTTYPE=image/png:https://clubengadine.com.au/wp-content/uploads/2024/07/TVL-2026-Weekly-whats-on-1200-x-600-px-7.png
END:VEVENT
BEGIN:VEVENT
DTSTART;VALUE=DATE:20260416
DTEND;VALUE=DATE:20260417
DTSTAMP:20260420T025606
CREATED:20260311T014831Z
LAST-MODIFIED:20260311T015013Z
UID:10025644-1776297600-1776383999@clubengadine.com.au
SUMMARY:Kids Bingo
DESCRIPTION:**Kids Bingo**\n Thursday 16th April 2026** \nDoors: 10am | Eyes Down 11am \n$5pp (Adult supervision and ticket purchase is required for this event) \nClick Here for Tickets
URL:https://clubengadine.com.au/event/kids-bingo-2/2026-04-16/1/
CATEGORIES:Bingo & Cash Housie,Special Events
ATTACH;FMTTYPE=image/jpeg:https://clubengadine.com.au/wp-content/uploads/2026/03/500x400-Kids-Bingo.jpg
END:VEVENT
BEGIN:VEVENT
DTSTART;TZID=Australia/Sydney:20260415T103000
DTEND;TZID=Australia/Sydney:20260415T123000
DTSTAMP:20260420T025606
CREATED:20240722T134451Z
LAST-MODIFIED:20260113T040504Z
UID:10014554-1776249000-1776256200@clubengadine.com.au
SUMMARY:Bingo
DESCRIPTION:$500 in prizes to be won every Monday\, Tuesday & Wednesday \nPlus with every game played you have the chance of winning the Bingo Deluxe Jackpot! \nBooks from $5 | Eyes down 10.30am
URL:https://clubengadine.com.au/event/bingo/2026-04-15/
CATEGORIES:Bingo & Cash Housie
ATTACH;FMTTYPE=image/png:https://clubengadine.com.au/wp-content/uploads/2024/07/TVL-2026-Weekly-whats-on-1200-x-600-px-4.png
END:VEVENT
BEGIN:VEVENT
DTSTART;VALUE=DATE:20260415
DTEND;VALUE=DATE:20260416
DTSTAMP:20260420T025606
CREATED:20240722T120719Z
LAST-MODIFIED:20260113T035748Z
UID:10010173-1776211200-1776297599@clubengadine.com.au
SUMMARY:Poker
DESCRIPTION:Every Wednesday & Sunday \nWednesday from 7pm\nProgressive bounty on offer $100-$2000 each game \n$15 entry with a $10 add on. Starting stack 30k Tournament Chips \nSunday from 2pm\nProgressive bounty on offer $100-$2000 each game \n$25 entry. Starting stack 50k Tournament Chips
URL:https://clubengadine.com.au/event/poker/2026-04-15/
CATEGORIES:Bingo & Cash Housie
ATTACH;FMTTYPE=image/png:https://clubengadine.com.au/wp-content/uploads/2024/07/TVL-2026-Weekly-whats-on-1200-x-600-px-6.png
END:VEVENT
BEGIN:VEVENT
DTSTART;TZID=Australia/Sydney:20250710T110000
DTEND;TZID=Australia/Sydney:20250710T120000
DTSTAMP:20260420T025606
CREATED:20250611T042134Z
LAST-MODIFIED:20250611T042457Z
UID:10023096-1752145200-1752148800@clubengadine.com.au
SUMMARY:Kids Bingo
DESCRIPTION:Join us for some school holiday fun! Kids Bingo! Prizes to be won!\nTickets can be purchased from reception or online.\n\nTickets only $5 per player! Affordable school holiday fun!\n\nDoors open 10am | Eyes down 11am\n\n\n\nBOOK NOW
URL:https://clubengadine.com.au/event/kids-bingo/
CATEGORIES:Bingo & Cash Housie,Special Events
ATTACH;FMTTYPE=image/png:https://clubengadine.com.au/wp-content/uploads/2025/03/CE-tv-screens-1200-x-600-px-5.png
END:VEVENT
BEGIN:VEVENT
DTSTART;TZID=Australia/Sydney:20250417T100000
DTEND;TZID=Australia/Sydney:20250417T120000
DTSTAMP:20260420T025606
CREATED:20250325T035809Z
LAST-MODIFIED:20250325T035809Z
UID:10022368-1744884000-1744891200@clubengadine.com.au
SUMMARY:Kids Bingo - School Holiday Fun!
DESCRIPTION:Join us for some school holiday fun! Kids Bingo! Prizes to be won!\n\nDoors open 10am | Eyes down 10.30am\n\nTickets can be purchased from reception or online.\nTickets are $5 per player or purchase a $12 Kids Meal Deal and get the Bingo session PLUS a Kids meal from Mikes Grill*\n\nCLICK HERE TO BOOK SCHOOL HOLIDAY FUN!\n\nTickets for the bingo session can be purchased on the door.Kids Meal deal must be booked by the 16th April.\n\n*kids meal is valid on Thursday 17th April only. Kids ribs are not included. Valid for children 12 & under only
URL:https://clubengadine.com.au/event/kids-bingo-school-holiday-fun/
CATEGORIES:Bingo & Cash Housie,Entertainment,Special Events
ATTACH;FMTTYPE=image/png:https://clubengadine.com.au/wp-content/uploads/2025/03/CE-tv-screens-1200-x-600-px-5.png
END:VEVENT
BEGIN:VEVENT
DTSTART;VALUE=DATE:20240801
DTEND;VALUE=DATE:20240802
DTSTAMP:20260420T025606
CREATED:20240722T123125Z
LAST-MODIFIED:20241224T010759Z
UID:10011552-1722470400-1722556799@clubengadine.com.au
SUMMARY:Charity Housie
DESCRIPTION:Every Thursday in the Everest Room \nBooks on sale 6pm\nEyes down 7pm \n15 Games Bingo (Bingo Deluxe Jackpot Games included)\n10 Cash Games\n \nBingo Prizes: Bonus Points\nCash Prizes: Determined by ticket sales \n$11.00 to play\nBingo Deluxe Jackpot Games included in book price \n*Bingo participants must be a member of Club Engadine or one of Societie Group’s other venues to play. \n  \nProudly supporting Learning Links \nLearning Links work with children and young people with learning difficulties and disabilities\, along with their families; including those impacted by socio economic disadvantage. Playing Charity Housie helps Learning Links run its programs and services which focus on improving children’s literacy\, numeracy and emotional well-being. \nFor more information please visit www.learninglinks.org.au
URL:https://clubengadine.com.au/event/charity-housie/2024-08-01/1/
CATEGORIES:Bingo & Cash Housie
ATTACH;FMTTYPE=image/jpeg:https://clubengadine.com.au/wp-content/uploads/2024/07/CHARITY-HOUSIE.jpg
END:VEVENT
END:VCALENDAR