BEGIN:VCALENDAR
VERSION:2.0
PRODID:-//Club Engadine RSL - ECPv6.15.20//NONSGML v1.0//EN
CALSCALE:GREGORIAN
METHOD:PUBLISH
X-WR-CALNAME:Club Engadine RSL
X-ORIGINAL-URL:https://clubengadine.com.au
X-WR-CALDESC:Events for Club Engadine RSL
REFRESH-INTERVAL;VALUE=DURATION:PT1H
X-Robots-Tag:noindex
X-PUBLISHED-TTL:PT1H
BEGIN:VTIMEZONE
TZID:Australia/Sydney
BEGIN:STANDARD
TZOFFSETFROM:+1100
TZOFFSETTO:+1000
TZNAME:AEST
DTSTART:20240406T160000
END:STANDARD
BEGIN:DAYLIGHT
TZOFFSETFROM:+1000
TZOFFSETTO:+1100
TZNAME:AEDT
DTSTART:20241005T160000
END:DAYLIGHT
BEGIN:STANDARD
TZOFFSETFROM:+1100
TZOFFSETTO:+1000
TZNAME:AEST
DTSTART:20250405T160000
END:STANDARD
BEGIN:DAYLIGHT
TZOFFSETFROM:+1000
TZOFFSETTO:+1100
TZNAME:AEDT
DTSTART:20251004T160000
END:DAYLIGHT
BEGIN:STANDARD
TZOFFSETFROM:+1100
TZOFFSETTO:+1000
TZNAME:AEST
DTSTART:20260404T160000
END:STANDARD
BEGIN:DAYLIGHT
TZOFFSETFROM:+1000
TZOFFSETTO:+1100
TZNAME:AEDT
DTSTART:20261003T160000
END:DAYLIGHT
BEGIN:STANDARD
TZOFFSETFROM:+1100
TZOFFSETTO:+1000
TZNAME:AEST
DTSTART:20270403T160000
END:STANDARD
BEGIN:DAYLIGHT
TZOFFSETFROM:+1000
TZOFFSETTO:+1100
TZNAME:AEDT
DTSTART:20271002T160000
END:DAYLIGHT
END:VTIMEZONE
BEGIN:VEVENT
DTSTART;TZID=Australia/Sydney:20251231T203000
DTEND;TZID=Australia/Sydney:20260101T003000
DTSTAMP:20260422T015005
CREATED:20240827T000335Z
LAST-MODIFIED:20251217T000049Z
UID:10015599-1767213000-1767227400@clubengadine.com.au
SUMMARY:Feelin’ Groovy - NYE - Free Band Night
DESCRIPTION:Join us on New Year’s Eve for a night of fantastic music and unforgettable moments with Feelin’ Groovy! From 8:30pm in the main lounge. \nFeelin’ Groovy is a six-piece band that has been wowing audiences in Sydney and all over New South Wales since 2012. Feelin’ Groovy pays tribute to the classic hits and party anthems from the 60’s onwards. Groove along to your favourite songs from international and Aussie artists – you really will feel like dancing!
URL:https://clubengadine.com.au/event/feelin-groovy-nye/
CATEGORIES:Entertainment,Special Events
ATTACH;FMTTYPE=image/png:https://clubengadine.com.au/wp-content/uploads/2024/08/Entertainment_Webslides-5.png
END:VEVENT
BEGIN:VEVENT
DTSTART;TZID=Australia/Sydney:20260109T200000
DTEND;TZID=Australia/Sydney:20260109T230000
DTSTAMP:20260422T015005
CREATED:20240826T235830Z
LAST-MODIFIED:20251223T014229Z
UID:10015597-1767988800-1767999600@clubengadine.com.au
SUMMARY:Justin Woodford
DESCRIPTION:Join us when Shire local Justin Woodford takes the stage singing all your favourite tunes. In the main lounge from 8pm.
URL:https://clubengadine.com.au/event/justin-woodford-2/
CATEGORIES:Entertainment
ATTACH;FMTTYPE=image/png:https://clubengadine.com.au/wp-content/uploads/2024/08/45.png
END:VEVENT
BEGIN:VEVENT
DTSTART;VALUE=DATE:20260112
DTEND;VALUE=DATE:20260113
DTSTAMP:20260422T015005
CREATED:20260112T043200Z
LAST-MODIFIED:20260112T043307Z
UID:10024205-1768176000-1768262399@clubengadine.com.au
SUMMARY:Super Bowl LX 2026
DESCRIPTION:Broadcasting LIVE in the main lounge on the big screen from Levi’s Stadium – Santa Clara\, California. \nFrom 10:30am
URL:https://clubengadine.com.au/event/super-bowl-lx-2026/
CATEGORIES:Entertainment,Special Events
ATTACH;FMTTYPE=image/jpeg:https://clubengadine.com.au/wp-content/uploads/2026/01/1200x600-Super-Bowl_2026-Web-Slide.jpg
END:VEVENT
BEGIN:VEVENT
DTSTART;TZID=Australia/Sydney:20260116T200000
DTEND;TZID=Australia/Sydney:20260116T230000
DTSTAMP:20260422T015005
CREATED:20241015T021032Z
LAST-MODIFIED:20251223T015206Z
UID:10015645-1768593600-1768604400@clubengadine.com.au
SUMMARY:James Englund
DESCRIPTION:James Englund will be performing fantastic tunes from 8pm in the main lounge. Don’t be late!
URL:https://clubengadine.com.au/event/james-englund/
CATEGORIES:Entertainment
ATTACH;FMTTYPE=image/png:https://clubengadine.com.au/wp-content/uploads/2024/10/James-Englund.png
END:VEVENT
BEGIN:VEVENT
DTSTART;TZID=Australia/Sydney:20260123T200000
DTEND;TZID=Australia/Sydney:20260123T230000
DTSTAMP:20260422T015005
CREATED:20250113T045526Z
LAST-MODIFIED:20251223T033942Z
UID:10019647-1769198400-1769209200@clubengadine.com.au
SUMMARY:Alexie Pigot
DESCRIPTION:Get ready to be captivated by live performance by Alexie Pigot in the main lounge at 8 PM. Sit back\, relax\, and enjoy the show!
URL:https://clubengadine.com.au/event/alexie-pigot-2/
CATEGORIES:Entertainment
ATTACH;FMTTYPE=image/png:https://clubengadine.com.au/wp-content/uploads/2025/01/alexie-pigot.png
END:VEVENT
BEGIN:VEVENT
DTSTART;TZID=Australia/Sydney:20260124T200000
DTEND;TZID=Australia/Sydney:20260124T230000
DTSTAMP:20260422T015005
CREATED:20250723T075126Z
LAST-MODIFIED:20251223T034025Z
UID:10023145-1769284800-1769295600@clubengadine.com.au
SUMMARY:Steve G
DESCRIPTION:Ready for some great tunes? Join us at Club Engadine for some brilliant live music in the main lounge from 8pm.
URL:https://clubengadine.com.au/event/steve-g-2/
CATEGORIES:Entertainment
ATTACH;FMTTYPE=image/png:https://clubengadine.com.au/wp-content/uploads/2024/07/Webslide-14.png
END:VEVENT
BEGIN:VEVENT
DTSTART;TZID=Australia/Sydney:20260130T200000
DTEND;TZID=Australia/Sydney:20260130T230000
DTSTAMP:20260422T015005
CREATED:20250107T014048Z
LAST-MODIFIED:20251223T034103Z
UID:10017661-1769803200-1769814000@clubengadine.com.au
SUMMARY:Kye Brown
DESCRIPTION:Kye Brown has been hailed for energetic shows\, which regularly entice audience members to sing and dance along. Performing a wide assortment of genres\, join him from 8pm in the main lounge.
URL:https://clubengadine.com.au/event/kye-brown/
CATEGORIES:Entertainment
ATTACH;FMTTYPE=image/png:https://clubengadine.com.au/wp-content/uploads/2025/01/kye-brown.png
END:VEVENT
BEGIN:VEVENT
DTSTART;TZID=Australia/Sydney:20260131T200000
DTEND;TZID=Australia/Sydney:20260131T230000
DTSTAMP:20260422T015005
CREATED:20250825T025919Z
LAST-MODIFIED:20251223T034142Z
UID:10023542-1769889600-1769900400@clubengadine.com.au
SUMMARY:Ipanema Latin Duo
DESCRIPTION:Starting at 8pm\, our main lounge transforms into a hub of rhythm and melody. Don’t miss out!
URL:https://clubengadine.com.au/event/ipanema-latin-duo/
CATEGORIES:Entertainment
ATTACH;FMTTYPE=image/png:https://clubengadine.com.au/wp-content/uploads/2025/08/Entertainment_Webslides-4.png
END:VEVENT
END:VCALENDAR