BEGIN:VCALENDAR
VERSION:2.0
PRODID:-//Club Engadine RSL - ECPv6.15.20//NONSGML v1.0//EN
CALSCALE:GREGORIAN
METHOD:PUBLISH
X-WR-CALNAME:Club Engadine RSL
X-ORIGINAL-URL:https://clubengadine.com.au
X-WR-CALDESC:Events for Club Engadine RSL
REFRESH-INTERVAL;VALUE=DURATION:PT1H
X-Robots-Tag:noindex
X-PUBLISHED-TTL:PT1H
BEGIN:VTIMEZONE
TZID:Australia/Sydney
BEGIN:STANDARD
TZOFFSETFROM:+1100
TZOFFSETTO:+1000
TZNAME:AEST
DTSTART:20250405T160000
END:STANDARD
BEGIN:DAYLIGHT
TZOFFSETFROM:+1000
TZOFFSETTO:+1100
TZNAME:AEDT
DTSTART:20251004T160000
END:DAYLIGHT
BEGIN:STANDARD
TZOFFSETFROM:+1100
TZOFFSETTO:+1000
TZNAME:AEST
DTSTART:20260404T160000
END:STANDARD
BEGIN:DAYLIGHT
TZOFFSETFROM:+1000
TZOFFSETTO:+1100
TZNAME:AEDT
DTSTART:20261003T160000
END:DAYLIGHT
BEGIN:STANDARD
TZOFFSETFROM:+1100
TZOFFSETTO:+1000
TZNAME:AEST
DTSTART:20270403T160000
END:STANDARD
BEGIN:DAYLIGHT
TZOFFSETFROM:+1000
TZOFFSETTO:+1100
TZNAME:AEDT
DTSTART:20271002T160000
END:DAYLIGHT
END:VTIMEZONE
BEGIN:VEVENT
DTSTART;TZID=Australia/Sydney:20260206T200000
DTEND;TZID=Australia/Sydney:20260206T230000
DTSTAMP:20260421T225327
CREATED:20250107T014830Z
LAST-MODIFIED:20260119T051104Z
UID:10017663-1770408000-1770418800@clubengadine.com.au
SUMMARY:Alexie Pigot
DESCRIPTION:Get ready to be captivated by live performance by Alexie Pigot in the main lounge at 8 PM. Sit back\, relax\, and enjoy the show!
URL:https://clubengadine.com.au/event/alexie-pigot/
CATEGORIES:Entertainment
ATTACH;FMTTYPE=image/png:https://clubengadine.com.au/wp-content/uploads/2025/01/alexie-pigot.png
END:VEVENT
BEGIN:VEVENT
DTSTART;TZID=Australia/Sydney:20260207T200000
DTEND;TZID=Australia/Sydney:20260207T230000
DTSTAMP:20260421T225327
CREATED:20240722T120253Z
LAST-MODIFIED:20260119T051319Z
UID:10009996-1770494400-1770505200@clubengadine.com.au
SUMMARY:Hannah Rose Duo
DESCRIPTION:Join us at Club Engadine for an evening of fantastic live entertainment with Hannah Rose Duo! Starting at 8pm in the main lounge!
URL:https://clubengadine.com.au/event/hannah-rose-duo/
CATEGORIES:Entertainment
ATTACH;FMTTYPE=image/png:https://clubengadine.com.au/wp-content/uploads/2024/07/Webslide.png
END:VEVENT
BEGIN:VEVENT
DTSTART;TZID=Australia/Sydney:20260213T200000
DTEND;TZID=Australia/Sydney:20260213T230000
DTSTAMP:20260421T225327
CREATED:20241008T052044Z
LAST-MODIFIED:20260121T003618Z
UID:10015619-1771012800-1771023600@clubengadine.com.au
SUMMARY:Steve G
DESCRIPTION:Ready for some great tunes? Join us at Club Engadine for some brilliant live music in the main lounge from 8pm.
URL:https://clubengadine.com.au/event/steve-g/
CATEGORIES:Entertainment
ATTACH;FMTTYPE=image/png:https://clubengadine.com.au/wp-content/uploads/2024/07/Webslide-14.png
END:VEVENT
BEGIN:VEVENT
DTSTART;TZID=Australia/Sydney:20260214T200000
DTEND;TZID=Australia/Sydney:20260214T230000
DTSTAMP:20260421T225327
CREATED:20251223T014828Z
LAST-MODIFIED:20260121T003703Z
UID:10023851-1771099200-1771110000@clubengadine.com.au
SUMMARY:Sam Dowling
DESCRIPTION:Pop into Club Engadine from 8pm to see Sam Dowling take center stage! Get ready for some great tunes\, smooth vocals\, and tremendous vibes!
URL:https://clubengadine.com.au/event/sam-dowling/
CATEGORIES:Entertainment
ATTACH;FMTTYPE=image/png:https://clubengadine.com.au/wp-content/uploads/2025/12/Entertainment_Webslides-11.png
END:VEVENT
BEGIN:VEVENT
DTSTART;TZID=Australia/Sydney:20260220T200000
DTEND;TZID=Australia/Sydney:20260220T230000
DTSTAMP:20260421T225327
CREATED:20251022T005743Z
LAST-MODIFIED:20260121T003750Z
UID:10023663-1771617600-1771628400@clubengadine.com.au
SUMMARY:Marco
DESCRIPTION:Marco is a seasoned entertainer and masterful vocalist/guitarist who specialises in timeless acoustic classics from the ’70s\, ’80s\, and ’90s—because great music never goes out of style. With a rich\, soulful sound and an easy charm\, Marco has become a regular feature at many of Sydney’s top venues. \nWhether he’s setting the mood with a laid-back ballad or getting toes tapping with a classic singalong\, Marco knows how to read the room and deliver just the right vibe. Expect warm melodies\, feel-good nostalgia\, and maybe even a few tunes you forgot you loved. He’ll leave you with a smile on your face\, a song stuck in your head—and wondering why every night doesn’t come with a soundtrack like this. \nVisit Club Engadine at 8 PM in the main lounge to experience the magic of live music with the incredible Marco!
URL:https://clubengadine.com.au/event/marco/
CATEGORIES:Entertainment
ATTACH;FMTTYPE=image/png:https://clubengadine.com.au/wp-content/uploads/2025/04/Marco-Tribbia.png
END:VEVENT
BEGIN:VEVENT
DTSTART;TZID=Australia/Sydney:20260221T200000
DTEND;TZID=Australia/Sydney:20260221T230000
DTSTAMP:20260421T225327
CREATED:20250723T071142Z
LAST-MODIFIED:20260121T003848Z
UID:10023143-1771704000-1771714800@clubengadine.com.au
SUMMARY:Dora D
DESCRIPTION:Pop on over to Club Engadine to see Dora D live from 8pm in the main lounge! Let’s get dancing!
URL:https://clubengadine.com.au/event/dora-d/
CATEGORIES:Entertainment
ATTACH;FMTTYPE=image/png:https://clubengadine.com.au/wp-content/uploads/2025/07/Entertainment_Webslides-14.png
END:VEVENT
BEGIN:VEVENT
DTSTART;TZID=Australia/Sydney:20260227T200000
DTEND;TZID=Australia/Sydney:20260227T230000
DTSTAMP:20260421T225327
CREATED:20260121T004020Z
LAST-MODIFIED:20260121T004020Z
UID:10024442-1772222400-1772233200@clubengadine.com.au
SUMMARY:Kye Brown
DESCRIPTION:Kye Brown has been hailed for energetic shows\, which regularly entice audience members to sing and dance along. Performing a wide assortment of genres\, join him from 8pm in the main lounge.
URL:https://clubengadine.com.au/event/kye-brown-2/
CATEGORIES:Entertainment
ATTACH;FMTTYPE=image/png:https://clubengadine.com.au/wp-content/uploads/2025/01/kye-brown.png
END:VEVENT
BEGIN:VEVENT
DTSTART;TZID=Australia/Sydney:20260228T200000
DTEND;TZID=Australia/Sydney:20260228T230000
DTSTAMP:20260421T225327
CREATED:20260121T010500Z
LAST-MODIFIED:20260121T010535Z
UID:10024443-1772308800-1772319600@clubengadine.com.au
SUMMARY:Luke Station Duo
DESCRIPTION:Head on over to Club Engadine from 8pm to see Luke Station Duo perform live in the main lounge! Get ready for awesome music\, silky-smooth vocals\, and an unforgettable vibe!
URL:https://clubengadine.com.au/event/luke-station-duo/
CATEGORIES:Entertainment
ATTACH;FMTTYPE=image/png:https://clubengadine.com.au/wp-content/uploads/2026/01/Entertainment_Webslides-18.png
END:VEVENT
END:VCALENDAR