BEGIN:VCALENDAR
VERSION:2.0
PRODID:-//Club Engadine RSL - ECPv6.15.20//NONSGML v1.0//EN
CALSCALE:GREGORIAN
METHOD:PUBLISH
X-WR-CALNAME:Club Engadine RSL
X-ORIGINAL-URL:https://clubengadine.com.au
X-WR-CALDESC:Events for Club Engadine RSL
REFRESH-INTERVAL;VALUE=DURATION:PT1H
X-Robots-Tag:noindex
X-PUBLISHED-TTL:PT1H
BEGIN:VTIMEZONE
TZID:Australia/Sydney
BEGIN:STANDARD
TZOFFSETFROM:+1100
TZOFFSETTO:+1000
TZNAME:AEST
DTSTART:20240406T160000
END:STANDARD
BEGIN:DAYLIGHT
TZOFFSETFROM:+1000
TZOFFSETTO:+1100
TZNAME:AEDT
DTSTART:20241005T160000
END:DAYLIGHT
BEGIN:STANDARD
TZOFFSETFROM:+1100
TZOFFSETTO:+1000
TZNAME:AEST
DTSTART:20250405T160000
END:STANDARD
BEGIN:DAYLIGHT
TZOFFSETFROM:+1000
TZOFFSETTO:+1100
TZNAME:AEDT
DTSTART:20251004T160000
END:DAYLIGHT
BEGIN:STANDARD
TZOFFSETFROM:+1100
TZOFFSETTO:+1000
TZNAME:AEST
DTSTART:20260404T160000
END:STANDARD
BEGIN:DAYLIGHT
TZOFFSETFROM:+1000
TZOFFSETTO:+1100
TZNAME:AEDT
DTSTART:20261003T160000
END:DAYLIGHT
END:VTIMEZONE
BEGIN:VEVENT
DTSTART;TZID=Australia/Sydney:20251127T140000
DTEND;TZID=Australia/Sydney:20251127T160000
DTSTAMP:20260422T142253
CREATED:20251010T011951Z
LAST-MODIFIED:20251010T013020Z
UID:10023660-1764252000-1764259200@clubengadine.com.au
SUMMARY:The Beach Boys Show
DESCRIPTION:Experience the sun-soaked harmonies and timeless hits of surf rock legends! Join us for a high-energy tribute show packed with favorites like “Surfin’ USA\,” “California Girls\,” “Good Vibrations\,” and more. With driving guitar riffs\, lush vocal harmonies\, and nostalgic flair\, this performance captures the classic Beach Boys sound—and brings the golden era of summer and surf straight to the stage. \nGrab your tickets today! \nBOOK NOW \n 
URL:https://clubengadine.com.au/event/the-beach-boys-show/
CATEGORIES:Entertainment,Special Events
ATTACH;FMTTYPE=image/png:https://clubengadine.com.au/wp-content/uploads/2025/10/TV-Screens-June-2025-to.-1080-x-1920-px-1200-x-600-px.png
END:VEVENT
BEGIN:VEVENT
DTSTART;TZID=Australia/Sydney:20251128T200000
DTEND;TZID=Australia/Sydney:20251128T230000
DTSTAMP:20260422T142253
CREATED:20241205T020345Z
LAST-MODIFIED:20251022T012740Z
UID:10015707-1764360000-1764370800@clubengadine.com.au
SUMMARY:2s Co
DESCRIPTION:2s Co is back playing all your favourite hits! Get your dancing shoes on and join us from 8pm in the main lounge.
URL:https://clubengadine.com.au/event/2s-co/
CATEGORIES:Entertainment
ATTACH;FMTTYPE=image/png:https://clubengadine.com.au/wp-content/uploads/2024/08/Webslide-20.png
END:VEVENT
BEGIN:VEVENT
DTSTART;TZID=Australia/Sydney:20251129T200000
DTEND;TZID=Australia/Sydney:20251129T230000
DTSTAMP:20260422T142253
CREATED:20251022T013014Z
LAST-MODIFIED:20251022T021532Z
UID:10023664-1764446400-1764457200@clubengadine.com.au
SUMMARY:Tony Deveaux
DESCRIPTION:Get ready to be captivated by a live performance by Tony Deveaux in the main lounge at 8 PM. Sit back\, relax\, and enjoy the show!
URL:https://clubengadine.com.au/event/tony-deveaux/
CATEGORIES:Entertainment
ATTACH;FMTTYPE=image/png:https://clubengadine.com.au/wp-content/uploads/2025/10/Entertainment_Webslides-1.png
END:VEVENT
END:VCALENDAR