BEGIN:VCALENDAR
VERSION:2.0
PRODID:-//Club Engadine RSL - ECPv6.15.20//NONSGML v1.0//EN
CALSCALE:GREGORIAN
METHOD:PUBLISH
X-WR-CALNAME:Club Engadine RSL
X-ORIGINAL-URL:https://clubengadine.com.au
X-WR-CALDESC:Events for Club Engadine RSL
REFRESH-INTERVAL;VALUE=DURATION:PT1H
X-Robots-Tag:noindex
X-PUBLISHED-TTL:PT1H
BEGIN:VTIMEZONE
TZID:Australia/Sydney
BEGIN:STANDARD
TZOFFSETFROM:+1100
TZOFFSETTO:+1000
TZNAME:AEST
DTSTART:20240406T160000
END:STANDARD
BEGIN:DAYLIGHT
TZOFFSETFROM:+1000
TZOFFSETTO:+1100
TZNAME:AEDT
DTSTART:20241005T160000
END:DAYLIGHT
BEGIN:STANDARD
TZOFFSETFROM:+1100
TZOFFSETTO:+1000
TZNAME:AEST
DTSTART:20250405T160000
END:STANDARD
BEGIN:DAYLIGHT
TZOFFSETFROM:+1000
TZOFFSETTO:+1100
TZNAME:AEDT
DTSTART:20251004T160000
END:DAYLIGHT
BEGIN:STANDARD
TZOFFSETFROM:+1100
TZOFFSETTO:+1000
TZNAME:AEST
DTSTART:20260404T160000
END:STANDARD
BEGIN:DAYLIGHT
TZOFFSETFROM:+1000
TZOFFSETTO:+1100
TZNAME:AEDT
DTSTART:20261003T160000
END:DAYLIGHT
END:VTIMEZONE
BEGIN:VEVENT
DTSTART;TZID=Australia/Sydney:20251213T200000
DTEND;TZID=Australia/Sydney:20251213T230000
DTSTAMP:20260422T141734
CREATED:20250422T020131Z
LAST-MODIFIED:20251127T015525Z
UID:10022486-1765656000-1765666800@clubengadine.com.au
SUMMARY:Ali Chisholm
DESCRIPTION:Join us for an unforgettable evening with Ali Chisholm performing live in the main lounge at 8 PM.
URL:https://clubengadine.com.au/event/ali-chisholm/
CATEGORIES:Entertainment
ATTACH;FMTTYPE=image/png:https://clubengadine.com.au/wp-content/uploads/2025/02/Entertainment_Webslides-1.png
END:VEVENT
END:VCALENDAR