BEGIN:VCALENDAR
VERSION:2.0
PRODID:-//Club Engadine RSL - ECPv6.15.20//NONSGML v1.0//EN
CALSCALE:GREGORIAN
METHOD:PUBLISH
X-ORIGINAL-URL:https://clubengadine.com.au
X-WR-CALDESC:Events for Club Engadine RSL
REFRESH-INTERVAL;VALUE=DURATION:PT1H
X-Robots-Tag:noindex
X-PUBLISHED-TTL:PT1H
BEGIN:VTIMEZONE
TZID:Australia/Sydney
BEGIN:STANDARD
TZOFFSETFROM:+1100
TZOFFSETTO:+1000
TZNAME:AEST
DTSTART:20250405T160000
END:STANDARD
BEGIN:DAYLIGHT
TZOFFSETFROM:+1000
TZOFFSETTO:+1100
TZNAME:AEDT
DTSTART:20251004T160000
END:DAYLIGHT
BEGIN:STANDARD
TZOFFSETFROM:+1100
TZOFFSETTO:+1000
TZNAME:AEST
DTSTART:20260404T160000
END:STANDARD
BEGIN:DAYLIGHT
TZOFFSETFROM:+1000
TZOFFSETTO:+1100
TZNAME:AEDT
DTSTART:20261003T160000
END:DAYLIGHT
BEGIN:STANDARD
TZOFFSETFROM:+1100
TZOFFSETTO:+1000
TZNAME:AEST
DTSTART:20270403T160000
END:STANDARD
BEGIN:DAYLIGHT
TZOFFSETFROM:+1000
TZOFFSETTO:+1100
TZNAME:AEDT
DTSTART:20271002T160000
END:DAYLIGHT
END:VTIMEZONE
BEGIN:VEVENT
DTSTART;TZID=Australia/Sydney:20260220T200000
DTEND;TZID=Australia/Sydney:20260220T230000
DTSTAMP:20260420T085857
CREATED:20251022T005743Z
LAST-MODIFIED:20260121T003750Z
UID:10023663-1771617600-1771628400@clubengadine.com.au
SUMMARY:Marco
DESCRIPTION:Marco is a seasoned entertainer and masterful vocalist/guitarist who specialises in timeless acoustic classics from the ’70s\, ’80s\, and ’90s—because great music never goes out of style. With a rich\, soulful sound and an easy charm\, Marco has become a regular feature at many of Sydney’s top venues. \nWhether he’s setting the mood with a laid-back ballad or getting toes tapping with a classic singalong\, Marco knows how to read the room and deliver just the right vibe. Expect warm melodies\, feel-good nostalgia\, and maybe even a few tunes you forgot you loved. He’ll leave you with a smile on your face\, a song stuck in your head—and wondering why every night doesn’t come with a soundtrack like this. \nVisit Club Engadine at 8 PM in the main lounge to experience the magic of live music with the incredible Marco!
URL:https://clubengadine.com.au/event/marco/
CATEGORIES:Entertainment
ATTACH;FMTTYPE=image/png:https://clubengadine.com.au/wp-content/uploads/2025/04/Marco-Tribbia.png
END:VEVENT
BEGIN:VEVENT
DTSTART;TZID=Australia/Sydney:20260221T200000
DTEND;TZID=Australia/Sydney:20260221T230000
DTSTAMP:20260420T085857
CREATED:20250723T071142Z
LAST-MODIFIED:20260121T003848Z
UID:10023143-1771704000-1771714800@clubengadine.com.au
SUMMARY:Dora D
DESCRIPTION:Pop on over to Club Engadine to see Dora D live from 8pm in the main lounge! Let’s get dancing!
URL:https://clubengadine.com.au/event/dora-d/
CATEGORIES:Entertainment
ATTACH;FMTTYPE=image/png:https://clubengadine.com.au/wp-content/uploads/2025/07/Entertainment_Webslides-14.png
END:VEVENT
END:VCALENDAR