BEGIN:VCALENDAR
VERSION:2.0
PRODID:-//Club Engadine RSL - ECPv6.15.20//NONSGML v1.0//EN
CALSCALE:GREGORIAN
METHOD:PUBLISH
X-WR-CALNAME:Club Engadine RSL
X-ORIGINAL-URL:https://clubengadine.com.au
X-WR-CALDESC:Events for Club Engadine RSL
REFRESH-INTERVAL;VALUE=DURATION:PT1H
X-Robots-Tag:noindex
X-PUBLISHED-TTL:PT1H
BEGIN:VTIMEZONE
TZID:Australia/Sydney
BEGIN:STANDARD
TZOFFSETFROM:+1100
TZOFFSETTO:+1000
TZNAME:AEST
DTSTART:20240406T160000
END:STANDARD
BEGIN:DAYLIGHT
TZOFFSETFROM:+1000
TZOFFSETTO:+1100
TZNAME:AEDT
DTSTART:20241005T160000
END:DAYLIGHT
BEGIN:STANDARD
TZOFFSETFROM:+1100
TZOFFSETTO:+1000
TZNAME:AEST
DTSTART:20250405T160000
END:STANDARD
BEGIN:DAYLIGHT
TZOFFSETFROM:+1000
TZOFFSETTO:+1100
TZNAME:AEDT
DTSTART:20251004T160000
END:DAYLIGHT
BEGIN:STANDARD
TZOFFSETFROM:+1100
TZOFFSETTO:+1000
TZNAME:AEST
DTSTART:20260404T160000
END:STANDARD
BEGIN:DAYLIGHT
TZOFFSETFROM:+1000
TZOFFSETTO:+1100
TZNAME:AEDT
DTSTART:20261003T160000
END:DAYLIGHT
END:VTIMEZONE
BEGIN:VEVENT
DTSTART;TZID=Australia/Sydney:20250302T113000
DTEND;TZID=Australia/Sydney:20250302T200000
DTSTAMP:20260422T072330
CREATED:20250114T232834Z
LAST-MODIFIED:20250825T034533Z
UID:10020437-1740915000-1740945600@clubengadine.com.au
SUMMARY:Kids Eat Free*
DESCRIPTION:Kids Eat FREE* All Day Sunday!\n\n*Bring the family in for Lunch OR Dinner and kids eat free with every paying adult of $20+. Excludes Kids Ribs.\n\n*Not available on public holidays\, Mothers Day or Fathers Day.
URL:https://clubengadine.com.au/event/kids-eat-free-2/2025-03-02/
CATEGORIES:Mike's Grill Specials
ATTACH;FMTTYPE=image/png:https://clubengadine.com.au/wp-content/uploads/2025/01/6.png
END:VEVENT
BEGIN:VEVENT
DTSTART;VALUE=DATE:20250303
DTEND;VALUE=DATE:20250304
DTSTAMP:20260422T072330
CREATED:20250218T100858Z
LAST-MODIFIED:20250218T100858Z
UID:10021243-1740960000-1741046399@clubengadine.com.au
SUMMARY:Members March Special - Lobster Mornay
DESCRIPTION:1/2 Lobster Mornay served with chips & salad\nOnly $20 for Members\nAvailable Sunday to Tuesday for Lunch & Dinner \n  \n  \nNO SUBSTITUTIONS | DINE IN ONLY | GUEST PRICE $35 | ONLY AVAILABLE DURING THE MONTH OF MARCH
URL:https://clubengadine.com.au/event/members-march-special-lobster-mornay/2025-03-03/
CATEGORIES:Mike's Grill Specials,Special Events
ATTACH;FMTTYPE=image/jpeg:https://clubengadine.com.au/wp-content/uploads/2025/02/Seafood-1200-x-600-px.jpg
END:VEVENT
BEGIN:VEVENT
DTSTART;TZID=Australia/Sydney:20250303T173000
DTEND;TZID=Australia/Sydney:20250303T203000
DTSTAMP:20260422T072330
CREATED:20250114T234333Z
LAST-MODIFIED:20250114T234333Z
UID:10020694-1741023000-1741033800@clubengadine.com.au
SUMMARY:Schnitzel & Pasta Night
DESCRIPTION:Join us every Monday for our Schnitzel & Pasta night!ONLY $17 for MEMBERS!\nYour choice of:300g Chicken Breast Schnitzelserved with chips & choice of gravyORSpaghetti Bolognesetraditional slow cooked bologneseORFettucine Vegetarianw/ olives\, mushrooms\, garlic\, capsicum & onions in a napoletana sauceORFettucine Boscaiolaw/ bacon\, mushrooms\, garlic\, shallots\, cream & white wine sauce
URL:https://clubengadine.com.au/event/schnitzel-pasta-night/2025-03-03/
CATEGORIES:Mike's Grill Specials
ATTACH;FMTTYPE=image/png:https://clubengadine.com.au/wp-content/uploads/2025/01/5.png
END:VEVENT
BEGIN:VEVENT
DTSTART;VALUE=DATE:20250304
DTEND;VALUE=DATE:20250305
DTSTAMP:20260422T072330
CREATED:20250218T100858Z
LAST-MODIFIED:20250218T100858Z
UID:10021244-1741046400-1741132799@clubengadine.com.au
SUMMARY:Members March Special - Lobster Mornay
DESCRIPTION:1/2 Lobster Mornay served with chips & salad\nOnly $20 for Members\nAvailable Sunday to Tuesday for Lunch & Dinner \n  \n  \nNO SUBSTITUTIONS | DINE IN ONLY | GUEST PRICE $35 | ONLY AVAILABLE DURING THE MONTH OF MARCH
URL:https://clubengadine.com.au/event/members-march-special-lobster-mornay/2025-03-04/
CATEGORIES:Mike's Grill Specials,Special Events
ATTACH;FMTTYPE=image/jpeg:https://clubengadine.com.au/wp-content/uploads/2025/02/Seafood-1200-x-600-px.jpg
END:VEVENT
BEGIN:VEVENT
DTSTART;TZID=Australia/Sydney:20250304T173000
DTEND;TZID=Australia/Sydney:20250304T203000
DTSTAMP:20260422T072330
CREATED:20250114T234432Z
LAST-MODIFIED:20250115T002307Z
UID:10020955-1741109400-1741120200@clubengadine.com.au
SUMMARY:Steak Night
DESCRIPTION:Join us on Tuesday night for our Steak special!\n250g Black Angus Rump cooked to your likingserved with chips & salad and choice of gravy\nONLY $18 for MEMBERS!\n\n\nSpecials may not be available on special event nights or public holiday
URL:https://clubengadine.com.au/event/steak-night/2025-03-04/
CATEGORIES:Mike's Grill Specials
ATTACH;FMTTYPE=image/png:https://clubengadine.com.au/wp-content/uploads/2025/01/4.png
END:VEVENT
BEGIN:VEVENT
DTSTART;TZID=Australia/Sydney:20250305T173000
DTEND;TZID=Australia/Sydney:20250305T203000
DTSTAMP:20260422T072330
CREATED:20250114T232126Z
LAST-MODIFIED:20250114T232126Z
UID:10019915-1741195800-1741206600@clubengadine.com.au
SUMMARY:Schnitzel Night
DESCRIPTION:Wednesdays are Schnitzel Night!\nONLY $18 for MEMBERS\n300g Chicken Schnitzel served with chips & salad and your choice of gravy\n\n\n\nMay not be available on public holidays or special event nights
URL:https://clubengadine.com.au/event/schnitzel-night/2025-03-05/
CATEGORIES:Mike's Grill Specials
ATTACH;FMTTYPE=image/png:https://clubengadine.com.au/wp-content/uploads/2025/01/3.png
END:VEVENT
BEGIN:VEVENT
DTSTART;TZID=Australia/Sydney:20250306T173000
DTEND;TZID=Australia/Sydney:20250306T203000
DTSTAMP:20260422T072330
CREATED:20250114T232313Z
LAST-MODIFIED:20250114T232313Z
UID:10020176-1741282200-1741293000@clubengadine.com.au
SUMMARY:Parmi Night
DESCRIPTION:Parmi Night!\nChoose any Parmi from our Menu\, only $22 for Members!\nYou have a choice of….\n– Traditionaltopped with napoletana sauce\, shaved ham & melted mozzarella cheeseOR– BologneseTopped with bolognese sauce & melted mozzarella cheeseOR– MexicanTopped with spicy beef\, jalapenos\, melted mozzarella\, sour cream\, guacamole & corn chipsOR– GreekTopped with slow cooked lamb\, feta cheese\, melted mozzarella cheese & tzatzikiOR– LoadedTopped with bacon\, mushrooms\, jalapenos\, melted mozzarella & smoky bbq sauceOR– SpanishTopped with spanish onion\, chorizo sausage\, black olives & melted mozzarella cheese\n\nSpecials may not be available on public holidays or special event nights
URL:https://clubengadine.com.au/event/parmi-night/2025-03-06/
CATEGORIES:Mike's Grill Specials
ATTACH;FMTTYPE=image/png:https://clubengadine.com.au/wp-content/uploads/2025/01/2.png
END:VEVENT
BEGIN:VEVENT
DTSTART;VALUE=DATE:20250309
DTEND;VALUE=DATE:20250310
DTSTAMP:20260422T072330
CREATED:20250218T100858Z
LAST-MODIFIED:20250218T100858Z
UID:10021245-1741478400-1741564799@clubengadine.com.au
SUMMARY:Members March Special - Lobster Mornay
DESCRIPTION:1/2 Lobster Mornay served with chips & salad\nOnly $20 for Members\nAvailable Sunday to Tuesday for Lunch & Dinner \n  \n  \nNO SUBSTITUTIONS | DINE IN ONLY | GUEST PRICE $35 | ONLY AVAILABLE DURING THE MONTH OF MARCH
URL:https://clubengadine.com.au/event/members-march-special-lobster-mornay/2025-03-09/
CATEGORIES:Mike's Grill Specials,Special Events
ATTACH;FMTTYPE=image/jpeg:https://clubengadine.com.au/wp-content/uploads/2025/02/Seafood-1200-x-600-px.jpg
END:VEVENT
BEGIN:VEVENT
DTSTART;TZID=Australia/Sydney:20250309T113000
DTEND;TZID=Australia/Sydney:20250309T200000
DTSTAMP:20260422T072330
CREATED:20250114T232834Z
LAST-MODIFIED:20250825T034533Z
UID:10020438-1741519800-1741550400@clubengadine.com.au
SUMMARY:Kids Eat Free*
DESCRIPTION:Kids Eat FREE* All Day Sunday!\n\n*Bring the family in for Lunch OR Dinner and kids eat free with every paying adult of $20+. Excludes Kids Ribs.\n\n*Not available on public holidays\, Mothers Day or Fathers Day.
URL:https://clubengadine.com.au/event/kids-eat-free-2/2025-03-09/
CATEGORIES:Mike's Grill Specials
ATTACH;FMTTYPE=image/png:https://clubengadine.com.au/wp-content/uploads/2025/01/6.png
END:VEVENT
BEGIN:VEVENT
DTSTART;VALUE=DATE:20250310
DTEND;VALUE=DATE:20250311
DTSTAMP:20260422T072330
CREATED:20250218T100858Z
LAST-MODIFIED:20250218T100858Z
UID:10021246-1741564800-1741651199@clubengadine.com.au
SUMMARY:Members March Special - Lobster Mornay
DESCRIPTION:1/2 Lobster Mornay served with chips & salad\nOnly $20 for Members\nAvailable Sunday to Tuesday for Lunch & Dinner \n  \n  \nNO SUBSTITUTIONS | DINE IN ONLY | GUEST PRICE $35 | ONLY AVAILABLE DURING THE MONTH OF MARCH
URL:https://clubengadine.com.au/event/members-march-special-lobster-mornay/2025-03-10/
CATEGORIES:Mike's Grill Specials,Special Events
ATTACH;FMTTYPE=image/jpeg:https://clubengadine.com.au/wp-content/uploads/2025/02/Seafood-1200-x-600-px.jpg
END:VEVENT
BEGIN:VEVENT
DTSTART;TZID=Australia/Sydney:20250310T173000
DTEND;TZID=Australia/Sydney:20250310T203000
DTSTAMP:20260422T072330
CREATED:20250114T234333Z
LAST-MODIFIED:20250114T234333Z
UID:10020695-1741627800-1741638600@clubengadine.com.au
SUMMARY:Schnitzel & Pasta Night
DESCRIPTION:Join us every Monday for our Schnitzel & Pasta night!ONLY $17 for MEMBERS!\nYour choice of:300g Chicken Breast Schnitzelserved with chips & choice of gravyORSpaghetti Bolognesetraditional slow cooked bologneseORFettucine Vegetarianw/ olives\, mushrooms\, garlic\, capsicum & onions in a napoletana sauceORFettucine Boscaiolaw/ bacon\, mushrooms\, garlic\, shallots\, cream & white wine sauce
URL:https://clubengadine.com.au/event/schnitzel-pasta-night/2025-03-10/
CATEGORIES:Mike's Grill Specials
ATTACH;FMTTYPE=image/png:https://clubengadine.com.au/wp-content/uploads/2025/01/5.png
END:VEVENT
BEGIN:VEVENT
DTSTART;VALUE=DATE:20250311
DTEND;VALUE=DATE:20250312
DTSTAMP:20260422T072330
CREATED:20250218T100858Z
LAST-MODIFIED:20250218T100858Z
UID:10021247-1741651200-1741737599@clubengadine.com.au
SUMMARY:Members March Special - Lobster Mornay
DESCRIPTION:1/2 Lobster Mornay served with chips & salad\nOnly $20 for Members\nAvailable Sunday to Tuesday for Lunch & Dinner \n  \n  \nNO SUBSTITUTIONS | DINE IN ONLY | GUEST PRICE $35 | ONLY AVAILABLE DURING THE MONTH OF MARCH
URL:https://clubengadine.com.au/event/members-march-special-lobster-mornay/2025-03-11/
CATEGORIES:Mike's Grill Specials,Special Events
ATTACH;FMTTYPE=image/jpeg:https://clubengadine.com.au/wp-content/uploads/2025/02/Seafood-1200-x-600-px.jpg
END:VEVENT
BEGIN:VEVENT
DTSTART;TZID=Australia/Sydney:20250311T173000
DTEND;TZID=Australia/Sydney:20250311T203000
DTSTAMP:20260422T072330
CREATED:20250114T234432Z
LAST-MODIFIED:20250115T002307Z
UID:10020956-1741714200-1741725000@clubengadine.com.au
SUMMARY:Steak Night
DESCRIPTION:Join us on Tuesday night for our Steak special!\n250g Black Angus Rump cooked to your likingserved with chips & salad and choice of gravy\nONLY $18 for MEMBERS!\n\n\nSpecials may not be available on special event nights or public holiday
URL:https://clubengadine.com.au/event/steak-night/2025-03-11/
CATEGORIES:Mike's Grill Specials
ATTACH;FMTTYPE=image/png:https://clubengadine.com.au/wp-content/uploads/2025/01/4.png
END:VEVENT
BEGIN:VEVENT
DTSTART;TZID=Australia/Sydney:20250312T173000
DTEND;TZID=Australia/Sydney:20250312T203000
DTSTAMP:20260422T072330
CREATED:20250114T232126Z
LAST-MODIFIED:20250114T232126Z
UID:10019916-1741800600-1741811400@clubengadine.com.au
SUMMARY:Schnitzel Night
DESCRIPTION:Wednesdays are Schnitzel Night!\nONLY $18 for MEMBERS\n300g Chicken Schnitzel served with chips & salad and your choice of gravy\n\n\n\nMay not be available on public holidays or special event nights
URL:https://clubengadine.com.au/event/schnitzel-night/2025-03-12/
CATEGORIES:Mike's Grill Specials
ATTACH;FMTTYPE=image/png:https://clubengadine.com.au/wp-content/uploads/2025/01/3.png
END:VEVENT
BEGIN:VEVENT
DTSTART;TZID=Australia/Sydney:20250313T173000
DTEND;TZID=Australia/Sydney:20250313T203000
DTSTAMP:20260422T072330
CREATED:20250114T232313Z
LAST-MODIFIED:20250114T232313Z
UID:10020177-1741887000-1741897800@clubengadine.com.au
SUMMARY:Parmi Night
DESCRIPTION:Parmi Night!\nChoose any Parmi from our Menu\, only $22 for Members!\nYou have a choice of….\n– Traditionaltopped with napoletana sauce\, shaved ham & melted mozzarella cheeseOR– BologneseTopped with bolognese sauce & melted mozzarella cheeseOR– MexicanTopped with spicy beef\, jalapenos\, melted mozzarella\, sour cream\, guacamole & corn chipsOR– GreekTopped with slow cooked lamb\, feta cheese\, melted mozzarella cheese & tzatzikiOR– LoadedTopped with bacon\, mushrooms\, jalapenos\, melted mozzarella & smoky bbq sauceOR– SpanishTopped with spanish onion\, chorizo sausage\, black olives & melted mozzarella cheese\n\nSpecials may not be available on public holidays or special event nights
URL:https://clubengadine.com.au/event/parmi-night/2025-03-13/
CATEGORIES:Mike's Grill Specials
ATTACH;FMTTYPE=image/png:https://clubengadine.com.au/wp-content/uploads/2025/01/2.png
END:VEVENT
BEGIN:VEVENT
DTSTART;VALUE=DATE:20250316
DTEND;VALUE=DATE:20250317
DTSTAMP:20260422T072330
CREATED:20250218T100858Z
LAST-MODIFIED:20250218T100858Z
UID:10021248-1742083200-1742169599@clubengadine.com.au
SUMMARY:Members March Special - Lobster Mornay
DESCRIPTION:1/2 Lobster Mornay served with chips & salad\nOnly $20 for Members\nAvailable Sunday to Tuesday for Lunch & Dinner \n  \n  \nNO SUBSTITUTIONS | DINE IN ONLY | GUEST PRICE $35 | ONLY AVAILABLE DURING THE MONTH OF MARCH
URL:https://clubengadine.com.au/event/members-march-special-lobster-mornay/2025-03-16/
CATEGORIES:Mike's Grill Specials,Special Events
ATTACH;FMTTYPE=image/jpeg:https://clubengadine.com.au/wp-content/uploads/2025/02/Seafood-1200-x-600-px.jpg
END:VEVENT
BEGIN:VEVENT
DTSTART;TZID=Australia/Sydney:20250316T113000
DTEND;TZID=Australia/Sydney:20250316T200000
DTSTAMP:20260422T072330
CREATED:20250114T232834Z
LAST-MODIFIED:20250825T034533Z
UID:10020439-1742124600-1742155200@clubengadine.com.au
SUMMARY:Kids Eat Free*
DESCRIPTION:Kids Eat FREE* All Day Sunday!\n\n*Bring the family in for Lunch OR Dinner and kids eat free with every paying adult of $20+. Excludes Kids Ribs.\n\n*Not available on public holidays\, Mothers Day or Fathers Day.
URL:https://clubengadine.com.au/event/kids-eat-free-2/2025-03-16/
CATEGORIES:Mike's Grill Specials
ATTACH;FMTTYPE=image/png:https://clubengadine.com.au/wp-content/uploads/2025/01/6.png
END:VEVENT
BEGIN:VEVENT
DTSTART;VALUE=DATE:20250317
DTEND;VALUE=DATE:20250318
DTSTAMP:20260422T072330
CREATED:20250218T100858Z
LAST-MODIFIED:20250218T100858Z
UID:10021249-1742169600-1742255999@clubengadine.com.au
SUMMARY:Members March Special - Lobster Mornay
DESCRIPTION:1/2 Lobster Mornay served with chips & salad\nOnly $20 for Members\nAvailable Sunday to Tuesday for Lunch & Dinner \n  \n  \nNO SUBSTITUTIONS | DINE IN ONLY | GUEST PRICE $35 | ONLY AVAILABLE DURING THE MONTH OF MARCH
URL:https://clubengadine.com.au/event/members-march-special-lobster-mornay/2025-03-17/
CATEGORIES:Mike's Grill Specials,Special Events
ATTACH;FMTTYPE=image/jpeg:https://clubengadine.com.au/wp-content/uploads/2025/02/Seafood-1200-x-600-px.jpg
END:VEVENT
BEGIN:VEVENT
DTSTART;TZID=Australia/Sydney:20250317T173000
DTEND;TZID=Australia/Sydney:20250317T203000
DTSTAMP:20260422T072330
CREATED:20250114T234333Z
LAST-MODIFIED:20250114T234333Z
UID:10020696-1742232600-1742243400@clubengadine.com.au
SUMMARY:Schnitzel & Pasta Night
DESCRIPTION:Join us every Monday for our Schnitzel & Pasta night!ONLY $17 for MEMBERS!\nYour choice of:300g Chicken Breast Schnitzelserved with chips & choice of gravyORSpaghetti Bolognesetraditional slow cooked bologneseORFettucine Vegetarianw/ olives\, mushrooms\, garlic\, capsicum & onions in a napoletana sauceORFettucine Boscaiolaw/ bacon\, mushrooms\, garlic\, shallots\, cream & white wine sauce
URL:https://clubengadine.com.au/event/schnitzel-pasta-night/2025-03-17/
CATEGORIES:Mike's Grill Specials
ATTACH;FMTTYPE=image/png:https://clubengadine.com.au/wp-content/uploads/2025/01/5.png
END:VEVENT
BEGIN:VEVENT
DTSTART;VALUE=DATE:20250318
DTEND;VALUE=DATE:20250319
DTSTAMP:20260422T072330
CREATED:20250218T100858Z
LAST-MODIFIED:20250218T100858Z
UID:10021250-1742256000-1742342399@clubengadine.com.au
SUMMARY:Members March Special - Lobster Mornay
DESCRIPTION:1/2 Lobster Mornay served with chips & salad\nOnly $20 for Members\nAvailable Sunday to Tuesday for Lunch & Dinner \n  \n  \nNO SUBSTITUTIONS | DINE IN ONLY | GUEST PRICE $35 | ONLY AVAILABLE DURING THE MONTH OF MARCH
URL:https://clubengadine.com.au/event/members-march-special-lobster-mornay/2025-03-18/
CATEGORIES:Mike's Grill Specials,Special Events
ATTACH;FMTTYPE=image/jpeg:https://clubengadine.com.au/wp-content/uploads/2025/02/Seafood-1200-x-600-px.jpg
END:VEVENT
BEGIN:VEVENT
DTSTART;TZID=Australia/Sydney:20250318T173000
DTEND;TZID=Australia/Sydney:20250318T203000
DTSTAMP:20260422T072330
CREATED:20250114T234432Z
LAST-MODIFIED:20250115T002307Z
UID:10020957-1742319000-1742329800@clubengadine.com.au
SUMMARY:Steak Night
DESCRIPTION:Join us on Tuesday night for our Steak special!\n250g Black Angus Rump cooked to your likingserved with chips & salad and choice of gravy\nONLY $18 for MEMBERS!\n\n\nSpecials may not be available on special event nights or public holiday
URL:https://clubengadine.com.au/event/steak-night/2025-03-18/
CATEGORIES:Mike's Grill Specials
ATTACH;FMTTYPE=image/png:https://clubengadine.com.au/wp-content/uploads/2025/01/4.png
END:VEVENT
BEGIN:VEVENT
DTSTART;TZID=Australia/Sydney:20250319T173000
DTEND;TZID=Australia/Sydney:20250319T203000
DTSTAMP:20260422T072330
CREATED:20250114T232126Z
LAST-MODIFIED:20250114T232126Z
UID:10019917-1742405400-1742416200@clubengadine.com.au
SUMMARY:Schnitzel Night
DESCRIPTION:Wednesdays are Schnitzel Night!\nONLY $18 for MEMBERS\n300g Chicken Schnitzel served with chips & salad and your choice of gravy\n\n\n\nMay not be available on public holidays or special event nights
URL:https://clubengadine.com.au/event/schnitzel-night/2025-03-19/
CATEGORIES:Mike's Grill Specials
ATTACH;FMTTYPE=image/png:https://clubengadine.com.au/wp-content/uploads/2025/01/3.png
END:VEVENT
BEGIN:VEVENT
DTSTART;TZID=Australia/Sydney:20250320T173000
DTEND;TZID=Australia/Sydney:20250320T203000
DTSTAMP:20260422T072330
CREATED:20250114T232313Z
LAST-MODIFIED:20250114T232313Z
UID:10020178-1742491800-1742502600@clubengadine.com.au
SUMMARY:Parmi Night
DESCRIPTION:Parmi Night!\nChoose any Parmi from our Menu\, only $22 for Members!\nYou have a choice of….\n– Traditionaltopped with napoletana sauce\, shaved ham & melted mozzarella cheeseOR– BologneseTopped with bolognese sauce & melted mozzarella cheeseOR– MexicanTopped with spicy beef\, jalapenos\, melted mozzarella\, sour cream\, guacamole & corn chipsOR– GreekTopped with slow cooked lamb\, feta cheese\, melted mozzarella cheese & tzatzikiOR– LoadedTopped with bacon\, mushrooms\, jalapenos\, melted mozzarella & smoky bbq sauceOR– SpanishTopped with spanish onion\, chorizo sausage\, black olives & melted mozzarella cheese\n\nSpecials may not be available on public holidays or special event nights
URL:https://clubengadine.com.au/event/parmi-night/2025-03-20/
CATEGORIES:Mike's Grill Specials
ATTACH;FMTTYPE=image/png:https://clubengadine.com.au/wp-content/uploads/2025/01/2.png
END:VEVENT
BEGIN:VEVENT
DTSTART;VALUE=DATE:20250323
DTEND;VALUE=DATE:20250324
DTSTAMP:20260422T072330
CREATED:20250218T100858Z
LAST-MODIFIED:20250218T100858Z
UID:10021251-1742688000-1742774399@clubengadine.com.au
SUMMARY:Members March Special - Lobster Mornay
DESCRIPTION:1/2 Lobster Mornay served with chips & salad\nOnly $20 for Members\nAvailable Sunday to Tuesday for Lunch & Dinner \n  \n  \nNO SUBSTITUTIONS | DINE IN ONLY | GUEST PRICE $35 | ONLY AVAILABLE DURING THE MONTH OF MARCH
URL:https://clubengadine.com.au/event/members-march-special-lobster-mornay/2025-03-23/
CATEGORIES:Mike's Grill Specials,Special Events
ATTACH;FMTTYPE=image/jpeg:https://clubengadine.com.au/wp-content/uploads/2025/02/Seafood-1200-x-600-px.jpg
END:VEVENT
BEGIN:VEVENT
DTSTART;TZID=Australia/Sydney:20250323T113000
DTEND;TZID=Australia/Sydney:20250323T200000
DTSTAMP:20260422T072330
CREATED:20250114T232834Z
LAST-MODIFIED:20250825T034533Z
UID:10020440-1742729400-1742760000@clubengadine.com.au
SUMMARY:Kids Eat Free*
DESCRIPTION:Kids Eat FREE* All Day Sunday!\n\n*Bring the family in for Lunch OR Dinner and kids eat free with every paying adult of $20+. Excludes Kids Ribs.\n\n*Not available on public holidays\, Mothers Day or Fathers Day.
URL:https://clubengadine.com.au/event/kids-eat-free-2/2025-03-23/
CATEGORIES:Mike's Grill Specials
ATTACH;FMTTYPE=image/png:https://clubengadine.com.au/wp-content/uploads/2025/01/6.png
END:VEVENT
BEGIN:VEVENT
DTSTART;VALUE=DATE:20250324
DTEND;VALUE=DATE:20250325
DTSTAMP:20260422T072330
CREATED:20250218T100858Z
LAST-MODIFIED:20250218T100858Z
UID:10021252-1742774400-1742860799@clubengadine.com.au
SUMMARY:Members March Special - Lobster Mornay
DESCRIPTION:1/2 Lobster Mornay served with chips & salad\nOnly $20 for Members\nAvailable Sunday to Tuesday for Lunch & Dinner \n  \n  \nNO SUBSTITUTIONS | DINE IN ONLY | GUEST PRICE $35 | ONLY AVAILABLE DURING THE MONTH OF MARCH
URL:https://clubengadine.com.au/event/members-march-special-lobster-mornay/2025-03-24/
CATEGORIES:Mike's Grill Specials,Special Events
ATTACH;FMTTYPE=image/jpeg:https://clubengadine.com.au/wp-content/uploads/2025/02/Seafood-1200-x-600-px.jpg
END:VEVENT
BEGIN:VEVENT
DTSTART;TZID=Australia/Sydney:20250324T173000
DTEND;TZID=Australia/Sydney:20250324T203000
DTSTAMP:20260422T072330
CREATED:20250114T234333Z
LAST-MODIFIED:20250114T234333Z
UID:10020697-1742837400-1742848200@clubengadine.com.au
SUMMARY:Schnitzel & Pasta Night
DESCRIPTION:Join us every Monday for our Schnitzel & Pasta night!ONLY $17 for MEMBERS!\nYour choice of:300g Chicken Breast Schnitzelserved with chips & choice of gravyORSpaghetti Bolognesetraditional slow cooked bologneseORFettucine Vegetarianw/ olives\, mushrooms\, garlic\, capsicum & onions in a napoletana sauceORFettucine Boscaiolaw/ bacon\, mushrooms\, garlic\, shallots\, cream & white wine sauce
URL:https://clubengadine.com.au/event/schnitzel-pasta-night/2025-03-24/
CATEGORIES:Mike's Grill Specials
ATTACH;FMTTYPE=image/png:https://clubengadine.com.au/wp-content/uploads/2025/01/5.png
END:VEVENT
BEGIN:VEVENT
DTSTART;VALUE=DATE:20250325
DTEND;VALUE=DATE:20250326
DTSTAMP:20260422T072330
CREATED:20250218T100858Z
LAST-MODIFIED:20250218T100858Z
UID:10021253-1742860800-1742947199@clubengadine.com.au
SUMMARY:Members March Special - Lobster Mornay
DESCRIPTION:1/2 Lobster Mornay served with chips & salad\nOnly $20 for Members\nAvailable Sunday to Tuesday for Lunch & Dinner \n  \n  \nNO SUBSTITUTIONS | DINE IN ONLY | GUEST PRICE $35 | ONLY AVAILABLE DURING THE MONTH OF MARCH
URL:https://clubengadine.com.au/event/members-march-special-lobster-mornay/2025-03-25/
CATEGORIES:Mike's Grill Specials,Special Events
ATTACH;FMTTYPE=image/jpeg:https://clubengadine.com.au/wp-content/uploads/2025/02/Seafood-1200-x-600-px.jpg
END:VEVENT
BEGIN:VEVENT
DTSTART;TZID=Australia/Sydney:20250325T173000
DTEND;TZID=Australia/Sydney:20250325T203000
DTSTAMP:20260422T072330
CREATED:20250114T234432Z
LAST-MODIFIED:20250115T002307Z
UID:10020958-1742923800-1742934600@clubengadine.com.au
SUMMARY:Steak Night
DESCRIPTION:Join us on Tuesday night for our Steak special!\n250g Black Angus Rump cooked to your likingserved with chips & salad and choice of gravy\nONLY $18 for MEMBERS!\n\n\nSpecials may not be available on special event nights or public holiday
URL:https://clubengadine.com.au/event/steak-night/2025-03-25/
CATEGORIES:Mike's Grill Specials
ATTACH;FMTTYPE=image/png:https://clubengadine.com.au/wp-content/uploads/2025/01/4.png
END:VEVENT
BEGIN:VEVENT
DTSTART;TZID=Australia/Sydney:20250326T173000
DTEND;TZID=Australia/Sydney:20250326T203000
DTSTAMP:20260422T072330
CREATED:20250114T232126Z
LAST-MODIFIED:20250114T232126Z
UID:10019918-1743010200-1743021000@clubengadine.com.au
SUMMARY:Schnitzel Night
DESCRIPTION:Wednesdays are Schnitzel Night!\nONLY $18 for MEMBERS\n300g Chicken Schnitzel served with chips & salad and your choice of gravy\n\n\n\nMay not be available on public holidays or special event nights
URL:https://clubengadine.com.au/event/schnitzel-night/2025-03-26/
CATEGORIES:Mike's Grill Specials
ATTACH;FMTTYPE=image/png:https://clubengadine.com.au/wp-content/uploads/2025/01/3.png
END:VEVENT
END:VCALENDAR