BEGIN:VCALENDAR
VERSION:2.0
PRODID:-//Club Engadine RSL - ECPv6.15.20//NONSGML v1.0//EN
CALSCALE:GREGORIAN
METHOD:PUBLISH
X-ORIGINAL-URL:https://clubengadine.com.au
X-WR-CALDESC:Events for Club Engadine RSL
REFRESH-INTERVAL;VALUE=DURATION:PT1H
X-Robots-Tag:noindex
X-PUBLISHED-TTL:PT1H
BEGIN:VTIMEZONE
TZID:Australia/Sydney
BEGIN:STANDARD
TZOFFSETFROM:+1100
TZOFFSETTO:+1000
TZNAME:AEST
DTSTART:20250405T160000
END:STANDARD
BEGIN:DAYLIGHT
TZOFFSETFROM:+1000
TZOFFSETTO:+1100
TZNAME:AEDT
DTSTART:20251004T160000
END:DAYLIGHT
BEGIN:STANDARD
TZOFFSETFROM:+1100
TZOFFSETTO:+1000
TZNAME:AEST
DTSTART:20260404T160000
END:STANDARD
BEGIN:DAYLIGHT
TZOFFSETFROM:+1000
TZOFFSETTO:+1100
TZNAME:AEDT
DTSTART:20261003T160000
END:DAYLIGHT
BEGIN:STANDARD
TZOFFSETFROM:+1100
TZOFFSETTO:+1000
TZNAME:AEST
DTSTART:20270403T160000
END:STANDARD
BEGIN:DAYLIGHT
TZOFFSETFROM:+1000
TZOFFSETTO:+1100
TZNAME:AEDT
DTSTART:20271002T160000
END:DAYLIGHT
END:VTIMEZONE
BEGIN:VEVENT
DTSTART;TZID=Australia/Sydney:20260423T173000
DTEND;TZID=Australia/Sydney:20260423T203000
DTSTAMP:20260420T213042
CREATED:20250114T232313Z
LAST-MODIFIED:20250114T232313Z
UID:10020235-1776965400-1776976200@clubengadine.com.au
SUMMARY:Parmi Night
DESCRIPTION:Parmi Night!\nChoose any Parmi from our Menu\, only $22 for Members!\nYou have a choice of….\n– Traditionaltopped with napoletana sauce\, shaved ham & melted mozzarella cheeseOR– BologneseTopped with bolognese sauce & melted mozzarella cheeseOR– MexicanTopped with spicy beef\, jalapenos\, melted mozzarella\, sour cream\, guacamole & corn chipsOR– GreekTopped with slow cooked lamb\, feta cheese\, melted mozzarella cheese & tzatzikiOR– LoadedTopped with bacon\, mushrooms\, jalapenos\, melted mozzarella & smoky bbq sauceOR– SpanishTopped with spanish onion\, chorizo sausage\, black olives & melted mozzarella cheese\n\nSpecials may not be available on public holidays or special event nights
URL:https://clubengadine.com.au/event/parmi-night/2026-04-23/
CATEGORIES:Mike's Grill Specials
ATTACH;FMTTYPE=image/png:https://clubengadine.com.au/wp-content/uploads/2025/01/2.png
END:VEVENT
END:VCALENDAR