BEGIN:VCALENDAR
VERSION:2.0
PRODID:-//Club Engadine RSL - ECPv6.15.20//NONSGML v1.0//EN
CALSCALE:GREGORIAN
METHOD:PUBLISH
X-WR-CALNAME:Club Engadine RSL
X-ORIGINAL-URL:https://clubengadine.com.au
X-WR-CALDESC:Events for Club Engadine RSL
REFRESH-INTERVAL;VALUE=DURATION:PT1H
X-Robots-Tag:noindex
X-PUBLISHED-TTL:PT1H
BEGIN:VTIMEZONE
TZID:Australia/Sydney
BEGIN:STANDARD
TZOFFSETFROM:+1100
TZOFFSETTO:+1000
TZNAME:AEST
DTSTART:20230401T160000
END:STANDARD
BEGIN:DAYLIGHT
TZOFFSETFROM:+1000
TZOFFSETTO:+1100
TZNAME:AEDT
DTSTART:20230930T160000
END:DAYLIGHT
BEGIN:STANDARD
TZOFFSETFROM:+1100
TZOFFSETTO:+1000
TZNAME:AEST
DTSTART:20240406T160000
END:STANDARD
BEGIN:DAYLIGHT
TZOFFSETFROM:+1000
TZOFFSETTO:+1100
TZNAME:AEDT
DTSTART:20241005T160000
END:DAYLIGHT
BEGIN:STANDARD
TZOFFSETFROM:+1100
TZOFFSETTO:+1000
TZNAME:AEST
DTSTART:20250405T160000
END:STANDARD
BEGIN:DAYLIGHT
TZOFFSETFROM:+1000
TZOFFSETTO:+1100
TZNAME:AEDT
DTSTART:20251004T160000
END:DAYLIGHT
BEGIN:STANDARD
TZOFFSETFROM:+1100
TZOFFSETTO:+1000
TZNAME:AEST
DTSTART:20260404T160000
END:STANDARD
BEGIN:DAYLIGHT
TZOFFSETFROM:+1000
TZOFFSETTO:+1100
TZNAME:AEDT
DTSTART:20261003T160000
END:DAYLIGHT
BEGIN:STANDARD
TZOFFSETFROM:+1100
TZOFFSETTO:+1000
TZNAME:AEST
DTSTART:20270403T160000
END:STANDARD
BEGIN:DAYLIGHT
TZOFFSETFROM:+1000
TZOFFSETTO:+1100
TZNAME:AEDT
DTSTART:20271002T160000
END:DAYLIGHT
END:VTIMEZONE
BEGIN:VEVENT
DTSTART;VALUE=DATE:20240705
DTEND;VALUE=DATE:20240706
DTSTAMP:20260420T022014
CREATED:20240722T130902Z
LAST-MODIFIED:20240805T025158Z
UID:10012081-1720137600-1720223999@clubengadine.com.au
SUMMARY:Christmas In July Raffle
DESCRIPTION:Over $2000 worth of prizes to be won! \nHalf leg hams | Pork Roasts | Eftpos Cards | Chocolate Hampers \nTickets on sale from 10am | Drawn from 6.30pm
URL:https://clubengadine.com.au/event/christmas-in-july-raffle/
CATEGORIES:Promotion & Raffles
ATTACH;FMTTYPE=image/png:https://clubengadine.com.au/wp-content/uploads/2024/07/sample.png
END:VEVENT
BEGIN:VEVENT
DTSTART;TZID=Australia/Sydney:20240828T203000
DTEND;TZID=Australia/Sydney:20240828T210000
DTSTAMP:20260420T022014
CREATED:20240902T012643Z
LAST-MODIFIED:20240902T012643Z
UID:10015334-1724877000-1724878800@clubengadine.com.au
SUMMARY:Piggy Payday Members Promotion
DESCRIPTION:To Enter our Piggy Payday promotion simply swipe your member card at the Kiosk to receive an entry into the Piggy Payday promotion daily. Pop it in the Piggy Payday barrel and be here at the time of draw to win! \nDraws will take place every Wednesday in August… 7th\, 14th\, 21st\, 28th \nThere will be 4 draws each Wednesday 7.30pm | 8pm | 8.30pm | 9pm \nIf your ticket is drawn you will win $200 cash OR you can risk the $200 and pick a piggy from the display case\, whatever is inside the pig will be your new amount won! \nT&C’s apply
URL:https://clubengadine.com.au/event/piggy-payday-members-promotion-2/2024-08-28/
CATEGORIES:Promotion & Raffles,Special Events
ATTACH;FMTTYPE=image/png:https://clubengadine.com.au/wp-content/uploads/2024/08/Piggy-Day.png
END:VEVENT
BEGIN:VEVENT
DTSTART;TZID=Australia/Sydney:20240828T203000
DTEND;TZID=Australia/Sydney:20240828T210000
DTSTAMP:20260420T022014
CREATED:20240826T231742Z
LAST-MODIFIED:20240827T044640Z
UID:10015333-1724877000-1724878800@clubengadine.com.au
SUMMARY:Piggy Payday Members Promotion
DESCRIPTION:To Enter our Piggy Payday promotion simply swipe your member card at the Kiosk to receive an entry into the Piggy Payday promotion daily. Pop it in the Piggy Payday barrel and be here at the time of draw to win! \nDraws will take place every Wednesday in August… 7th\, 14th\, 21st\, 28th \nThere will be 4 draws each Wednesday 7.30pm | 8pm | 8.30pm | 9pm \nIf your ticket is drawn you will win $200 cash OR you can risk the $200 and pick a piggy from the display case\, whatever is inside the pig will be your new amount won! \nT&C’s apply
URL:https://clubengadine.com.au/event/piggy-payday-members-promotion/
CATEGORIES:Promotion & Raffles,Special Events
ATTACH;FMTTYPE=image/png:https://clubengadine.com.au/wp-content/uploads/2024/08/Piggy-Day.png
END:VEVENT
BEGIN:VEVENT
DTSTART;VALUE=DATE:20241201
DTEND;VALUE=DATE:20241202
DTSTAMP:20260420T022014
CREATED:20240722T122903Z
LAST-MODIFIED:20241205T034358Z
UID:10011067-1733011200-1733097599@clubengadine.com.au
SUMMARY:Meat & Eftpos Card Raffles
DESCRIPTION:Join us every Friday & Sunday for our raffles Meat trays & Eftpos cards to be won \nTickets on sale from 10am \nFridays drawn from 6.30pm \nSundays drawn from 6pm
URL:https://clubengadine.com.au/event/meat-eftpos-card-raffles/2024-12-01/
CATEGORIES:Promotion & Raffles
ATTACH;FMTTYPE=image/jpeg:https://clubengadine.com.au/wp-content/uploads/2024/07/MEAT-EFTPOS-CARD-RAFFLES.jpg
END:VEVENT
BEGIN:VEVENT
DTSTART;VALUE=DATE:20241208
DTEND;VALUE=DATE:20241209
DTSTAMP:20260420T022014
CREATED:20240722T131359Z
LAST-MODIFIED:20241224T031600Z
UID:10016138-1733644800-1733677200@clubengadine.com.au
SUMMARY:Grill & Gill Raffle
DESCRIPTION:Our Meat & Seafood Raffle is on the last Friday of every month! \nDelicious Meat trays & Seafood Trays to be won \nTickets are on sale from 10am | Drawn from 6.30pm
URL:https://clubengadine.com.au/event/grill-gill-raffle/2024-12-08/
CATEGORIES:Promotion & Raffles
ATTACH;FMTTYPE=image/jpeg:https://clubengadine.com.au/wp-content/uploads/2024/07/GRILL-GILL-RAFFLE.jpg
END:VEVENT
BEGIN:VEVENT
DTSTART;TZID=Australia/Sydney:20241208T180000
DTEND;TZID=Australia/Sydney:20241208T190000
DTSTAMP:20260420T022014
CREATED:20241206T003239Z
LAST-MODIFIED:20241224T031633Z
UID:10015781-1733680800-1733684400@clubengadine.com.au
SUMMARY:Meat Raffles
DESCRIPTION:Join us every Sunday for our Meat Raffles. $900 of prizes to be won! \nWe will have 20 x Meat trays on offer along with 10 x $30 members bonus points that can be used towards bar & food purchases in any of our 4 venues OR check out our Societie Group GSL Eftpos Card where you can transfer points to an eftpos card. \nClick on the link for more info… \nGSL eftpos Card \nTickets on sale from 10am | Drawn from 6pm \n 
URL:https://clubengadine.com.au/event/meat-raffles/2024-12-08/
CATEGORIES:Promotion & Raffles
ATTACH;FMTTYPE=image/png:https://clubengadine.com.au/wp-content/uploads/2024/12/Web-tile-1.png
END:VEVENT
BEGIN:VEVENT
DTSTART;VALUE=DATE:20241211
DTEND;VALUE=DATE:20241212
DTSTAMP:20260420T022014
CREATED:20241025T045541Z
LAST-MODIFIED:20241106T011043Z
UID:10015692-1733875200-1733961599@clubengadine.com.au
SUMMARY:Audi A1 Members Promotion
DESCRIPTION:Audi A1 worth $51\,000 & $8\,700 in cash to be won!\n\n  \nSwipe daily at the kiosk from Friday 1st November until Wednesday 11th December to receive an entry! \nMinor Draws \n\n7:30pm\, 8pm & 8:30pm Wednesday 6th\, 13th\, 20th & 27th November and 4th December 2024\n\n1 Key for the Major Draw + $300 cash to be won weekly at Societie Group venues\n(Ramsgate RSL\, The Arbour Heathcote\, Fingal Bay Sports Club & Club Engadine RSL) \nMajor Draw \nHeld at Ramsgate RSL with LIVE Broadcast at other Societie Group venues \n\nFrom 7:30pm 11th December 2024\n\n1 Key to be won at each venue prior to the major prize giveaway PLUS the Audi A1 and 23 x $250 cash Prizes to be won! \nYou must be present at the draws for the chance to win. \n  \n  \nTerms & Conditions apply and are available on request from Club Reception at each Societie Group venue. \nThis Promotion is part of the Societie Rewards loyalty program.\nHelp is close at hand. Call GambleAware 1800 858 858. www.gambleware.nsw.gov.au\nPlayer activity statements are available on request.
URL:https://clubengadine.com.au/event/audi-a1-members-promotion/2024-12-11/
CATEGORIES:Promotion & Raffles,Special Events
ATTACH;FMTTYPE=image/jpeg:https://clubengadine.com.au/wp-content/uploads/2024/10/Road-to-Ramsgate-Webtile-Ramsgate-RSL.jpg
END:VEVENT
BEGIN:VEVENT
DTSTART;TZID=Australia/Sydney:20241215T160000
DTEND;TZID=Australia/Sydney:20241215T170000
DTSTAMP:20260420T022014
CREATED:20241112T023901Z
LAST-MODIFIED:20241112T023948Z
UID:10015699-1734278400-1734282000@clubengadine.com.au
SUMMARY:Tinsel & Treasure Raffle
DESCRIPTION:Over $4000 of prizes to be won! \nTickets $2 each. Available now from the bar or reception. \nDRAWN SUNDAY 15TH DECEMBER | FROM 4pm
URL:https://clubengadine.com.au/event/tinsel-treasure-raffle/
CATEGORIES:Promotion & Raffles,Special Events
ATTACH;FMTTYPE=image/jpeg:https://clubengadine.com.au/wp-content/uploads/2024/11/ClubEngadine_TinselTreasureRaffle_webtile.jpg
END:VEVENT
BEGIN:VEVENT
DTSTART;TZID=Australia/Sydney:20250126T140000
DTEND;TZID=Australia/Sydney:20250126T170000
DTSTAMP:20260420T022014
CREATED:20250120T041246Z
LAST-MODIFIED:20250120T041304Z
UID:10021210-1737900000-1737910800@clubengadine.com.au
SUMMARY:Australia Day
DESCRIPTION:We have Geoff Rana playing live 2pm-5pm in the main lounge.\n\n\nSeafood raffles from 6pm with a VB esky + case of VB to be won as the major prize! Tickets on sale from 10am | Drawn from 6pm\n\n\n$5 VB schooners* all day & our cocktail of the month the Southern Cross Sour only $12 for members!\n\n\n\n(*Members price only)
URL:https://clubengadine.com.au/event/australia-day/
CATEGORIES:Promotion & Raffles,Special Events
ATTACH;FMTTYPE=image/jpeg:https://clubengadine.com.au/wp-content/uploads/2025/01/ClubEngadine_AustraliaDay_WEBSLIDE_1200-x-600.jpg
END:VEVENT
BEGIN:VEVENT
DTSTART;TZID=Australia/Sydney:20250316T190000
DTEND;TZID=Australia/Sydney:20250316T193000
DTSTAMP:20260420T022014
CREATED:20250309T205531Z
LAST-MODIFIED:20250309T205531Z
UID:10022362-1742151600-1742153400@clubengadine.com.au
SUMMARY:MEMBERS MONEY MADNESS
DESCRIPTION:Our Members Money Madness has jackpotted to $5000 and must be won this Sunday!\n  \n\n\n\n\n\n\n\nMembers Money Madness is held on Sundays from 7pm \nThe draw starts at $500 and jackpot by $500 weekly* until it reaches $5000 when it MUST BE WON!\nEntry is easy! You simply have to have used your members card at the Bar or at Mikes Grill within the 3months prior to the draw* \nBe here on Sunday from 7pm and if your Membership number is drawn then you will win the jackpot amount in Cash! \n  \n  \n  \n*Terms & Conditions are available at reception
URL:https://clubengadine.com.au/event/members-money-madness/
CATEGORIES:Promotion & Raffles,Special Events
ATTACH;FMTTYPE=image/png:https://clubengadine.com.au/wp-content/uploads/2025/03/CE-tv-screens-1200-x-600-px-2.png
END:VEVENT
BEGIN:VEVENT
DTSTART;TZID=Australia/Sydney:20250326T193000
DTEND;TZID=Australia/Sydney:20250326T210000
DTSTAMP:20260420T022014
CREATED:20250226T054535Z
LAST-MODIFIED:20250319T044229Z
UID:10021935-1743017400-1743022800@clubengadine.com.au
SUMMARY:Plinko Prize Drop
DESCRIPTION:WIN UP TO $1000 EVERY WEDNESDAY IN MARCH \nJoin us for our March Members Promotion\nPLINKO PRIZE DROP\nSimply swipe your card daily at the Members kiosk from 26th February 2025 to receive your entry for the barrel & be here at the time of the draws for your chance to win!\n \nDraw Dates:\n5th\, 12th\, 19th & 26th March 2025\nDraw Times:\n7.30pm | 8pm | 8.30pm | 9pm \n \n  \nTerms & Conditions apply and are available on request from Club reception. Theis promotion is part of the Societie Rewards loyalty program. (Club Engadine RSL only).\nHelp is close at hand. Call Gambleaware 1800 858 858. www.gambleaware.nsw.gov.au\n  \n 
URL:https://clubengadine.com.au/event/plinko-prize-drop/2025-03-26/
CATEGORIES:Promotion & Raffles,Special Events
ATTACH;FMTTYPE=image/jpeg:https://clubengadine.com.au/wp-content/uploads/2025/02/CE_PlinkoPrizeDrop_WEBSLIDE.jpg
END:VEVENT
BEGIN:VEVENT
DTSTART;VALUE=DATE:20250412
DTEND;VALUE=DATE:20250413
DTSTAMP:20260420T022014
CREATED:20250303T085930Z
LAST-MODIFIED:20250305T020122Z
UID:10022002-1744416000-1744502399@clubengadine.com.au
SUMMARY:CUSTOMER SATISFACTION SURVEY
DESCRIPTION:WE WANT TO HEAR FROM YOU! \nWe at Club Engadine RSL are committed to providing you with the best possible guest experience. We invite you to take part of a short Customer Satisfaction Survey to assist us in understanding your expectations and enable us to improve the quality of our service in 2025 and beyond. \nThe survey will take approximately 10 minutes of your time. Complete before 6th April 2025 & you’ll go into the Draw to WIN a $250 VISA GIFT CARD! \nSimply visit click here to undertake the survey
URL:https://clubengadine.com.au/event/customer-satisfaction-survey/2025-04-12/
CATEGORIES:Promotion & Raffles,Special Events
ATTACH;FMTTYPE=image/jpeg:https://clubengadine.com.au/wp-content/uploads/2025/03/1200x600-Customer-Satisfaction_Web-Slide.jpg
END:VEVENT
BEGIN:VEVENT
DTSTART;TZID=Australia/Sydney:20250416T183000
DTEND;TZID=Australia/Sydney:20250416T193000
DTSTAMP:20260420T022014
CREATED:20250331T051041Z
LAST-MODIFIED:20250331T051041Z
UID:10022369-1744828200-1744831800@clubengadine.com.au
SUMMARY:Eggstravagant Easter Raffle
DESCRIPTION:Our Eggstravagant Easter raffle is back! With Meat trays & Easter Eggs to be won there is something for everyone! $1600 of prizes.\n\nTickets are on sale from 10am | Drawn from 6.30pm\n\n(This raffle will replace the Marketplace raffle)
URL:https://clubengadine.com.au/event/eggstravagant-easter-raffle/
CATEGORIES:Promotion & Raffles,Special Events
ATTACH;FMTTYPE=image/png:https://clubengadine.com.au/wp-content/uploads/2025/03/CE-tv-screens-1200-x-600-px-6.png
END:VEVENT
BEGIN:VEVENT
DTSTART;TZID=Australia/Sydney:20250417T183000
DTEND;TZID=Australia/Sydney:20250417T193000
DTSTAMP:20260420T022014
CREATED:20250331T051201Z
LAST-MODIFIED:20250331T051201Z
UID:10022370-1744914600-1744918200@clubengadine.com.au
SUMMARY:Easter Seafood Raffle
DESCRIPTION:Join us for our Easter Seafood Raffle. $1800 of Seafood trays to be won!\n\nTickets on sale from 10am | Drawn from 6.30pm
URL:https://clubengadine.com.au/event/easter-seafood-raffle/
CATEGORIES:Promotion & Raffles,Special Events
ATTACH;FMTTYPE=image/jpeg:https://clubengadine.com.au/wp-content/uploads/2025/03/EasterSeafoodRaffle-Webslide-CERSL.jpg
END:VEVENT
BEGIN:VEVENT
DTSTART;TZID=Australia/Sydney:20250625T193000
DTEND;TZID=Australia/Sydney:20250625T210000
DTSTAMP:20260420T022014
CREATED:20250616T024738Z
LAST-MODIFIED:20250616T030803Z
UID:10023100-1750879800-1750885200@clubengadine.com.au
SUMMARY:Deal or No Deal
DESCRIPTION:Members…. Choose your fate in a game of risk & reward!\n\nBased on the hit tv show “Deal or No Deal’ our newest members promo could have you walking away with $1000 cash!\nTo enter simply swipe your members card at the kiosk daily to receive your entries for the barrel and be here on the draw date & time for your chance to win.\n\nDRAW DATES: WEDNESDAY 4TH\, 11TH\, 18TH\, 25TH JUNEDRAW TIMES: 7.30PM\, 8.00PM\, 8.30PM\n\n3 CHANCES TO WIN EVERY WEDNESDAY IN JUNE!
URL:https://clubengadine.com.au/event/deal-or-no-deal/2025-06-25/
CATEGORIES:Promotion & Raffles,Special Events
ATTACH;FMTTYPE=image/png:https://clubengadine.com.au/wp-content/uploads/2025/06/Deal-or-No-deal-MP4-1920-x-1080-px-1200-x-600-px.png
END:VEVENT
BEGIN:VEVENT
DTSTART;VALUE=DATE:20250716
DTEND;VALUE=DATE:20250717
DTSTAMP:20260420T022014
CREATED:20250706T060018Z
LAST-MODIFIED:20250715T040714Z
UID:10023105-1752624000-1752710399@clubengadine.com.au
SUMMARY:Paul Gallen vs Sonny Bill Williams
DESCRIPTION:After 10 years of talk\, the score will be settled in the ring. \nA long-time fantasy match up\, it was confirmed today that dual-code superstar Sonny Bill Williams will box former league international Paul Gallen in eight\, two-minute rounds. \nBroadcasting LIVE from 6pm\, Wednesday 16th July
URL:https://clubengadine.com.au/event/paul-gallen-vs-sonny-bill-williams/2025-07-16/1/
CATEGORIES:Promotion & Raffles,Special Events
ATTACH;FMTTYPE=image/png:https://clubengadine.com.au/wp-content/uploads/2025/07/Entertainment_Webslides-1.png
END:VEVENT
BEGIN:VEVENT
DTSTART;VALUE=DATE:20250720
DTEND;VALUE=DATE:20250721
DTSTAMP:20260420T022014
CREATED:20250716T062547Z
LAST-MODIFIED:20250716T062641Z
UID:10023139-1752969600-1753055999@clubengadine.com.au
SUMMARY:Fundora v Tszyu II
DESCRIPTION:Fundora vs. Tszyu II / Pacquiao vs. Barrios\n\nBrace yourself for a weekend of knockouts! Streaming live from the main lounge from 10am.
URL:https://clubengadine.com.au/event/fundora-v-tszuyu/
CATEGORIES:Promotion & Raffles,Special Events
ATTACH;FMTTYPE=image/png:https://clubengadine.com.au/wp-content/uploads/2025/07/Entertainment_Webslides-1-1.png
END:VEVENT
BEGIN:VEVENT
DTSTART;TZID=Australia/Sydney:20250725T183000
DTEND;TZID=Australia/Sydney:20250725T193000
DTSTAMP:20260420T022014
CREATED:20250520T025526Z
LAST-MODIFIED:20250710T034659Z
UID:10023038-1753468200-1753471800@clubengadine.com.au
SUMMARY:Christmas in July Mega Raffle
DESCRIPTION:Join us for our Christmas in July Mega Raffle! \nOver $2000 of prizes to be won! Including… \n\n15 x Half Hams\n10 x Roast Trays\n10 x Gift Hampers\n\nTickets on sale from 10am | Drawn from 6.30pm \n  \n  \n(Please note; this raffle will replace our Points & Protein Raffle)
URL:https://clubengadine.com.au/event/christmas-in-july/
CATEGORIES:Promotion & Raffles,Special Events
ATTACH;FMTTYPE=image/png:https://clubengadine.com.au/wp-content/uploads/2025/05/Entertainment_Webslides-1.png
END:VEVENT
BEGIN:VEVENT
DTSTART;TZID=Australia/Sydney:20250817T190000
DTEND;TZID=Australia/Sydney:20250817T193000
DTSTAMP:20260420T022014
CREATED:20250818T011301Z
LAST-MODIFIED:20250818T011301Z
UID:10022731-1755457200-1755459000@clubengadine.com.au
SUMMARY:Members Money Madness
DESCRIPTION:Members Money Madness draw will be held Sundays from 7pm \nThe draw will start at $500 and jackpot by $500 weekly* until it reaches $5000 when it MUST BE WON!\nEntry is easy! You simply have to have used your members card at the Bar or at Mikes Grill within the 3months prior to the draw* \nBe here on Sunday from 7pm and if your Membership number is drawn then you will win the jackpot amount in Cash! \n  \n  \n  \n*unless won – see a copy of our T&C’s at reception
URL:https://clubengadine.com.au/event/members-draw-2-2/2025-08-17/
CATEGORIES:Promotion & Raffles
ATTACH;FMTTYPE=image/png:https://clubengadine.com.au/wp-content/uploads/2024/12/7.png
END:VEVENT
BEGIN:VEVENT
DTSTART;TZID=Australia/Sydney:20250817T190000
DTEND;TZID=Australia/Sydney:20250817T193000
DTSTAMP:20260420T022014
CREATED:20241224T031422Z
LAST-MODIFIED:20250513T004149Z
UID:10022730-1755457200-1755459000@clubengadine.com.au
SUMMARY:Members Money Madness
DESCRIPTION:Members Money Madness draw will be held Sundays from 7pm \nThe draw will start at $500 and jackpot by $500 weekly* until it reaches $5000 when it MUST BE WON!\nEntry is easy! You simply have to have used your members card at the Bar or at Mikes Grill within the 3months prior to the draw* \nBe here on Sunday from 7pm and if your Membership number is drawn then you will win the jackpot amount in Cash! \n  \n  \n  \n*unless won – see a copy of our T&C’s at reception
URL:https://clubengadine.com.au/event/members-draw-2/2025-08-17/
CATEGORIES:Promotion & Raffles
ATTACH;FMTTYPE=image/png:https://clubengadine.com.au/wp-content/uploads/2024/12/7.png
END:VEVENT
BEGIN:VEVENT
DTSTART;TZID=Australia/Sydney:20250829T183000
DTEND;TZID=Australia/Sydney:20250829T193000
DTSTAMP:20260420T022014
CREATED:20250812T060449Z
LAST-MODIFIED:20250812T060449Z
UID:10023537-1756492200-1756495800@clubengadine.com.au
SUMMARY:Backyard Bonanza Mega Raffle
DESCRIPTION:Join us for our Backyard Bonanza Mega Raffle! \nOver $2000 of prizes to be won! \nTickets on sale from 10am | Drawn from 6.30pm \n  \n  \n(Please note; this raffle will replace our Points & Protein Raffle)
URL:https://clubengadine.com.au/event/backyard-bonanza-mega-raffle/
CATEGORIES:Promotion & Raffles,Special Events
ATTACH;FMTTYPE=image/jpeg:https://clubengadine.com.au/wp-content/uploads/2025/08/Entertainment_Webslides.jpg
END:VEVENT
BEGIN:VEVENT
DTSTART;TZID=Australia/Sydney:20250907T180000
DTEND;TZID=Australia/Sydney:20250907T193000
DTSTAMP:20260420T022014
CREATED:20250825T041625Z
LAST-MODIFIED:20250901T063952Z
UID:10023564-1757268000-1757273400@clubengadine.com.au
SUMMARY:Father's Day Mega Meat Raffle
DESCRIPTION:We are celebrating Dad in a big way with our Mega Meat Raffle!\n$1200 in trays to be won! Tickets on sale from 10am | Drawn from 6pm \nPlease note; this raffle replaces our Sizzling Sundays Raffle
URL:https://clubengadine.com.au/event/fathers-day-mega-meat-raffle/
CATEGORIES:Promotion & Raffles,Special Events
ATTACH;FMTTYPE=image/jpeg:https://clubengadine.com.au/wp-content/uploads/2025/08/CERSL_SpecialFathersDayMegaMeatRaffle_2025_WebSlide.jpg
END:VEVENT
BEGIN:VEVENT
DTSTART;TZID=Australia/Sydney:20250926T183000
DTEND;TZID=Australia/Sydney:20250926T193000
DTSTAMP:20260420T022014
CREATED:20250916T030613Z
LAST-MODIFIED:20250916T031206Z
UID:10023566-1758911400-1758915000@clubengadine.com.au
SUMMARY:Family Fun Mega Raffle
DESCRIPTION:Join us for our Family Fun Mega Raffle! \nOver $2000 of prizes to be won! \nTickets on sale from 10am | Drawn from 6.30pm \n  \n  \n(Please note; this raffle will replace our Points & Protein Raffle)
URL:https://clubengadine.com.au/event/family-fun-mega-raffle/
CATEGORIES:Promotion & Raffles,Special Events
ATTACH;FMTTYPE=image/png:https://clubengadine.com.au/wp-content/uploads/2025/09/CE-tv-screens-to-June-2025-2.png
END:VEVENT
BEGIN:VEVENT
DTSTART;TZID=Australia/Sydney:20251031T183000
DTEND;TZID=Australia/Sydney:20251031T193000
DTSTAMP:20260420T022014
CREATED:20251010T015631Z
LAST-MODIFIED:20251010T015631Z
UID:10023661-1761935400-1761939000@clubengadine.com.au
SUMMARY:Trick or Treat Raffle
DESCRIPTION:OVER $2000 WORTH OF PRIZES TO BE WON!\nCheck out our Prize Showcase on the big screen — so many incredible prizes up for grabs!But beware… on raffle night there’s a spooky twist!Every prize will be wrapped in a mystery box\, and you’ll have to pick yours at random! \n  \nTickets on sale from 10am | Drawn from 6.30pm
URL:https://clubengadine.com.au/event/trick-or-treat-raffle/
CATEGORIES:Promotion & Raffles,Special Events
ATTACH;FMTTYPE=image/png:https://clubengadine.com.au/wp-content/uploads/2025/10/CE-tv-screens-to-June-2025-1200-x-600-px-2.png
END:VEVENT
BEGIN:VEVENT
DTSTART;TZID=Australia/Sydney:20251214T160000
DTEND;TZID=Australia/Sydney:20251214T170000
DTSTAMP:20260420T022014
CREATED:20251203T070650Z
LAST-MODIFIED:20251203T070650Z
UID:10023741-1765728000-1765731600@clubengadine.com.au
SUMMARY:Christmas Mega Raffle
DESCRIPTION:Over $5000 worth of amazing prizes to be won! Be here at draw time to win and pick your prize! \nTICKETS ON SALE FROM 10AM | COURTESY BUS FROM 2PM | RAFFLE DRAWN FROM 4PM
URL:https://clubengadine.com.au/event/christmas-mega-raffle/
CATEGORIES:Promotion & Raffles,Special Events
ATTACH;FMTTYPE=image/png:https://clubengadine.com.au/wp-content/uploads/2025/12/Entertainment_Webslides-6-1.png
END:VEVENT
BEGIN:VEVENT
DTSTART;VALUE=DATE:20251217
DTEND;VALUE=DATE:20251218
DTSTAMP:20260420T022014
CREATED:20251108T235300Z
LAST-MODIFIED:20251125T235240Z
UID:10023724-1765929600-1766015999@clubengadine.com.au
SUMMARY:Keys to Societie
DESCRIPTION:$30\,000 in cash to be won!\n\nSwipe daily at the kiosk from Monday 10th November until Wednesday 17th December to receive VIRTUAL entries! \nPLUS Receive a BONUS entry each every Monday-Wednesday! \n**Important Information – No paper entries will be issued in this promotion** \nMinor Draws \n\n7:30pm\, 8pm & 8:30pm Wednesday 19th & 26th November and 3rd & 10th December 2025\n\n1 Key for the Major Draw + $300 cash to be won weekly at each Societie Group venue\n(Ramsgate RSL\, The Arbour Heathcote\, Fingal Bay Sports Club & Club & Engadine RSL) \nMajor Draw \nHeld at Ramsgate RSL with LIVE Broadcast from all Societie Group venues \n\nFrom 7:30pm 17th December 2025\n\n1 final Key to be won at each venue prior to the major prize giveaway PLUS 1 x $20\,000 cash prize and 23 x $250 cash runner-up prizes to be won! \nYou must be present at the draws for the chance to win. \nTerms & Conditions apply and are available on request from Club Reception at each Societie Group venue. \nThis Promotion is part of the Societie Rewards loyalty program.\nHelp is close at hand. Call GambleAware 1800 858 858. www.gambleware.nsw.gov.au\nPlayer activity statements are available on request.
URL:https://clubengadine.com.au/event/keys-to-societie/2025-12-17/
CATEGORIES:Promotion & Raffles,Special Events
ATTACH;FMTTYPE=image/jpeg:https://clubengadine.com.au/wp-content/uploads/2025/11/Ramsgate_KeysToSocietie_Resizes_2025_1200x600px.jpg
END:VEVENT
BEGIN:VEVENT
DTSTART;TZID=Australia/Sydney:20251221T180000
DTEND;TZID=Australia/Sydney:20251221T190000
DTSTAMP:20260420T022014
CREATED:20251111T033432Z
LAST-MODIFIED:20251111T034250Z
UID:10023740-1766340000-1766343600@clubengadine.com.au
SUMMARY:Christmas Meat Raffles
DESCRIPTION:Join us for our Christmas Meat Raffle with 15 X meat trays and 5 X $30 dollar members bonus points to be won!\nTickets on sale from 10am\, drawn from 6:00pm.
URL:https://clubengadine.com.au/event/christmas-meat-raffles/2025-12-21/
CATEGORIES:Promotion & Raffles,Special Events
ATTACH;FMTTYPE=image/png:https://clubengadine.com.au/wp-content/uploads/2025/11/Entertainment_Webslides-10.png
END:VEVENT
BEGIN:VEVENT
DTSTART;TZID=Australia/Sydney:20251224T183000
DTEND;TZID=Australia/Sydney:20251224T193000
DTSTAMP:20260420T022014
CREATED:20241205T021301Z
LAST-MODIFIED:20251120T010249Z
UID:10015709-1766601000-1766604600@clubengadine.com.au
SUMMARY:Christmas Seafood Raffle
DESCRIPTION:Join us for our Christmas Seafood Raffle with $1200 dollars’ worth of seafood to be won\, and an additional 10 x meat trays up for grabs!\nTickets on sale from 10am\, drawn from 6:30pm.
URL:https://clubengadine.com.au/event/christmas-seafood-raffle/
CATEGORIES:Promotion & Raffles,Special Events
ATTACH;FMTTYPE=image/png:https://clubengadine.com.au/wp-content/uploads/2024/12/Entertainment_Webslides-3.png
END:VEVENT
BEGIN:VEVENT
DTSTART;VALUE=DATE:20260123
DTEND;VALUE=DATE:20260127
DTSTAMP:20260420T022014
CREATED:20260109T045125Z
LAST-MODIFIED:20260116T001831Z
UID:10024112-1769126400-1769471999@clubengadine.com.au
SUMMARY:VB Special & Promo
DESCRIPTION:$6.50 Schooners of VB  \nPLUS purchase any VB product over the Australia Day weekend to go into the draw to win a VB branded esky! \nTerms and conditions apply. One (1) esky to be won per Societie Group venue\nSocietie Group promotes the Responsible Service of Alcohol at all times
URL:https://clubengadine.com.au/event/vb-special-promo/
CATEGORIES:Promotion & Raffles,Special Events
ATTACH;FMTTYPE=image/jpeg:https://clubengadine.com.au/wp-content/uploads/2026/01/SocietieGroup_VB_Promotion_2026_Resizes_1200x600px.jpg
END:VEVENT
BEGIN:VEVENT
DTSTART;TZID=Australia/Sydney:20260222T180000
DTEND;TZID=Australia/Sydney:20260222T190000
DTSTAMP:20260420T022014
CREATED:20260221T021314Z
LAST-MODIFIED:20260221T021314Z
UID:10024604-1771783200-1771786800@clubengadine.com.au
SUMMARY:Lucky 22.2 Meat & Seafood Raffle
DESCRIPTION:If 2 is your lucky number\, join us for our Meat & Seafood raffle on Sunday 22.2! \nWe have 18 x Seafood trays & 15 x Meat trays to be won! \nTickets on sale from 10am | Drawn from 6pm
URL:https://clubengadine.com.au/event/lucky-22-2-meat-seafood-raffle/
CATEGORIES:Promotion & Raffles,Special Events
ATTACH;FMTTYPE=image/png:https://clubengadine.com.au/wp-content/uploads/2026/02/2026-Weekly-whats-on-1200-x-600-px.png
END:VEVENT
END:VCALENDAR