BEGIN:VCALENDAR
VERSION:2.0
PRODID:-//Club Engadine RSL - ECPv6.15.20//NONSGML v1.0//EN
CALSCALE:GREGORIAN
METHOD:PUBLISH
X-ORIGINAL-URL:https://clubengadine.com.au
X-WR-CALDESC:Events for Club Engadine RSL
REFRESH-INTERVAL;VALUE=DURATION:PT1H
X-Robots-Tag:noindex
X-PUBLISHED-TTL:PT1H
BEGIN:VTIMEZONE
TZID:Australia/Sydney
BEGIN:STANDARD
TZOFFSETFROM:+1100
TZOFFSETTO:+1000
TZNAME:AEST
DTSTART:20250405T160000
END:STANDARD
BEGIN:DAYLIGHT
TZOFFSETFROM:+1000
TZOFFSETTO:+1100
TZNAME:AEDT
DTSTART:20251004T160000
END:DAYLIGHT
BEGIN:STANDARD
TZOFFSETFROM:+1100
TZOFFSETTO:+1000
TZNAME:AEST
DTSTART:20260404T160000
END:STANDARD
BEGIN:DAYLIGHT
TZOFFSETFROM:+1000
TZOFFSETTO:+1100
TZNAME:AEDT
DTSTART:20261003T160000
END:DAYLIGHT
BEGIN:STANDARD
TZOFFSETFROM:+1100
TZOFFSETTO:+1000
TZNAME:AEST
DTSTART:20270403T160000
END:STANDARD
BEGIN:DAYLIGHT
TZOFFSETFROM:+1000
TZOFFSETTO:+1100
TZNAME:AEDT
DTSTART:20271002T160000
END:DAYLIGHT
END:VTIMEZONE
BEGIN:VEVENT
DTSTART;VALUE=DATE:20260107
DTEND;VALUE=DATE:20260108
DTSTAMP:20260424T100116
CREATED:20240722T133731Z
LAST-MODIFIED:20260401T021512Z
UID:10019016-1767744000-1767830399@clubengadine.com.au
SUMMARY:Jackpot Joker
DESCRIPTION:FIND THE JOKER\, WIN THE JACKPOT! \nTo participate\, simply purchase $20 of raffle tickets from the bar. Pop your ticket in the barrel and be here for your chance to win! \nIf you pick the Joker card from the deck you will win the cash jackpot. \nT&C’s apply
URL:https://clubengadine.com.au/event/jackpot-joker/2026-01-07/
CATEGORIES:Promotion & Raffles
ATTACH;FMTTYPE=image/webp:https://clubengadine.com.au/wp-content/uploads/2024/07/Jackpot-Joker.webp
END:VEVENT
BEGIN:VEVENT
DTSTART;VALUE=DATE:20260109
DTEND;VALUE=DATE:20260110
DTSTAMP:20260424T100116
CREATED:20240722T133731Z
LAST-MODIFIED:20260401T021512Z
UID:10019017-1767916800-1768003199@clubengadine.com.au
SUMMARY:Jackpot Joker
DESCRIPTION:FIND THE JOKER\, WIN THE JACKPOT! \nTo participate\, simply purchase $20 of raffle tickets from the bar. Pop your ticket in the barrel and be here for your chance to win! \nIf you pick the Joker card from the deck you will win the cash jackpot. \nT&C’s apply
URL:https://clubengadine.com.au/event/jackpot-joker/2026-01-09/
CATEGORIES:Promotion & Raffles
ATTACH;FMTTYPE=image/webp:https://clubengadine.com.au/wp-content/uploads/2024/07/Jackpot-Joker.webp
END:VEVENT
BEGIN:VEVENT
DTSTART;TZID=Australia/Sydney:20260109T180000
DTEND;TZID=Australia/Sydney:20260109T200000
DTSTAMP:20260424T100116
CREATED:20250220T034851Z
LAST-MODIFIED:20260113T042755Z
UID:10021304-1767981600-1767988800@clubengadine.com.au
SUMMARY:Members Cocktail Happy Hour
DESCRIPTION:Members! Join us every Friday for our Cocktail Happy Hour(s)!\nAll cocktails from the menu $12 each from 6pm – 8pm!\n\n\nClub Engadine practices the responsible service of alcohol
URL:https://clubengadine.com.au/event/members-cocktail-happy-hour/2026-01-09/
CATEGORIES:Promotion & Raffles,Special Events
ATTACH;FMTTYPE=image/png:https://clubengadine.com.au/wp-content/uploads/2025/02/TVL-2026-Weekly-whats-on-1200-x-600-px-10.png
END:VEVENT
BEGIN:VEVENT
DTSTART;VALUE=DATE:20260111
DTEND;VALUE=DATE:20260112
DTSTAMP:20260424T100116
CREATED:20240722T133731Z
LAST-MODIFIED:20260401T021512Z
UID:10019018-1768089600-1768175999@clubengadine.com.au
SUMMARY:Jackpot Joker
DESCRIPTION:FIND THE JOKER\, WIN THE JACKPOT! \nTo participate\, simply purchase $20 of raffle tickets from the bar. Pop your ticket in the barrel and be here for your chance to win! \nIf you pick the Joker card from the deck you will win the cash jackpot. \nT&C’s apply
URL:https://clubengadine.com.au/event/jackpot-joker/2026-01-11/
CATEGORIES:Promotion & Raffles
ATTACH;FMTTYPE=image/webp:https://clubengadine.com.au/wp-content/uploads/2024/07/Jackpot-Joker.webp
END:VEVENT
BEGIN:VEVENT
DTSTART;TZID=Australia/Sydney:20260111T180000
DTEND;TZID=Australia/Sydney:20260111T190000
DTSTAMP:20260424T100116
CREATED:20260111T015553Z
LAST-MODIFIED:20260326T014418Z
UID:10017889-1768154400-1768158000@clubengadine.com.au
SUMMARY:Sizzling Sundays Raffle
DESCRIPTION:Join us every Sunday for your chance to win one (or more) of 15 x Meat Trays OR 5 x $30 Members Bonus Points! \nTickets are on sale from 10am | Drawn from 6pm
URL:https://clubengadine.com.au/event/sizzling-sundays-raffle-2/2026-01-11/
CATEGORIES:Promotion & Raffles
ATTACH;FMTTYPE=image/png:https://clubengadine.com.au/wp-content/uploads/2026/01/TVL-2026-Weekly-whats-on-1200-x-600-px.png
END:VEVENT
END:VCALENDAR