BEGIN:VCALENDAR
VERSION:2.0
PRODID:-//Club Engadine RSL - ECPv6.15.20//NONSGML v1.0//EN
CALSCALE:GREGORIAN
METHOD:PUBLISH
X-ORIGINAL-URL:https://clubengadine.com.au
X-WR-CALDESC:Events for Club Engadine RSL
REFRESH-INTERVAL;VALUE=DURATION:PT1H
X-Robots-Tag:noindex
X-PUBLISHED-TTL:PT1H
BEGIN:VTIMEZONE
TZID:Australia/Sydney
BEGIN:STANDARD
TZOFFSETFROM:+1100
TZOFFSETTO:+1000
TZNAME:AEST
DTSTART:20240406T160000
END:STANDARD
BEGIN:DAYLIGHT
TZOFFSETFROM:+1000
TZOFFSETTO:+1100
TZNAME:AEDT
DTSTART:20241005T160000
END:DAYLIGHT
BEGIN:STANDARD
TZOFFSETFROM:+1100
TZOFFSETTO:+1000
TZNAME:AEST
DTSTART:20250405T160000
END:STANDARD
BEGIN:DAYLIGHT
TZOFFSETFROM:+1000
TZOFFSETTO:+1100
TZNAME:AEDT
DTSTART:20251004T160000
END:DAYLIGHT
BEGIN:STANDARD
TZOFFSETFROM:+1100
TZOFFSETTO:+1000
TZNAME:AEST
DTSTART:20260404T160000
END:STANDARD
BEGIN:DAYLIGHT
TZOFFSETFROM:+1000
TZOFFSETTO:+1100
TZNAME:AEDT
DTSTART:20261003T160000
END:DAYLIGHT
END:VTIMEZONE
BEGIN:VEVENT
DTSTART;TZID=Australia/Sydney:20250915T150000
DTEND;TZID=Australia/Sydney:20250915T180000
DTSTAMP:20260420T152526
CREATED:20250102T052925Z
LAST-MODIFIED:20251031T011511Z
UID:10016536-1757948400-1757959200@clubengadine.com.au
SUMMARY:Members Happy Hour
DESCRIPTION:Join us for Members Happy Hour! One hour just wasn’t enough so we have tripled it! \nMonday to Friday \n3pm – 6pm \nSchooners & House Wine from $5
URL:https://clubengadine.com.au/event/members-happy-hour/2025-09-15/
CATEGORIES:Special Events
ATTACH;FMTTYPE=image/jpeg:https://clubengadine.com.au/wp-content/uploads/2025/01/ClubEngadine_MembersHappyHour_WEBSLIDE.jpg
END:VEVENT
BEGIN:VEVENT
DTSTART;TZID=Australia/Sydney:20250916T150000
DTEND;TZID=Australia/Sydney:20250916T180000
DTSTAMP:20260420T152526
CREATED:20250102T052925Z
LAST-MODIFIED:20251031T011511Z
UID:10016537-1758034800-1758045600@clubengadine.com.au
SUMMARY:Members Happy Hour
DESCRIPTION:Join us for Members Happy Hour! One hour just wasn’t enough so we have tripled it! \nMonday to Friday \n3pm – 6pm \nSchooners & House Wine from $5
URL:https://clubengadine.com.au/event/members-happy-hour/2025-09-16/
CATEGORIES:Special Events
ATTACH;FMTTYPE=image/jpeg:https://clubengadine.com.au/wp-content/uploads/2025/01/ClubEngadine_MembersHappyHour_WEBSLIDE.jpg
END:VEVENT
BEGIN:VEVENT
DTSTART;TZID=Australia/Sydney:20250917T150000
DTEND;TZID=Australia/Sydney:20250917T180000
DTSTAMP:20260420T152526
CREATED:20250102T052925Z
LAST-MODIFIED:20251031T011511Z
UID:10016538-1758121200-1758132000@clubengadine.com.au
SUMMARY:Members Happy Hour
DESCRIPTION:Join us for Members Happy Hour! One hour just wasn’t enough so we have tripled it! \nMonday to Friday \n3pm – 6pm \nSchooners & House Wine from $5
URL:https://clubengadine.com.au/event/members-happy-hour/2025-09-17/
CATEGORIES:Special Events
ATTACH;FMTTYPE=image/jpeg:https://clubengadine.com.au/wp-content/uploads/2025/01/ClubEngadine_MembersHappyHour_WEBSLIDE.jpg
END:VEVENT
BEGIN:VEVENT
DTSTART;TZID=Australia/Sydney:20250918T150000
DTEND;TZID=Australia/Sydney:20250918T180000
DTSTAMP:20260420T152526
CREATED:20250102T052925Z
LAST-MODIFIED:20251031T011511Z
UID:10016539-1758207600-1758218400@clubengadine.com.au
SUMMARY:Members Happy Hour
DESCRIPTION:Join us for Members Happy Hour! One hour just wasn’t enough so we have tripled it! \nMonday to Friday \n3pm – 6pm \nSchooners & House Wine from $5
URL:https://clubengadine.com.au/event/members-happy-hour/2025-09-18/
CATEGORIES:Special Events
ATTACH;FMTTYPE=image/jpeg:https://clubengadine.com.au/wp-content/uploads/2025/01/ClubEngadine_MembersHappyHour_WEBSLIDE.jpg
END:VEVENT
BEGIN:VEVENT
DTSTART;TZID=Australia/Sydney:20250919T150000
DTEND;TZID=Australia/Sydney:20250919T180000
DTSTAMP:20260420T152526
CREATED:20250102T052925Z
LAST-MODIFIED:20251031T011511Z
UID:10016540-1758294000-1758304800@clubengadine.com.au
SUMMARY:Members Happy Hour
DESCRIPTION:Join us for Members Happy Hour! One hour just wasn’t enough so we have tripled it! \nMonday to Friday \n3pm – 6pm \nSchooners & House Wine from $5
URL:https://clubengadine.com.au/event/members-happy-hour/2025-09-19/
CATEGORIES:Special Events
ATTACH;FMTTYPE=image/jpeg:https://clubengadine.com.au/wp-content/uploads/2025/01/ClubEngadine_MembersHappyHour_WEBSLIDE.jpg
END:VEVENT
BEGIN:VEVENT
DTSTART;TZID=Australia/Sydney:20250919T180000
DTEND;TZID=Australia/Sydney:20250919T200000
DTSTAMP:20260420T152526
CREATED:20250220T034851Z
LAST-MODIFIED:20260113T042755Z
UID:10021288-1758304800-1758312000@clubengadine.com.au
SUMMARY:Members Cocktail Happy Hour
DESCRIPTION:Members! Join us every Friday for our Cocktail Happy Hour(s)!\nAll cocktails from the menu $12 each from 6pm – 8pm!\n\n\nClub Engadine practices the responsible service of alcohol
URL:https://clubengadine.com.au/event/members-cocktail-happy-hour/2025-09-19/
CATEGORIES:Promotion & Raffles,Special Events
ATTACH;FMTTYPE=image/png:https://clubengadine.com.au/wp-content/uploads/2025/02/TVL-2026-Weekly-whats-on-1200-x-600-px-10.png
END:VEVENT
BEGIN:VEVENT
DTSTART;TZID=Australia/Sydney:20250921T100000
DTEND;TZID=Australia/Sydney:20250921T140000
DTSTAMP:20260420T152526
CREATED:20250821T023319Z
LAST-MODIFIED:20250821T023319Z
UID:10023539-1758448800-1758463200@clubengadine.com.au
SUMMARY:Family Fun Day
DESCRIPTION:Join us for our first ever Family Fun Day… Free fun for all the Family!  \nGet ready for a day packed with excitement for all ages. Explore vibrant market stalls\, thrilling rides\, and a cuddly petting zoo. Children will love the facepainting and airbrush tattoo stations! Not to mention the groovy live entertainment\, and performances by local troupes. \nDon’t forget to make a stop at the Club Engadine BBQ\, raising funds in support of the Kokoda Youth Foundation. \n Whether you’re shopping\, snacking\, or just soaking up the fun\, there’s something for everyone. Bring the whole family and make unforgettable memories! \nLocated in the Club Engadine Carpark. 
URL:https://clubengadine.com.au/event/family-fun-day/
CATEGORIES:Special Events
ATTACH;FMTTYPE=image/png:https://clubengadine.com.au/wp-content/uploads/2025/08/FFD-1200-x-600-px.png
END:VEVENT
END:VCALENDAR