BEGIN:VCALENDAR
VERSION:2.0
PRODID:-//Club Engadine RSL - ECPv6.15.20//NONSGML v1.0//EN
CALSCALE:GREGORIAN
METHOD:PUBLISH
X-WR-CALNAME:Club Engadine RSL
X-ORIGINAL-URL:https://clubengadine.com.au
X-WR-CALDESC:Events for Club Engadine RSL
REFRESH-INTERVAL;VALUE=DURATION:PT1H
X-Robots-Tag:noindex
X-PUBLISHED-TTL:PT1H
BEGIN:VTIMEZONE
TZID:Australia/Sydney
BEGIN:STANDARD
TZOFFSETFROM:+1100
TZOFFSETTO:+1000
TZNAME:AEST
DTSTART:20240406T160000
END:STANDARD
BEGIN:DAYLIGHT
TZOFFSETFROM:+1000
TZOFFSETTO:+1100
TZNAME:AEDT
DTSTART:20241005T160000
END:DAYLIGHT
BEGIN:STANDARD
TZOFFSETFROM:+1100
TZOFFSETTO:+1000
TZNAME:AEST
DTSTART:20250405T160000
END:STANDARD
BEGIN:DAYLIGHT
TZOFFSETFROM:+1000
TZOFFSETTO:+1100
TZNAME:AEDT
DTSTART:20251004T160000
END:DAYLIGHT
BEGIN:STANDARD
TZOFFSETFROM:+1100
TZOFFSETTO:+1000
TZNAME:AEST
DTSTART:20260404T160000
END:STANDARD
BEGIN:DAYLIGHT
TZOFFSETFROM:+1000
TZOFFSETTO:+1100
TZNAME:AEDT
DTSTART:20261003T160000
END:DAYLIGHT
END:VTIMEZONE
BEGIN:VEVENT
DTSTART;TZID=Australia/Sydney:20250929T150000
DTEND;TZID=Australia/Sydney:20250929T180000
DTSTAMP:20260420T134529
CREATED:20250102T052925Z
LAST-MODIFIED:20251031T011511Z
UID:10016546-1759158000-1759168800@clubengadine.com.au
SUMMARY:Members Happy Hour
DESCRIPTION:Join us for Members Happy Hour! One hour just wasn’t enough so we have tripled it! \nMonday to Friday \n3pm – 6pm \nSchooners & House Wine from $5
URL:https://clubengadine.com.au/event/members-happy-hour/2025-09-29/
CATEGORIES:Special Events
ATTACH;FMTTYPE=image/jpeg:https://clubengadine.com.au/wp-content/uploads/2025/01/ClubEngadine_MembersHappyHour_WEBSLIDE.jpg
END:VEVENT
BEGIN:VEVENT
DTSTART;TZID=Australia/Sydney:20250930T150000
DTEND;TZID=Australia/Sydney:20250930T180000
DTSTAMP:20260420T134529
CREATED:20250102T052925Z
LAST-MODIFIED:20251031T011511Z
UID:10016547-1759244400-1759255200@clubengadine.com.au
SUMMARY:Members Happy Hour
DESCRIPTION:Join us for Members Happy Hour! One hour just wasn’t enough so we have tripled it! \nMonday to Friday \n3pm – 6pm \nSchooners & House Wine from $5
URL:https://clubengadine.com.au/event/members-happy-hour/2025-09-30/
CATEGORIES:Special Events
ATTACH;FMTTYPE=image/jpeg:https://clubengadine.com.au/wp-content/uploads/2025/01/ClubEngadine_MembersHappyHour_WEBSLIDE.jpg
END:VEVENT
BEGIN:VEVENT
DTSTART;TZID=Australia/Sydney:20251001T150000
DTEND;TZID=Australia/Sydney:20251001T180000
DTSTAMP:20260420T134529
CREATED:20250102T052925Z
LAST-MODIFIED:20251031T011511Z
UID:10016548-1759330800-1759341600@clubengadine.com.au
SUMMARY:Members Happy Hour
DESCRIPTION:Join us for Members Happy Hour! One hour just wasn’t enough so we have tripled it! \nMonday to Friday \n3pm – 6pm \nSchooners & House Wine from $5
URL:https://clubengadine.com.au/event/members-happy-hour/2025-10-01/
CATEGORIES:Special Events
ATTACH;FMTTYPE=image/jpeg:https://clubengadine.com.au/wp-content/uploads/2025/01/ClubEngadine_MembersHappyHour_WEBSLIDE.jpg
END:VEVENT
BEGIN:VEVENT
DTSTART;TZID=Australia/Sydney:20251002T150000
DTEND;TZID=Australia/Sydney:20251002T180000
DTSTAMP:20260420T134529
CREATED:20250102T052925Z
LAST-MODIFIED:20251031T011511Z
UID:10016549-1759417200-1759428000@clubengadine.com.au
SUMMARY:Members Happy Hour
DESCRIPTION:Join us for Members Happy Hour! One hour just wasn’t enough so we have tripled it! \nMonday to Friday \n3pm – 6pm \nSchooners & House Wine from $5
URL:https://clubengadine.com.au/event/members-happy-hour/2025-10-02/
CATEGORIES:Special Events
ATTACH;FMTTYPE=image/jpeg:https://clubengadine.com.au/wp-content/uploads/2025/01/ClubEngadine_MembersHappyHour_WEBSLIDE.jpg
END:VEVENT
BEGIN:VEVENT
DTSTART;TZID=Australia/Sydney:20251003T150000
DTEND;TZID=Australia/Sydney:20251003T180000
DTSTAMP:20260420T134529
CREATED:20250102T052925Z
LAST-MODIFIED:20251031T011511Z
UID:10016550-1759503600-1759514400@clubengadine.com.au
SUMMARY:Members Happy Hour
DESCRIPTION:Join us for Members Happy Hour! One hour just wasn’t enough so we have tripled it! \nMonday to Friday \n3pm – 6pm \nSchooners & House Wine from $5
URL:https://clubengadine.com.au/event/members-happy-hour/2025-10-03/
CATEGORIES:Special Events
ATTACH;FMTTYPE=image/jpeg:https://clubengadine.com.au/wp-content/uploads/2025/01/ClubEngadine_MembersHappyHour_WEBSLIDE.jpg
END:VEVENT
BEGIN:VEVENT
DTSTART;TZID=Australia/Sydney:20251003T180000
DTEND;TZID=Australia/Sydney:20251003T200000
DTSTAMP:20260420T134529
CREATED:20250220T034851Z
LAST-MODIFIED:20260113T042755Z
UID:10021290-1759514400-1759521600@clubengadine.com.au
SUMMARY:Members Cocktail Happy Hour
DESCRIPTION:Members! Join us every Friday for our Cocktail Happy Hour(s)!\nAll cocktails from the menu $12 each from 6pm – 8pm!\n\n\nClub Engadine practices the responsible service of alcohol
URL:https://clubengadine.com.au/event/members-cocktail-happy-hour/2025-10-03/
CATEGORIES:Promotion & Raffles,Special Events
ATTACH;FMTTYPE=image/png:https://clubengadine.com.au/wp-content/uploads/2025/02/TVL-2026-Weekly-whats-on-1200-x-600-px-10.png
END:VEVENT
BEGIN:VEVENT
DTSTART;TZID=Australia/Sydney:20251005T130000
DTEND;TZID=Australia/Sydney:20251005T150000
DTSTAMP:20260420T134529
CREATED:20250926T045307Z
LAST-MODIFIED:20250926T045307Z
UID:10023568-1759669200-1759676400@clubengadine.com.au
SUMMARY:UFC320 - ANKALAEV vs PEREIRA
DESCRIPTION:Former UFC light heavyweight champion Alex Pereira will attempt to reclaim the throne against current champion Magomed Ankalaev at UFC 320. Bantamweight champ Merab Dvalishvili will also put his belt on the line against Cory Sandhagen.
URL:https://clubengadine.com.au/event/ufc320-ankalaev-vs-pereira/
CATEGORIES:Entertainment,Special Events
ATTACH;FMTTYPE=image/png:https://clubengadine.com.au/wp-content/uploads/2025/09/Entertainment_Webslides-7.png
END:VEVENT
END:VCALENDAR