BEGIN:VCALENDAR
VERSION:2.0
PRODID:-//Club Engadine RSL - ECPv6.15.20//NONSGML v1.0//EN
CALSCALE:GREGORIAN
METHOD:PUBLISH
X-ORIGINAL-URL:https://clubengadine.com.au
X-WR-CALDESC:Events for Club Engadine RSL
REFRESH-INTERVAL;VALUE=DURATION:PT1H
X-Robots-Tag:noindex
X-PUBLISHED-TTL:PT1H
BEGIN:VTIMEZONE
TZID:Australia/Sydney
BEGIN:STANDARD
TZOFFSETFROM:+1100
TZOFFSETTO:+1000
TZNAME:AEST
DTSTART:20240406T160000
END:STANDARD
BEGIN:DAYLIGHT
TZOFFSETFROM:+1000
TZOFFSETTO:+1100
TZNAME:AEDT
DTSTART:20241005T160000
END:DAYLIGHT
BEGIN:STANDARD
TZOFFSETFROM:+1100
TZOFFSETTO:+1000
TZNAME:AEST
DTSTART:20250405T160000
END:STANDARD
BEGIN:DAYLIGHT
TZOFFSETFROM:+1000
TZOFFSETTO:+1100
TZNAME:AEDT
DTSTART:20251004T160000
END:DAYLIGHT
BEGIN:STANDARD
TZOFFSETFROM:+1100
TZOFFSETTO:+1000
TZNAME:AEST
DTSTART:20260404T160000
END:STANDARD
BEGIN:DAYLIGHT
TZOFFSETFROM:+1000
TZOFFSETTO:+1100
TZNAME:AEDT
DTSTART:20261003T160000
END:DAYLIGHT
END:VTIMEZONE
BEGIN:VEVENT
DTSTART;TZID=Australia/Sydney:20251027T150000
DTEND;TZID=Australia/Sydney:20251027T180000
DTSTAMP:20260420T151215
CREATED:20250102T052925Z
LAST-MODIFIED:20251031T011511Z
UID:10016566-1761577200-1761588000@clubengadine.com.au
SUMMARY:Members Happy Hour
DESCRIPTION:Join us for Members Happy Hour! One hour just wasn’t enough so we have tripled it! \nMonday to Friday \n3pm – 6pm \nSchooners & House Wine from $5
URL:https://clubengadine.com.au/event/members-happy-hour/2025-10-27/
CATEGORIES:Special Events
ATTACH;FMTTYPE=image/jpeg:https://clubengadine.com.au/wp-content/uploads/2025/01/ClubEngadine_MembersHappyHour_WEBSLIDE.jpg
END:VEVENT
BEGIN:VEVENT
DTSTART;TZID=Australia/Sydney:20251028T150000
DTEND;TZID=Australia/Sydney:20251028T180000
DTSTAMP:20260420T151215
CREATED:20250102T052925Z
LAST-MODIFIED:20251031T011511Z
UID:10016567-1761663600-1761674400@clubengadine.com.au
SUMMARY:Members Happy Hour
DESCRIPTION:Join us for Members Happy Hour! One hour just wasn’t enough so we have tripled it! \nMonday to Friday \n3pm – 6pm \nSchooners & House Wine from $5
URL:https://clubengadine.com.au/event/members-happy-hour/2025-10-28/
CATEGORIES:Special Events
ATTACH;FMTTYPE=image/jpeg:https://clubengadine.com.au/wp-content/uploads/2025/01/ClubEngadine_MembersHappyHour_WEBSLIDE.jpg
END:VEVENT
BEGIN:VEVENT
DTSTART;TZID=Australia/Sydney:20251029T150000
DTEND;TZID=Australia/Sydney:20251029T180000
DTSTAMP:20260420T151215
CREATED:20250102T052925Z
LAST-MODIFIED:20251031T011511Z
UID:10016568-1761750000-1761760800@clubengadine.com.au
SUMMARY:Members Happy Hour
DESCRIPTION:Join us for Members Happy Hour! One hour just wasn’t enough so we have tripled it! \nMonday to Friday \n3pm – 6pm \nSchooners & House Wine from $5
URL:https://clubengadine.com.au/event/members-happy-hour/2025-10-29/
CATEGORIES:Special Events
ATTACH;FMTTYPE=image/jpeg:https://clubengadine.com.au/wp-content/uploads/2025/01/ClubEngadine_MembersHappyHour_WEBSLIDE.jpg
END:VEVENT
BEGIN:VEVENT
DTSTART;TZID=Australia/Sydney:20251030T150000
DTEND;TZID=Australia/Sydney:20251030T180000
DTSTAMP:20260420T151215
CREATED:20250102T052925Z
LAST-MODIFIED:20251031T011511Z
UID:10016569-1761836400-1761847200@clubengadine.com.au
SUMMARY:Members Happy Hour
DESCRIPTION:Join us for Members Happy Hour! One hour just wasn’t enough so we have tripled it! \nMonday to Friday \n3pm – 6pm \nSchooners & House Wine from $5
URL:https://clubengadine.com.au/event/members-happy-hour/2025-10-30/
CATEGORIES:Special Events
ATTACH;FMTTYPE=image/jpeg:https://clubengadine.com.au/wp-content/uploads/2025/01/ClubEngadine_MembersHappyHour_WEBSLIDE.jpg
END:VEVENT
BEGIN:VEVENT
DTSTART;TZID=Australia/Sydney:20251031T150000
DTEND;TZID=Australia/Sydney:20251031T180000
DTSTAMP:20260420T151215
CREATED:20250102T052925Z
LAST-MODIFIED:20251031T011511Z
UID:10016570-1761922800-1761933600@clubengadine.com.au
SUMMARY:Members Happy Hour
DESCRIPTION:Join us for Members Happy Hour! One hour just wasn’t enough so we have tripled it! \nMonday to Friday \n3pm – 6pm \nSchooners & House Wine from $5
URL:https://clubengadine.com.au/event/members-happy-hour/2025-10-31/
CATEGORIES:Special Events
ATTACH;FMTTYPE=image/jpeg:https://clubengadine.com.au/wp-content/uploads/2025/01/ClubEngadine_MembersHappyHour_WEBSLIDE.jpg
END:VEVENT
BEGIN:VEVENT
DTSTART;TZID=Australia/Sydney:20251031T180000
DTEND;TZID=Australia/Sydney:20251031T200000
DTSTAMP:20260420T151215
CREATED:20250220T034851Z
LAST-MODIFIED:20260113T042755Z
UID:10021294-1761933600-1761940800@clubengadine.com.au
SUMMARY:Members Cocktail Happy Hour
DESCRIPTION:Members! Join us every Friday for our Cocktail Happy Hour(s)!\nAll cocktails from the menu $12 each from 6pm – 8pm!\n\n\nClub Engadine practices the responsible service of alcohol
URL:https://clubengadine.com.au/event/members-cocktail-happy-hour/2025-10-31/
CATEGORIES:Promotion & Raffles,Special Events
ATTACH;FMTTYPE=image/png:https://clubengadine.com.au/wp-content/uploads/2025/02/TVL-2026-Weekly-whats-on-1200-x-600-px-10.png
END:VEVENT
BEGIN:VEVENT
DTSTART;TZID=Australia/Sydney:20251031T183000
DTEND;TZID=Australia/Sydney:20251031T193000
DTSTAMP:20260420T151215
CREATED:20251010T015631Z
LAST-MODIFIED:20251010T015631Z
UID:10023661-1761935400-1761939000@clubengadine.com.au
SUMMARY:Trick or Treat Raffle
DESCRIPTION:OVER $2000 WORTH OF PRIZES TO BE WON!\nCheck out our Prize Showcase on the big screen — so many incredible prizes up for grabs!But beware… on raffle night there’s a spooky twist!Every prize will be wrapped in a mystery box\, and you’ll have to pick yours at random! \n  \nTickets on sale from 10am | Drawn from 6.30pm
URL:https://clubengadine.com.au/event/trick-or-treat-raffle/
CATEGORIES:Promotion & Raffles,Special Events
ATTACH;FMTTYPE=image/png:https://clubengadine.com.au/wp-content/uploads/2025/10/CE-tv-screens-to-June-2025-1200-x-600-px-2.png
END:VEVENT
BEGIN:VEVENT
DTSTART;VALUE=DATE:20251102
DTEND;VALUE=DATE:20251124
DTSTAMP:20260420T151215
CREATED:20251029T022547Z
LAST-MODIFIED:20251204T231238Z
UID:10023674-1762041600-1763942399@clubengadine.com.au
SUMMARY:Kids Eat Free*
DESCRIPTION:Kids Eat Free* – Sunday to Tuesday during the month of November!\n\n\n*With every Adult meal purchased over $20 – Available for lunch & dinner\nPromotion runs from 02/11/2025 to 30/11/2025. Please see Mike’s Grill staff for more details.
URL:https://clubengadine.com.au/event/kids-eat-free-4/
CATEGORIES:Mike's Grill Specials,Special Events
ATTACH;FMTTYPE=image/png:https://clubengadine.com.au/wp-content/uploads/2025/10/CE-KidsEatFree-website.png
END:VEVENT
END:VCALENDAR