BEGIN:VCALENDAR
VERSION:2.0
PRODID:-//Club Engadine RSL - ECPv6.15.20//NONSGML v1.0//EN
CALSCALE:GREGORIAN
METHOD:PUBLISH
X-ORIGINAL-URL:https://clubengadine.com.au
X-WR-CALDESC:Events for Club Engadine RSL
REFRESH-INTERVAL;VALUE=DURATION:PT1H
X-Robots-Tag:noindex
X-PUBLISHED-TTL:PT1H
BEGIN:VTIMEZONE
TZID:Australia/Sydney
BEGIN:STANDARD
TZOFFSETFROM:+1100
TZOFFSETTO:+1000
TZNAME:AEST
DTSTART:20240406T160000
END:STANDARD
BEGIN:DAYLIGHT
TZOFFSETFROM:+1000
TZOFFSETTO:+1100
TZNAME:AEDT
DTSTART:20241005T160000
END:DAYLIGHT
BEGIN:STANDARD
TZOFFSETFROM:+1100
TZOFFSETTO:+1000
TZNAME:AEST
DTSTART:20250405T160000
END:STANDARD
BEGIN:DAYLIGHT
TZOFFSETFROM:+1000
TZOFFSETTO:+1100
TZNAME:AEDT
DTSTART:20251004T160000
END:DAYLIGHT
BEGIN:STANDARD
TZOFFSETFROM:+1100
TZOFFSETTO:+1000
TZNAME:AEST
DTSTART:20260404T160000
END:STANDARD
BEGIN:DAYLIGHT
TZOFFSETFROM:+1000
TZOFFSETTO:+1100
TZNAME:AEDT
DTSTART:20261003T160000
END:DAYLIGHT
END:VTIMEZONE
BEGIN:VEVENT
DTSTART;VALUE=DATE:20251102
DTEND;VALUE=DATE:20251124
DTSTAMP:20260420T103256
CREATED:20251029T022547Z
LAST-MODIFIED:20251204T231238Z
UID:10023674-1762041600-1763942399@clubengadine.com.au
SUMMARY:Kids Eat Free*
DESCRIPTION:Kids Eat Free* – Sunday to Tuesday during the month of November!\n\n\n*With every Adult meal purchased over $20 – Available for lunch & dinner\nPromotion runs from 02/11/2025 to 30/11/2025. Please see Mike’s Grill staff for more details.
URL:https://clubengadine.com.au/event/kids-eat-free-4/
CATEGORIES:Mike's Grill Specials,Special Events
ATTACH;FMTTYPE=image/png:https://clubengadine.com.au/wp-content/uploads/2025/10/CE-KidsEatFree-website.png
END:VEVENT
BEGIN:VEVENT
DTSTART;VALUE=DATE:20251117
DTEND;VALUE=DATE:20251118
DTSTAMP:20260420T103256
CREATED:20251108T235300Z
LAST-MODIFIED:20251125T235240Z
UID:10023694-1763337600-1763423999@clubengadine.com.au
SUMMARY:Keys to Societie
DESCRIPTION:$30\,000 in cash to be won!\n\nSwipe daily at the kiosk from Monday 10th November until Wednesday 17th December to receive VIRTUAL entries! \nPLUS Receive a BONUS entry each every Monday-Wednesday! \n**Important Information – No paper entries will be issued in this promotion** \nMinor Draws \n\n7:30pm\, 8pm & 8:30pm Wednesday 19th & 26th November and 3rd & 10th December 2025\n\n1 Key for the Major Draw + $300 cash to be won weekly at each Societie Group venue\n(Ramsgate RSL\, The Arbour Heathcote\, Fingal Bay Sports Club & Club & Engadine RSL) \nMajor Draw \nHeld at Ramsgate RSL with LIVE Broadcast from all Societie Group venues \n\nFrom 7:30pm 17th December 2025\n\n1 final Key to be won at each venue prior to the major prize giveaway PLUS 1 x $20\,000 cash prize and 23 x $250 cash runner-up prizes to be won! \nYou must be present at the draws for the chance to win. \nTerms & Conditions apply and are available on request from Club Reception at each Societie Group venue. \nThis Promotion is part of the Societie Rewards loyalty program.\nHelp is close at hand. Call GambleAware 1800 858 858. www.gambleware.nsw.gov.au\nPlayer activity statements are available on request.
URL:https://clubengadine.com.au/event/keys-to-societie/2025-11-17/
CATEGORIES:Promotion & Raffles,Special Events
ATTACH;FMTTYPE=image/jpeg:https://clubengadine.com.au/wp-content/uploads/2025/11/Ramsgate_KeysToSocietie_Resizes_2025_1200x600px.jpg
END:VEVENT
BEGIN:VEVENT
DTSTART;VALUE=DATE:20251118
DTEND;VALUE=DATE:20251119
DTSTAMP:20260420T103256
CREATED:20251108T235300Z
LAST-MODIFIED:20251125T235240Z
UID:10023695-1763424000-1763510399@clubengadine.com.au
SUMMARY:Keys to Societie
DESCRIPTION:$30\,000 in cash to be won!\n\nSwipe daily at the kiosk from Monday 10th November until Wednesday 17th December to receive VIRTUAL entries! \nPLUS Receive a BONUS entry each every Monday-Wednesday! \n**Important Information – No paper entries will be issued in this promotion** \nMinor Draws \n\n7:30pm\, 8pm & 8:30pm Wednesday 19th & 26th November and 3rd & 10th December 2025\n\n1 Key for the Major Draw + $300 cash to be won weekly at each Societie Group venue\n(Ramsgate RSL\, The Arbour Heathcote\, Fingal Bay Sports Club & Club & Engadine RSL) \nMajor Draw \nHeld at Ramsgate RSL with LIVE Broadcast from all Societie Group venues \n\nFrom 7:30pm 17th December 2025\n\n1 final Key to be won at each venue prior to the major prize giveaway PLUS 1 x $20\,000 cash prize and 23 x $250 cash runner-up prizes to be won! \nYou must be present at the draws for the chance to win. \nTerms & Conditions apply and are available on request from Club Reception at each Societie Group venue. \nThis Promotion is part of the Societie Rewards loyalty program.\nHelp is close at hand. Call GambleAware 1800 858 858. www.gambleware.nsw.gov.au\nPlayer activity statements are available on request.
URL:https://clubengadine.com.au/event/keys-to-societie/2025-11-18/
CATEGORIES:Promotion & Raffles,Special Events
ATTACH;FMTTYPE=image/jpeg:https://clubengadine.com.au/wp-content/uploads/2025/11/Ramsgate_KeysToSocietie_Resizes_2025_1200x600px.jpg
END:VEVENT
BEGIN:VEVENT
DTSTART;VALUE=DATE:20251119
DTEND;VALUE=DATE:20251120
DTSTAMP:20260420T103256
CREATED:20251108T235300Z
LAST-MODIFIED:20251125T235240Z
UID:10023696-1763510400-1763596799@clubengadine.com.au
SUMMARY:Keys to Societie
DESCRIPTION:$30\,000 in cash to be won!\n\nSwipe daily at the kiosk from Monday 10th November until Wednesday 17th December to receive VIRTUAL entries! \nPLUS Receive a BONUS entry each every Monday-Wednesday! \n**Important Information – No paper entries will be issued in this promotion** \nMinor Draws \n\n7:30pm\, 8pm & 8:30pm Wednesday 19th & 26th November and 3rd & 10th December 2025\n\n1 Key for the Major Draw + $300 cash to be won weekly at each Societie Group venue\n(Ramsgate RSL\, The Arbour Heathcote\, Fingal Bay Sports Club & Club & Engadine RSL) \nMajor Draw \nHeld at Ramsgate RSL with LIVE Broadcast from all Societie Group venues \n\nFrom 7:30pm 17th December 2025\n\n1 final Key to be won at each venue prior to the major prize giveaway PLUS 1 x $20\,000 cash prize and 23 x $250 cash runner-up prizes to be won! \nYou must be present at the draws for the chance to win. \nTerms & Conditions apply and are available on request from Club Reception at each Societie Group venue. \nThis Promotion is part of the Societie Rewards loyalty program.\nHelp is close at hand. Call GambleAware 1800 858 858. www.gambleware.nsw.gov.au\nPlayer activity statements are available on request.
URL:https://clubengadine.com.au/event/keys-to-societie/2025-11-19/
CATEGORIES:Promotion & Raffles,Special Events
ATTACH;FMTTYPE=image/jpeg:https://clubengadine.com.au/wp-content/uploads/2025/11/Ramsgate_KeysToSocietie_Resizes_2025_1200x600px.jpg
END:VEVENT
BEGIN:VEVENT
DTSTART;VALUE=DATE:20251120
DTEND;VALUE=DATE:20251121
DTSTAMP:20260420T103256
CREATED:20251108T235300Z
LAST-MODIFIED:20251125T235240Z
UID:10023697-1763596800-1763683199@clubengadine.com.au
SUMMARY:Keys to Societie
DESCRIPTION:$30\,000 in cash to be won!\n\nSwipe daily at the kiosk from Monday 10th November until Wednesday 17th December to receive VIRTUAL entries! \nPLUS Receive a BONUS entry each every Monday-Wednesday! \n**Important Information – No paper entries will be issued in this promotion** \nMinor Draws \n\n7:30pm\, 8pm & 8:30pm Wednesday 19th & 26th November and 3rd & 10th December 2025\n\n1 Key for the Major Draw + $300 cash to be won weekly at each Societie Group venue\n(Ramsgate RSL\, The Arbour Heathcote\, Fingal Bay Sports Club & Club & Engadine RSL) \nMajor Draw \nHeld at Ramsgate RSL with LIVE Broadcast from all Societie Group venues \n\nFrom 7:30pm 17th December 2025\n\n1 final Key to be won at each venue prior to the major prize giveaway PLUS 1 x $20\,000 cash prize and 23 x $250 cash runner-up prizes to be won! \nYou must be present at the draws for the chance to win. \nTerms & Conditions apply and are available on request from Club Reception at each Societie Group venue. \nThis Promotion is part of the Societie Rewards loyalty program.\nHelp is close at hand. Call GambleAware 1800 858 858. www.gambleware.nsw.gov.au\nPlayer activity statements are available on request.
URL:https://clubengadine.com.au/event/keys-to-societie/2025-11-20/
CATEGORIES:Promotion & Raffles,Special Events
ATTACH;FMTTYPE=image/jpeg:https://clubengadine.com.au/wp-content/uploads/2025/11/Ramsgate_KeysToSocietie_Resizes_2025_1200x600px.jpg
END:VEVENT
BEGIN:VEVENT
DTSTART;VALUE=DATE:20251121
DTEND;VALUE=DATE:20251122
DTSTAMP:20260420T103256
CREATED:20251108T235300Z
LAST-MODIFIED:20251125T235240Z
UID:10023698-1763683200-1763769599@clubengadine.com.au
SUMMARY:Keys to Societie
DESCRIPTION:$30\,000 in cash to be won!\n\nSwipe daily at the kiosk from Monday 10th November until Wednesday 17th December to receive VIRTUAL entries! \nPLUS Receive a BONUS entry each every Monday-Wednesday! \n**Important Information – No paper entries will be issued in this promotion** \nMinor Draws \n\n7:30pm\, 8pm & 8:30pm Wednesday 19th & 26th November and 3rd & 10th December 2025\n\n1 Key for the Major Draw + $300 cash to be won weekly at each Societie Group venue\n(Ramsgate RSL\, The Arbour Heathcote\, Fingal Bay Sports Club & Club & Engadine RSL) \nMajor Draw \nHeld at Ramsgate RSL with LIVE Broadcast from all Societie Group venues \n\nFrom 7:30pm 17th December 2025\n\n1 final Key to be won at each venue prior to the major prize giveaway PLUS 1 x $20\,000 cash prize and 23 x $250 cash runner-up prizes to be won! \nYou must be present at the draws for the chance to win. \nTerms & Conditions apply and are available on request from Club Reception at each Societie Group venue. \nThis Promotion is part of the Societie Rewards loyalty program.\nHelp is close at hand. Call GambleAware 1800 858 858. www.gambleware.nsw.gov.au\nPlayer activity statements are available on request.
URL:https://clubengadine.com.au/event/keys-to-societie/2025-11-21/
CATEGORIES:Promotion & Raffles,Special Events
ATTACH;FMTTYPE=image/jpeg:https://clubengadine.com.au/wp-content/uploads/2025/11/Ramsgate_KeysToSocietie_Resizes_2025_1200x600px.jpg
END:VEVENT
BEGIN:VEVENT
DTSTART;TZID=Australia/Sydney:20251121T180000
DTEND;TZID=Australia/Sydney:20251121T200000
DTSTAMP:20260420T103256
CREATED:20250220T034851Z
LAST-MODIFIED:20260113T042755Z
UID:10021297-1763748000-1763755200@clubengadine.com.au
SUMMARY:Members Cocktail Happy Hour
DESCRIPTION:Members! Join us every Friday for our Cocktail Happy Hour(s)!\nAll cocktails from the menu $12 each from 6pm – 8pm!\n\n\nClub Engadine practices the responsible service of alcohol
URL:https://clubengadine.com.au/event/members-cocktail-happy-hour/2025-11-21/
CATEGORIES:Promotion & Raffles,Special Events
ATTACH;FMTTYPE=image/png:https://clubengadine.com.au/wp-content/uploads/2025/02/TVL-2026-Weekly-whats-on-1200-x-600-px-10.png
END:VEVENT
BEGIN:VEVENT
DTSTART;TZID=Australia/Sydney:20251121T200000
DTEND;TZID=Australia/Sydney:20251121T230000
DTSTAMP:20260420T103256
CREATED:20250723T080144Z
LAST-MODIFIED:20251022T012548Z
UID:10023146-1763755200-1763766000@clubengadine.com.au
SUMMARY:FREE BAND NIGHT - Mad Tea Party
DESCRIPTION:Mad Tea Party is a local band covering songs from the 70s\, 80s and 90s. Pop on over to Club Engadine at 8pm to catch a one-of-a-kind performance!
URL:https://clubengadine.com.au/event/mad-tea-party/
CATEGORIES:Entertainment,Special Events
ATTACH;FMTTYPE=image/png:https://clubengadine.com.au/wp-content/uploads/2025/07/Mad-Tea-Party.png
END:VEVENT
BEGIN:VEVENT
DTSTART;VALUE=DATE:20251122
DTEND;VALUE=DATE:20251123
DTSTAMP:20260420T103256
CREATED:20251108T235300Z
LAST-MODIFIED:20251125T235240Z
UID:10023699-1763769600-1763855999@clubengadine.com.au
SUMMARY:Keys to Societie
DESCRIPTION:$30\,000 in cash to be won!\n\nSwipe daily at the kiosk from Monday 10th November until Wednesday 17th December to receive VIRTUAL entries! \nPLUS Receive a BONUS entry each every Monday-Wednesday! \n**Important Information – No paper entries will be issued in this promotion** \nMinor Draws \n\n7:30pm\, 8pm & 8:30pm Wednesday 19th & 26th November and 3rd & 10th December 2025\n\n1 Key for the Major Draw + $300 cash to be won weekly at each Societie Group venue\n(Ramsgate RSL\, The Arbour Heathcote\, Fingal Bay Sports Club & Club & Engadine RSL) \nMajor Draw \nHeld at Ramsgate RSL with LIVE Broadcast from all Societie Group venues \n\nFrom 7:30pm 17th December 2025\n\n1 final Key to be won at each venue prior to the major prize giveaway PLUS 1 x $20\,000 cash prize and 23 x $250 cash runner-up prizes to be won! \nYou must be present at the draws for the chance to win. \nTerms & Conditions apply and are available on request from Club Reception at each Societie Group venue. \nThis Promotion is part of the Societie Rewards loyalty program.\nHelp is close at hand. Call GambleAware 1800 858 858. www.gambleware.nsw.gov.au\nPlayer activity statements are available on request.
URL:https://clubengadine.com.au/event/keys-to-societie/2025-11-22/
CATEGORIES:Promotion & Raffles,Special Events
ATTACH;FMTTYPE=image/jpeg:https://clubengadine.com.au/wp-content/uploads/2025/11/Ramsgate_KeysToSocietie_Resizes_2025_1200x600px.jpg
END:VEVENT
BEGIN:VEVENT
DTSTART;VALUE=DATE:20251123
DTEND;VALUE=DATE:20251124
DTSTAMP:20260420T103256
CREATED:20251108T235300Z
LAST-MODIFIED:20251125T235240Z
UID:10023700-1763856000-1763942399@clubengadine.com.au
SUMMARY:Keys to Societie
DESCRIPTION:$30\,000 in cash to be won!\n\nSwipe daily at the kiosk from Monday 10th November until Wednesday 17th December to receive VIRTUAL entries! \nPLUS Receive a BONUS entry each every Monday-Wednesday! \n**Important Information – No paper entries will be issued in this promotion** \nMinor Draws \n\n7:30pm\, 8pm & 8:30pm Wednesday 19th & 26th November and 3rd & 10th December 2025\n\n1 Key for the Major Draw + $300 cash to be won weekly at each Societie Group venue\n(Ramsgate RSL\, The Arbour Heathcote\, Fingal Bay Sports Club & Club & Engadine RSL) \nMajor Draw \nHeld at Ramsgate RSL with LIVE Broadcast from all Societie Group venues \n\nFrom 7:30pm 17th December 2025\n\n1 final Key to be won at each venue prior to the major prize giveaway PLUS 1 x $20\,000 cash prize and 23 x $250 cash runner-up prizes to be won! \nYou must be present at the draws for the chance to win. \nTerms & Conditions apply and are available on request from Club Reception at each Societie Group venue. \nThis Promotion is part of the Societie Rewards loyalty program.\nHelp is close at hand. Call GambleAware 1800 858 858. www.gambleware.nsw.gov.au\nPlayer activity statements are available on request.
URL:https://clubengadine.com.au/event/keys-to-societie/2025-11-23/
CATEGORIES:Promotion & Raffles,Special Events
ATTACH;FMTTYPE=image/jpeg:https://clubengadine.com.au/wp-content/uploads/2025/11/Ramsgate_KeysToSocietie_Resizes_2025_1200x600px.jpg
END:VEVENT
END:VCALENDAR