BEGIN:VCALENDAR
VERSION:2.0
PRODID:-//Club Engadine RSL - ECPv6.15.20//NONSGML v1.0//EN
CALSCALE:GREGORIAN
METHOD:PUBLISH
X-WR-CALNAME:Club Engadine RSL
X-ORIGINAL-URL:https://clubengadine.com.au
X-WR-CALDESC:Events for Club Engadine RSL
REFRESH-INTERVAL;VALUE=DURATION:PT1H
X-Robots-Tag:noindex
X-PUBLISHED-TTL:PT1H
BEGIN:VTIMEZONE
TZID:Australia/Sydney
BEGIN:STANDARD
TZOFFSETFROM:+1100
TZOFFSETTO:+1000
TZNAME:AEST
DTSTART:20240406T160000
END:STANDARD
BEGIN:DAYLIGHT
TZOFFSETFROM:+1000
TZOFFSETTO:+1100
TZNAME:AEDT
DTSTART:20241005T160000
END:DAYLIGHT
BEGIN:STANDARD
TZOFFSETFROM:+1100
TZOFFSETTO:+1000
TZNAME:AEST
DTSTART:20250405T160000
END:STANDARD
BEGIN:DAYLIGHT
TZOFFSETFROM:+1000
TZOFFSETTO:+1100
TZNAME:AEDT
DTSTART:20251004T160000
END:DAYLIGHT
BEGIN:STANDARD
TZOFFSETFROM:+1100
TZOFFSETTO:+1000
TZNAME:AEST
DTSTART:20260404T160000
END:STANDARD
BEGIN:DAYLIGHT
TZOFFSETFROM:+1000
TZOFFSETTO:+1100
TZNAME:AEDT
DTSTART:20261003T160000
END:DAYLIGHT
END:VTIMEZONE
BEGIN:VEVENT
DTSTART;VALUE=DATE:20251124
DTEND;VALUE=DATE:20251125
DTSTAMP:20260420T053543
CREATED:20251108T235300Z
LAST-MODIFIED:20251125T235240Z
UID:10023701-1763942400-1764028799@clubengadine.com.au
SUMMARY:Keys to Societie
DESCRIPTION:$30\,000 in cash to be won!\n\nSwipe daily at the kiosk from Monday 10th November until Wednesday 17th December to receive VIRTUAL entries! \nPLUS Receive a BONUS entry each every Monday-Wednesday! \n**Important Information – No paper entries will be issued in this promotion** \nMinor Draws \n\n7:30pm\, 8pm & 8:30pm Wednesday 19th & 26th November and 3rd & 10th December 2025\n\n1 Key for the Major Draw + $300 cash to be won weekly at each Societie Group venue\n(Ramsgate RSL\, The Arbour Heathcote\, Fingal Bay Sports Club & Club & Engadine RSL) \nMajor Draw \nHeld at Ramsgate RSL with LIVE Broadcast from all Societie Group venues \n\nFrom 7:30pm 17th December 2025\n\n1 final Key to be won at each venue prior to the major prize giveaway PLUS 1 x $20\,000 cash prize and 23 x $250 cash runner-up prizes to be won! \nYou must be present at the draws for the chance to win. \nTerms & Conditions apply and are available on request from Club Reception at each Societie Group venue. \nThis Promotion is part of the Societie Rewards loyalty program.\nHelp is close at hand. Call GambleAware 1800 858 858. www.gambleware.nsw.gov.au\nPlayer activity statements are available on request.
URL:https://clubengadine.com.au/event/keys-to-societie/2025-11-24/
CATEGORIES:Promotion & Raffles,Special Events
ATTACH;FMTTYPE=image/jpeg:https://clubengadine.com.au/wp-content/uploads/2025/11/Ramsgate_KeysToSocietie_Resizes_2025_1200x600px.jpg
END:VEVENT
BEGIN:VEVENT
DTSTART;VALUE=DATE:20251125
DTEND;VALUE=DATE:20251126
DTSTAMP:20260420T053543
CREATED:20251108T235300Z
LAST-MODIFIED:20251125T235240Z
UID:10023702-1764028800-1764115199@clubengadine.com.au
SUMMARY:Keys to Societie
DESCRIPTION:$30\,000 in cash to be won!\n\nSwipe daily at the kiosk from Monday 10th November until Wednesday 17th December to receive VIRTUAL entries! \nPLUS Receive a BONUS entry each every Monday-Wednesday! \n**Important Information – No paper entries will be issued in this promotion** \nMinor Draws \n\n7:30pm\, 8pm & 8:30pm Wednesday 19th & 26th November and 3rd & 10th December 2025\n\n1 Key for the Major Draw + $300 cash to be won weekly at each Societie Group venue\n(Ramsgate RSL\, The Arbour Heathcote\, Fingal Bay Sports Club & Club & Engadine RSL) \nMajor Draw \nHeld at Ramsgate RSL with LIVE Broadcast from all Societie Group venues \n\nFrom 7:30pm 17th December 2025\n\n1 final Key to be won at each venue prior to the major prize giveaway PLUS 1 x $20\,000 cash prize and 23 x $250 cash runner-up prizes to be won! \nYou must be present at the draws for the chance to win. \nTerms & Conditions apply and are available on request from Club Reception at each Societie Group venue. \nThis Promotion is part of the Societie Rewards loyalty program.\nHelp is close at hand. Call GambleAware 1800 858 858. www.gambleware.nsw.gov.au\nPlayer activity statements are available on request.
URL:https://clubengadine.com.au/event/keys-to-societie/2025-11-25/
CATEGORIES:Promotion & Raffles,Special Events
ATTACH;FMTTYPE=image/jpeg:https://clubengadine.com.au/wp-content/uploads/2025/11/Ramsgate_KeysToSocietie_Resizes_2025_1200x600px.jpg
END:VEVENT
BEGIN:VEVENT
DTSTART;VALUE=DATE:20251126
DTEND;VALUE=DATE:20251127
DTSTAMP:20260420T053543
CREATED:20251108T235300Z
LAST-MODIFIED:20251125T235240Z
UID:10023703-1764115200-1764201599@clubengadine.com.au
SUMMARY:Keys to Societie
DESCRIPTION:$30\,000 in cash to be won!\n\nSwipe daily at the kiosk from Monday 10th November until Wednesday 17th December to receive VIRTUAL entries! \nPLUS Receive a BONUS entry each every Monday-Wednesday! \n**Important Information – No paper entries will be issued in this promotion** \nMinor Draws \n\n7:30pm\, 8pm & 8:30pm Wednesday 19th & 26th November and 3rd & 10th December 2025\n\n1 Key for the Major Draw + $300 cash to be won weekly at each Societie Group venue\n(Ramsgate RSL\, The Arbour Heathcote\, Fingal Bay Sports Club & Club & Engadine RSL) \nMajor Draw \nHeld at Ramsgate RSL with LIVE Broadcast from all Societie Group venues \n\nFrom 7:30pm 17th December 2025\n\n1 final Key to be won at each venue prior to the major prize giveaway PLUS 1 x $20\,000 cash prize and 23 x $250 cash runner-up prizes to be won! \nYou must be present at the draws for the chance to win. \nTerms & Conditions apply and are available on request from Club Reception at each Societie Group venue. \nThis Promotion is part of the Societie Rewards loyalty program.\nHelp is close at hand. Call GambleAware 1800 858 858. www.gambleware.nsw.gov.au\nPlayer activity statements are available on request.
URL:https://clubengadine.com.au/event/keys-to-societie/2025-11-26/
CATEGORIES:Promotion & Raffles,Special Events
ATTACH;FMTTYPE=image/jpeg:https://clubengadine.com.au/wp-content/uploads/2025/11/Ramsgate_KeysToSocietie_Resizes_2025_1200x600px.jpg
END:VEVENT
BEGIN:VEVENT
DTSTART;VALUE=DATE:20251127
DTEND;VALUE=DATE:20251128
DTSTAMP:20260420T053543
CREATED:20251108T235300Z
LAST-MODIFIED:20251125T235240Z
UID:10023704-1764201600-1764287999@clubengadine.com.au
SUMMARY:Keys to Societie
DESCRIPTION:$30\,000 in cash to be won!\n\nSwipe daily at the kiosk from Monday 10th November until Wednesday 17th December to receive VIRTUAL entries! \nPLUS Receive a BONUS entry each every Monday-Wednesday! \n**Important Information – No paper entries will be issued in this promotion** \nMinor Draws \n\n7:30pm\, 8pm & 8:30pm Wednesday 19th & 26th November and 3rd & 10th December 2025\n\n1 Key for the Major Draw + $300 cash to be won weekly at each Societie Group venue\n(Ramsgate RSL\, The Arbour Heathcote\, Fingal Bay Sports Club & Club & Engadine RSL) \nMajor Draw \nHeld at Ramsgate RSL with LIVE Broadcast from all Societie Group venues \n\nFrom 7:30pm 17th December 2025\n\n1 final Key to be won at each venue prior to the major prize giveaway PLUS 1 x $20\,000 cash prize and 23 x $250 cash runner-up prizes to be won! \nYou must be present at the draws for the chance to win. \nTerms & Conditions apply and are available on request from Club Reception at each Societie Group venue. \nThis Promotion is part of the Societie Rewards loyalty program.\nHelp is close at hand. Call GambleAware 1800 858 858. www.gambleware.nsw.gov.au\nPlayer activity statements are available on request.
URL:https://clubengadine.com.au/event/keys-to-societie/2025-11-27/
CATEGORIES:Promotion & Raffles,Special Events
ATTACH;FMTTYPE=image/jpeg:https://clubengadine.com.au/wp-content/uploads/2025/11/Ramsgate_KeysToSocietie_Resizes_2025_1200x600px.jpg
END:VEVENT
BEGIN:VEVENT
DTSTART;TZID=Australia/Sydney:20251127T140000
DTEND;TZID=Australia/Sydney:20251127T160000
DTSTAMP:20260420T053543
CREATED:20251010T011951Z
LAST-MODIFIED:20251010T013020Z
UID:10023660-1764252000-1764259200@clubengadine.com.au
SUMMARY:The Beach Boys Show
DESCRIPTION:Experience the sun-soaked harmonies and timeless hits of surf rock legends! Join us for a high-energy tribute show packed with favorites like “Surfin’ USA\,” “California Girls\,” “Good Vibrations\,” and more. With driving guitar riffs\, lush vocal harmonies\, and nostalgic flair\, this performance captures the classic Beach Boys sound—and brings the golden era of summer and surf straight to the stage. \nGrab your tickets today! \nBOOK NOW \n 
URL:https://clubengadine.com.au/event/the-beach-boys-show/
CATEGORIES:Entertainment,Special Events
ATTACH;FMTTYPE=image/png:https://clubengadine.com.au/wp-content/uploads/2025/10/TV-Screens-June-2025-to.-1080-x-1920-px-1200-x-600-px.png
END:VEVENT
BEGIN:VEVENT
DTSTART;VALUE=DATE:20251128
DTEND;VALUE=DATE:20251129
DTSTAMP:20260420T053543
CREATED:20251108T235300Z
LAST-MODIFIED:20251125T235240Z
UID:10023705-1764288000-1764374399@clubengadine.com.au
SUMMARY:Keys to Societie
DESCRIPTION:$30\,000 in cash to be won!\n\nSwipe daily at the kiosk from Monday 10th November until Wednesday 17th December to receive VIRTUAL entries! \nPLUS Receive a BONUS entry each every Monday-Wednesday! \n**Important Information – No paper entries will be issued in this promotion** \nMinor Draws \n\n7:30pm\, 8pm & 8:30pm Wednesday 19th & 26th November and 3rd & 10th December 2025\n\n1 Key for the Major Draw + $300 cash to be won weekly at each Societie Group venue\n(Ramsgate RSL\, The Arbour Heathcote\, Fingal Bay Sports Club & Club & Engadine RSL) \nMajor Draw \nHeld at Ramsgate RSL with LIVE Broadcast from all Societie Group venues \n\nFrom 7:30pm 17th December 2025\n\n1 final Key to be won at each venue prior to the major prize giveaway PLUS 1 x $20\,000 cash prize and 23 x $250 cash runner-up prizes to be won! \nYou must be present at the draws for the chance to win. \nTerms & Conditions apply and are available on request from Club Reception at each Societie Group venue. \nThis Promotion is part of the Societie Rewards loyalty program.\nHelp is close at hand. Call GambleAware 1800 858 858. www.gambleware.nsw.gov.au\nPlayer activity statements are available on request.
URL:https://clubengadine.com.au/event/keys-to-societie/2025-11-28/
CATEGORIES:Promotion & Raffles,Special Events
ATTACH;FMTTYPE=image/jpeg:https://clubengadine.com.au/wp-content/uploads/2025/11/Ramsgate_KeysToSocietie_Resizes_2025_1200x600px.jpg
END:VEVENT
BEGIN:VEVENT
DTSTART;TZID=Australia/Sydney:20251128T180000
DTEND;TZID=Australia/Sydney:20251128T200000
DTSTAMP:20260420T053543
CREATED:20250220T034851Z
LAST-MODIFIED:20260113T042755Z
UID:10021298-1764352800-1764360000@clubengadine.com.au
SUMMARY:Members Cocktail Happy Hour
DESCRIPTION:Members! Join us every Friday for our Cocktail Happy Hour(s)!\nAll cocktails from the menu $12 each from 6pm – 8pm!\n\n\nClub Engadine practices the responsible service of alcohol
URL:https://clubengadine.com.au/event/members-cocktail-happy-hour/2025-11-28/
CATEGORIES:Promotion & Raffles,Special Events
ATTACH;FMTTYPE=image/png:https://clubengadine.com.au/wp-content/uploads/2025/02/TVL-2026-Weekly-whats-on-1200-x-600-px-10.png
END:VEVENT
BEGIN:VEVENT
DTSTART;VALUE=DATE:20251129
DTEND;VALUE=DATE:20251130
DTSTAMP:20260420T053543
CREATED:20251108T235300Z
LAST-MODIFIED:20251125T235240Z
UID:10023706-1764374400-1764460799@clubengadine.com.au
SUMMARY:Keys to Societie
DESCRIPTION:$30\,000 in cash to be won!\n\nSwipe daily at the kiosk from Monday 10th November until Wednesday 17th December to receive VIRTUAL entries! \nPLUS Receive a BONUS entry each every Monday-Wednesday! \n**Important Information – No paper entries will be issued in this promotion** \nMinor Draws \n\n7:30pm\, 8pm & 8:30pm Wednesday 19th & 26th November and 3rd & 10th December 2025\n\n1 Key for the Major Draw + $300 cash to be won weekly at each Societie Group venue\n(Ramsgate RSL\, The Arbour Heathcote\, Fingal Bay Sports Club & Club & Engadine RSL) \nMajor Draw \nHeld at Ramsgate RSL with LIVE Broadcast from all Societie Group venues \n\nFrom 7:30pm 17th December 2025\n\n1 final Key to be won at each venue prior to the major prize giveaway PLUS 1 x $20\,000 cash prize and 23 x $250 cash runner-up prizes to be won! \nYou must be present at the draws for the chance to win. \nTerms & Conditions apply and are available on request from Club Reception at each Societie Group venue. \nThis Promotion is part of the Societie Rewards loyalty program.\nHelp is close at hand. Call GambleAware 1800 858 858. www.gambleware.nsw.gov.au\nPlayer activity statements are available on request.
URL:https://clubengadine.com.au/event/keys-to-societie/2025-11-29/
CATEGORIES:Promotion & Raffles,Special Events
ATTACH;FMTTYPE=image/jpeg:https://clubengadine.com.au/wp-content/uploads/2025/11/Ramsgate_KeysToSocietie_Resizes_2025_1200x600px.jpg
END:VEVENT
BEGIN:VEVENT
DTSTART;VALUE=DATE:20251130
DTEND;VALUE=DATE:20251201
DTSTAMP:20260420T053543
CREATED:20251108T235300Z
LAST-MODIFIED:20251125T235240Z
UID:10023707-1764460800-1764547199@clubengadine.com.au
SUMMARY:Keys to Societie
DESCRIPTION:$30\,000 in cash to be won!\n\nSwipe daily at the kiosk from Monday 10th November until Wednesday 17th December to receive VIRTUAL entries! \nPLUS Receive a BONUS entry each every Monday-Wednesday! \n**Important Information – No paper entries will be issued in this promotion** \nMinor Draws \n\n7:30pm\, 8pm & 8:30pm Wednesday 19th & 26th November and 3rd & 10th December 2025\n\n1 Key for the Major Draw + $300 cash to be won weekly at each Societie Group venue\n(Ramsgate RSL\, The Arbour Heathcote\, Fingal Bay Sports Club & Club & Engadine RSL) \nMajor Draw \nHeld at Ramsgate RSL with LIVE Broadcast from all Societie Group venues \n\nFrom 7:30pm 17th December 2025\n\n1 final Key to be won at each venue prior to the major prize giveaway PLUS 1 x $20\,000 cash prize and 23 x $250 cash runner-up prizes to be won! \nYou must be present at the draws for the chance to win. \nTerms & Conditions apply and are available on request from Club Reception at each Societie Group venue. \nThis Promotion is part of the Societie Rewards loyalty program.\nHelp is close at hand. Call GambleAware 1800 858 858. www.gambleware.nsw.gov.au\nPlayer activity statements are available on request.
URL:https://clubengadine.com.au/event/keys-to-societie/2025-11-30/
CATEGORIES:Promotion & Raffles,Special Events
ATTACH;FMTTYPE=image/jpeg:https://clubengadine.com.au/wp-content/uploads/2025/11/Ramsgate_KeysToSocietie_Resizes_2025_1200x600px.jpg
END:VEVENT
END:VCALENDAR