BEGIN:VCALENDAR
VERSION:2.0
PRODID:-//Club Engadine RSL - ECPv6.15.20//NONSGML v1.0//EN
CALSCALE:GREGORIAN
METHOD:PUBLISH
X-WR-CALNAME:Club Engadine RSL
X-ORIGINAL-URL:https://clubengadine.com.au
X-WR-CALDESC:Events for Club Engadine RSL
REFRESH-INTERVAL;VALUE=DURATION:PT1H
X-Robots-Tag:noindex
X-PUBLISHED-TTL:PT1H
BEGIN:VTIMEZONE
TZID:Australia/Sydney
BEGIN:STANDARD
TZOFFSETFROM:+1100
TZOFFSETTO:+1000
TZNAME:AEST
DTSTART:20240406T160000
END:STANDARD
BEGIN:DAYLIGHT
TZOFFSETFROM:+1000
TZOFFSETTO:+1100
TZNAME:AEDT
DTSTART:20241005T160000
END:DAYLIGHT
BEGIN:STANDARD
TZOFFSETFROM:+1100
TZOFFSETTO:+1000
TZNAME:AEST
DTSTART:20250405T160000
END:STANDARD
BEGIN:DAYLIGHT
TZOFFSETFROM:+1000
TZOFFSETTO:+1100
TZNAME:AEDT
DTSTART:20251004T160000
END:DAYLIGHT
BEGIN:STANDARD
TZOFFSETFROM:+1100
TZOFFSETTO:+1000
TZNAME:AEST
DTSTART:20260404T160000
END:STANDARD
BEGIN:DAYLIGHT
TZOFFSETFROM:+1000
TZOFFSETTO:+1100
TZNAME:AEDT
DTSTART:20261003T160000
END:DAYLIGHT
END:VTIMEZONE
BEGIN:VEVENT
DTSTART;VALUE=DATE:20250311
DTEND;VALUE=DATE:20250312
DTSTAMP:20260422T180128
CREATED:20250218T100858Z
LAST-MODIFIED:20250218T100858Z
UID:10021247-1741651200-1741737599@clubengadine.com.au
SUMMARY:Members March Special - Lobster Mornay
DESCRIPTION:1/2 Lobster Mornay served with chips & salad\nOnly $20 for Members\nAvailable Sunday to Tuesday for Lunch & Dinner \n  \n  \nNO SUBSTITUTIONS | DINE IN ONLY | GUEST PRICE $35 | ONLY AVAILABLE DURING THE MONTH OF MARCH
URL:https://clubengadine.com.au/event/members-march-special-lobster-mornay/2025-03-11/
CATEGORIES:Mike's Grill Specials,Special Events
ATTACH;FMTTYPE=image/jpeg:https://clubengadine.com.au/wp-content/uploads/2025/02/Seafood-1200-x-600-px.jpg
END:VEVENT
BEGIN:VEVENT
DTSTART;VALUE=DATE:20250311
DTEND;VALUE=DATE:20250312
DTSTAMP:20260422T180128
CREATED:20250220T230059Z
LAST-MODIFIED:20250226T054117Z
UID:10021927-1741651200-1741737599@clubengadine.com.au
SUMMARY:Members FREE Footy Tipping
DESCRIPTION:$650 Bonus Points Prize Pool!\n\n1st Prize $300 points\n2nd Prize $200 points\n3rd Prize $150 points\n\n  \nTo enter\, simply swipe your members card at our footy tipping kiosk before kickoff of the first game in round 1 (Sunday 2nd March | 11am). \n  \nTerms & Conditions apply. See our Club Reception for more details
URL:https://clubengadine.com.au/event/members-free-footy-tipping-2/2025-03-11/
CATEGORIES:Promotion & Raffles,Special Events
ATTACH;FMTTYPE=image/jpeg:https://clubengadine.com.au/wp-content/uploads/2025/02/ClubEngadine_Footy-Tipping_0125-WEBSLIDE.jpg
END:VEVENT
BEGIN:VEVENT
DTSTART;VALUE=DATE:20250311
DTEND;VALUE=DATE:20250312
DTSTAMP:20260422T180128
CREATED:20250302T222830Z
LAST-MODIFIED:20250302T222959Z
UID:10021944-1741651200-1741737599@clubengadine.com.au
SUMMARY:Schools Matter 2025 - APPLICATIONS NOW OPEN!
DESCRIPTION:Schools Matter 2025 – Feeding Local Projects\n\nWe’re looking for local school projects to support and will be giving away $6\,000! \nHow Does it Work? \nThree schools in our local community will win a share of $6\,000 to support their projects that fall under our the Societie Matters Program framework; \n**Community Awareness and Respecting our Environment** \nKey Dates: \n\nApplications OPEN Monday 24th February 2025\nApplications CLOSE Friday 28th March 2025\nVoting to occur through 7th April to 27th April 2025\nWinners Announced W.C 28th April 2025\n\n\nThe voting process will involve 3 shortlisted school projects whereby dining at Club Engadine RSL and The Arbour Heathcote restaurants will be included as part of the voting process. Simply spend $20 to receive a token to place a vote for your preferred school. \nDOWNLOAD APPLICATION FORM HERE
URL:https://clubengadine.com.au/event/schools-matter-2025-applications-now-open/2025-03-11/
CATEGORIES:Special Events
ATTACH;FMTTYPE=image/jpeg:https://clubengadine.com.au/wp-content/uploads/2025/03/500x400-School-Care-Project-2025_Web-Tile-scaled.jpg
END:VEVENT
BEGIN:VEVENT
DTSTART;VALUE=DATE:20250311
DTEND;VALUE=DATE:20250312
DTSTAMP:20260422T180128
CREATED:20250303T085930Z
LAST-MODIFIED:20250305T020122Z
UID:10021970-1741651200-1741737599@clubengadine.com.au
SUMMARY:CUSTOMER SATISFACTION SURVEY
DESCRIPTION:WE WANT TO HEAR FROM YOU! \nWe at Club Engadine RSL are committed to providing you with the best possible guest experience. We invite you to take part of a short Customer Satisfaction Survey to assist us in understanding your expectations and enable us to improve the quality of our service in 2025 and beyond. \nThe survey will take approximately 10 minutes of your time. Complete before 6th April 2025 & you’ll go into the Draw to WIN a $250 VISA GIFT CARD! \nSimply visit click here to undertake the survey
URL:https://clubengadine.com.au/event/customer-satisfaction-survey/2025-03-11/
CATEGORIES:Promotion & Raffles,Special Events
ATTACH;FMTTYPE=image/jpeg:https://clubengadine.com.au/wp-content/uploads/2025/03/1200x600-Customer-Satisfaction_Web-Slide.jpg
END:VEVENT
BEGIN:VEVENT
DTSTART;TZID=Australia/Sydney:20250311T103000
DTEND;TZID=Australia/Sydney:20250311T123000
DTSTAMP:20260422T180128
CREATED:20240722T134451Z
LAST-MODIFIED:20260113T040504Z
UID:10014325-1741689000-1741696200@clubengadine.com.au
SUMMARY:Bingo
DESCRIPTION:$500 in prizes to be won every Monday\, Tuesday & Wednesday \nPlus with every game played you have the chance of winning the Bingo Deluxe Jackpot! \nBooks from $5 | Eyes down 10.30am
URL:https://clubengadine.com.au/event/bingo/2025-03-11/
CATEGORIES:Bingo & Cash Housie
ATTACH;FMTTYPE=image/png:https://clubengadine.com.au/wp-content/uploads/2024/07/TVL-2026-Weekly-whats-on-1200-x-600-px-4.png
END:VEVENT
BEGIN:VEVENT
DTSTART;TZID=Australia/Sydney:20250311T150000
DTEND;TZID=Australia/Sydney:20250311T180000
DTSTAMP:20260422T180128
CREATED:20250102T052925Z
LAST-MODIFIED:20251031T011511Z
UID:10016402-1741705200-1741716000@clubengadine.com.au
SUMMARY:Members Happy Hour
DESCRIPTION:Join us for Members Happy Hour! One hour just wasn’t enough so we have tripled it! \nMonday to Friday \n3pm – 6pm \nSchooners & House Wine from $5
URL:https://clubengadine.com.au/event/members-happy-hour/2025-03-11/
CATEGORIES:Special Events
ATTACH;FMTTYPE=image/jpeg:https://clubengadine.com.au/wp-content/uploads/2025/01/ClubEngadine_MembersHappyHour_WEBSLIDE.jpg
END:VEVENT
BEGIN:VEVENT
DTSTART;TZID=Australia/Sydney:20250311T173000
DTEND;TZID=Australia/Sydney:20250311T203000
DTSTAMP:20260422T180128
CREATED:20250114T234432Z
LAST-MODIFIED:20250115T002307Z
UID:10020956-1741714200-1741725000@clubengadine.com.au
SUMMARY:Steak Night
DESCRIPTION:Join us on Tuesday night for our Steak special!\n250g Black Angus Rump cooked to your likingserved with chips & salad and choice of gravy\nONLY $18 for MEMBERS!\n\n\nSpecials may not be available on special event nights or public holiday
URL:https://clubengadine.com.au/event/steak-night/2025-03-11/
CATEGORIES:Mike's Grill Specials
ATTACH;FMTTYPE=image/png:https://clubengadine.com.au/wp-content/uploads/2025/01/4.png
END:VEVENT
BEGIN:VEVENT
DTSTART;VALUE=DATE:20250312
DTEND;VALUE=DATE:20250313
DTSTAMP:20260422T180128
CREATED:20240722T120719Z
LAST-MODIFIED:20260113T035748Z
UID:10010059-1741737600-1741823999@clubengadine.com.au
SUMMARY:Poker
DESCRIPTION:Every Wednesday & Sunday \nWednesday from 7pm\nProgressive bounty on offer $100-$2000 each game \n$15 entry with a $10 add on. Starting stack 30k Tournament Chips \nSunday from 2pm\nProgressive bounty on offer $100-$2000 each game \n$25 entry. Starting stack 50k Tournament Chips
URL:https://clubengadine.com.au/event/poker/2025-03-12/
CATEGORIES:Bingo & Cash Housie
ATTACH;FMTTYPE=image/png:https://clubengadine.com.au/wp-content/uploads/2024/07/TVL-2026-Weekly-whats-on-1200-x-600-px-6.png
END:VEVENT
BEGIN:VEVENT
DTSTART;VALUE=DATE:20250312
DTEND;VALUE=DATE:20250313
DTSTAMP:20260422T180128
CREATED:20240722T133731Z
LAST-MODIFIED:20260401T021512Z
UID:10018887-1741737600-1741823999@clubengadine.com.au
SUMMARY:Jackpot Joker
DESCRIPTION:FIND THE JOKER\, WIN THE JACKPOT! \nTo participate\, simply purchase $20 of raffle tickets from the bar. Pop your ticket in the barrel and be here for your chance to win! \nIf you pick the Joker card from the deck you will win the cash jackpot. \nT&C’s apply
URL:https://clubengadine.com.au/event/jackpot-joker/2025-03-12/
CATEGORIES:Promotion & Raffles
ATTACH;FMTTYPE=image/webp:https://clubengadine.com.au/wp-content/uploads/2024/07/Jackpot-Joker.webp
END:VEVENT
BEGIN:VEVENT
DTSTART;TZID=Australia/Sydney:20250312T173000
DTEND;TZID=Australia/Sydney:20250312T203000
DTSTAMP:20260422T180128
CREATED:20250114T232126Z
LAST-MODIFIED:20250114T232126Z
UID:10019916-1741800600-1741811400@clubengadine.com.au
SUMMARY:Schnitzel Night
DESCRIPTION:Wednesdays are Schnitzel Night!\nONLY $18 for MEMBERS\n300g Chicken Schnitzel served with chips & salad and your choice of gravy\n\n\n\nMay not be available on public holidays or special event nights
URL:https://clubengadine.com.au/event/schnitzel-night/2025-03-12/
CATEGORIES:Mike's Grill Specials
ATTACH;FMTTYPE=image/png:https://clubengadine.com.au/wp-content/uploads/2025/01/3.png
END:VEVENT
BEGIN:VEVENT
DTSTART;TZID=Australia/Sydney:20250312T183000
DTEND;TZID=Australia/Sydney:20250312T193000
DTSTAMP:20260422T180128
CREATED:20240722T121135Z
LAST-MODIFIED:20251013T010219Z
UID:10017717-1741804200-1741807800@clubengadine.com.au
SUMMARY:Members Marketplace Free Raffles
DESCRIPTION:FREE RAFFLES! Our Members will receive $10 of free raffle tickets every Wednesday for our Members Free Marketplace Raffles. With $800 worth of prizes to be won you don’t want to miss out! \nTo receive your tickets simply swipe your membership card at the kiosk\, receive your voucher for $10 of free raffle tickets and present it to the bar to claim. \nMembers must be on premises at time of draw to claim your prize. \nMembers are welcome to purchase extra tickets from the bar. Visitors are welcome to purchase tickets from the bar. \nT&C’s apply.
URL:https://clubengadine.com.au/event/members-marketplace-free-raffles/2025-03-12/
CATEGORIES:Promotion & Raffles
ATTACH;FMTTYPE=image/png:https://clubengadine.com.au/wp-content/uploads/2024/12/2025-webslides-1200-x-600-px-2.png
END:VEVENT
BEGIN:VEVENT
DTSTART;TZID=Australia/Sydney:20250312T193000
DTEND;TZID=Australia/Sydney:20250312T210000
DTSTAMP:20260422T180128
CREATED:20250226T054535Z
LAST-MODIFIED:20250319T044229Z
UID:10021933-1741807800-1741813200@clubengadine.com.au
SUMMARY:Plinko Prize Drop
DESCRIPTION:WIN UP TO $1000 EVERY WEDNESDAY IN MARCH \nJoin us for our March Members Promotion\nPLINKO PRIZE DROP\nSimply swipe your card daily at the Members kiosk from 26th February 2025 to receive your entry for the barrel & be here at the time of the draws for your chance to win!\n \nDraw Dates:\n5th\, 12th\, 19th & 26th March 2025\nDraw Times:\n7.30pm | 8pm | 8.30pm | 9pm \n \n  \nTerms & Conditions apply and are available on request from Club reception. Theis promotion is part of the Societie Rewards loyalty program. (Club Engadine RSL only).\nHelp is close at hand. Call Gambleaware 1800 858 858. www.gambleaware.nsw.gov.au\n  \n 
URL:https://clubengadine.com.au/event/plinko-prize-drop/2025-03-12/
CATEGORIES:Promotion & Raffles,Special Events
ATTACH;FMTTYPE=image/jpeg:https://clubengadine.com.au/wp-content/uploads/2025/02/CE_PlinkoPrizeDrop_WEBSLIDE.jpg
END:VEVENT
BEGIN:VEVENT
DTSTART;TZID=Australia/Sydney:20250313T173000
DTEND;TZID=Australia/Sydney:20250313T203000
DTSTAMP:20260422T180128
CREATED:20250114T232313Z
LAST-MODIFIED:20250114T232313Z
UID:10020177-1741887000-1741897800@clubengadine.com.au
SUMMARY:Parmi Night
DESCRIPTION:Parmi Night!\nChoose any Parmi from our Menu\, only $22 for Members!\nYou have a choice of….\n– Traditionaltopped with napoletana sauce\, shaved ham & melted mozzarella cheeseOR– BologneseTopped with bolognese sauce & melted mozzarella cheeseOR– MexicanTopped with spicy beef\, jalapenos\, melted mozzarella\, sour cream\, guacamole & corn chipsOR– GreekTopped with slow cooked lamb\, feta cheese\, melted mozzarella cheese & tzatzikiOR– LoadedTopped with bacon\, mushrooms\, jalapenos\, melted mozzarella & smoky bbq sauceOR– SpanishTopped with spanish onion\, chorizo sausage\, black olives & melted mozzarella cheese\n\nSpecials may not be available on public holidays or special event nights
URL:https://clubengadine.com.au/event/parmi-night/2025-03-13/
CATEGORIES:Mike's Grill Specials
ATTACH;FMTTYPE=image/png:https://clubengadine.com.au/wp-content/uploads/2025/01/2.png
END:VEVENT
BEGIN:VEVENT
DTSTART;TZID=Australia/Sydney:20250313T190000
DTEND;TZID=Australia/Sydney:20250313T210000
DTSTAMP:20260422T180128
CREATED:20240722T125639Z
LAST-MODIFIED:20260113T041816Z
UID:10011849-1741892400-1741899600@clubengadine.com.au
SUMMARY:Trivia
DESCRIPTION:Join us every Thursday night for Trivia! \nFree entry. Cash prizes to be won! \nFrom 7pm in the main lounge
URL:https://clubengadine.com.au/event/trivia/2025-03-13/
CATEGORIES:Bingo & Cash Housie
ATTACH;FMTTYPE=image/png:https://clubengadine.com.au/wp-content/uploads/2024/07/TVL-2026-Weekly-whats-on-1200-x-600-px-7.png
END:VEVENT
BEGIN:VEVENT
DTSTART;TZID=Australia/Sydney:20250314T180000
DTEND;TZID=Australia/Sydney:20250314T200000
DTSTAMP:20260422T180128
CREATED:20250220T034851Z
LAST-MODIFIED:20260113T042755Z
UID:10021261-1741975200-1741982400@clubengadine.com.au
SUMMARY:Members Cocktail Happy Hour
DESCRIPTION:Members! Join us every Friday for our Cocktail Happy Hour(s)!\nAll cocktails from the menu $12 each from 6pm – 8pm!\n\n\nClub Engadine practices the responsible service of alcohol
URL:https://clubengadine.com.au/event/members-cocktail-happy-hour/2025-03-14/
CATEGORIES:Promotion & Raffles,Special Events
ATTACH;FMTTYPE=image/png:https://clubengadine.com.au/wp-content/uploads/2025/02/TVL-2026-Weekly-whats-on-1200-x-600-px-10.png
END:VEVENT
BEGIN:VEVENT
DTSTART;TZID=Australia/Sydney:20250314T183000
DTEND;TZID=Australia/Sydney:20250314T193000
DTSTAMP:20260422T180128
CREATED:20241231T025851Z
LAST-MODIFIED:20251120T042018Z
UID:10017764-1741977000-1741980600@clubengadine.com.au
SUMMARY:Points & Protein Raffle
DESCRIPTION:Join us every Friday for our Points & Protein Raffle. \n20 x Meat Trays and $125 in Members Bonus Points to be won \nTickets on sale from 10am | Drawn from 6.30pm \n 
URL:https://clubengadine.com.au/event/points-protein-raffle/2025-03-14/
CATEGORIES:Promotion & Raffles
ATTACH;FMTTYPE=image/png:https://clubengadine.com.au/wp-content/uploads/2024/12/2025-webslides-1200-x-600-px-1.png
END:VEVENT
BEGIN:VEVENT
DTSTART;VALUE=DATE:20250316
DTEND;VALUE=DATE:20250317
DTSTAMP:20260422T180128
CREATED:20240722T121440Z
LAST-MODIFIED:20260113T035536Z
UID:10010806-1742083200-1742169599@clubengadine.com.au
SUMMARY:Poker
DESCRIPTION:Every Wednesday & Sunday \nWednesday from 7pm\nProgressive bounty on offer $100-$2000 each game \n$15 entry with a $10 add on. Starting stack 30k Tournament Chips \nSunday from 2pm\nProgressive bounty on offer $100-$2000 each game \n$25 entry. Starting stack 50k Tournament Chips
URL:https://clubengadine.com.au/event/poker-2/2025-03-16/
CATEGORIES:Bingo & Cash Housie
ATTACH;FMTTYPE=image/png:https://clubengadine.com.au/wp-content/uploads/2024/07/TVL-2026-Weekly-whats-on-1200-x-600-px-6.png
END:VEVENT
BEGIN:VEVENT
DTSTART;TZID=Australia/Sydney:20250316T113000
DTEND;TZID=Australia/Sydney:20250316T200000
DTSTAMP:20260422T180128
CREATED:20250114T232834Z
LAST-MODIFIED:20250825T034533Z
UID:10020439-1742124600-1742155200@clubengadine.com.au
SUMMARY:Kids Eat Free*
DESCRIPTION:Kids Eat FREE* All Day Sunday!\n\n*Bring the family in for Lunch OR Dinner and kids eat free with every paying adult of $20+. Excludes Kids Ribs.\n\n*Not available on public holidays\, Mothers Day or Fathers Day.
URL:https://clubengadine.com.au/event/kids-eat-free-2/2025-03-16/
CATEGORIES:Mike's Grill Specials
ATTACH;FMTTYPE=image/png:https://clubengadine.com.au/wp-content/uploads/2025/01/6.png
END:VEVENT
BEGIN:VEVENT
DTSTART;TZID=Australia/Sydney:20250316T180000
DTEND;TZID=Australia/Sydney:20250316T190000
DTSTAMP:20260422T180128
CREATED:20241231T030330Z
LAST-MODIFIED:20251120T041619Z
UID:10017861-1742148000-1742151600@clubengadine.com.au
SUMMARY:Sizzling Sundays Raffle
DESCRIPTION:Join us every Sunday for your chance to win one (or more) of 15 x Meat Trays OR 5 x $30 Members Bonus Points! \nTickets are on sale from 10am | Drawn from 6pm
URL:https://clubengadine.com.au/event/sizzling-sundays-raffle/2025-03-16/
CATEGORIES:Promotion & Raffles
ATTACH;FMTTYPE=image/png:https://clubengadine.com.au/wp-content/uploads/2024/12/2025-webslides-1200-x-600-px.png
END:VEVENT
BEGIN:VEVENT
DTSTART;TZID=Australia/Sydney:20250316T190000
DTEND;TZID=Australia/Sydney:20250316T193000
DTSTAMP:20260422T180128
CREATED:20240722T062323Z
LAST-MODIFIED:20260113T042212Z
UID:10009948-1742151600-1742153400@clubengadine.com.au
SUMMARY:Members Birthday Draw
DESCRIPTION:Swipe your Member card at our kiosk during the month of your birthday to receive your ticket for our birthday draw. \nWe are giving away $800 cash every 3rd Sunday of the month from 7pm! \n1st Prize $500 \n2nd Prize $200 \n3rd Prize $100 \nT&C’s apply. Must be present at time of draw to collect.
URL:https://clubengadine.com.au/event/members-birthday-draw/2025-03-16/
CATEGORIES:Promotion & Raffles
ATTACH;FMTTYPE=image/png:https://clubengadine.com.au/wp-content/uploads/2024/07/TVL-2026-Weekly-whats-on-1200-x-600-px-8.png
END:VEVENT
BEGIN:VEVENT
DTSTART;TZID=Australia/Sydney:20250316T190000
DTEND;TZID=Australia/Sydney:20250316T193000
DTSTAMP:20260422T180128
CREATED:20250309T205531Z
LAST-MODIFIED:20250309T205531Z
UID:10022362-1742151600-1742153400@clubengadine.com.au
SUMMARY:MEMBERS MONEY MADNESS
DESCRIPTION:Our Members Money Madness has jackpotted to $5000 and must be won this Sunday!\n  \n\n\n\n\n\n\n\nMembers Money Madness is held on Sundays from 7pm \nThe draw starts at $500 and jackpot by $500 weekly* until it reaches $5000 when it MUST BE WON!\nEntry is easy! You simply have to have used your members card at the Bar or at Mikes Grill within the 3months prior to the draw* \nBe here on Sunday from 7pm and if your Membership number is drawn then you will win the jackpot amount in Cash! \n  \n  \n  \n*Terms & Conditions are available at reception
URL:https://clubengadine.com.au/event/members-money-madness/
CATEGORIES:Promotion & Raffles,Special Events
ATTACH;FMTTYPE=image/png:https://clubengadine.com.au/wp-content/uploads/2025/03/CE-tv-screens-1200-x-600-px-2.png
END:VEVENT
BEGIN:VEVENT
DTSTART;TZID=Australia/Sydney:20250317T173000
DTEND;TZID=Australia/Sydney:20250317T203000
DTSTAMP:20260422T180128
CREATED:20250114T234333Z
LAST-MODIFIED:20250114T234333Z
UID:10020696-1742232600-1742243400@clubengadine.com.au
SUMMARY:Schnitzel & Pasta Night
DESCRIPTION:Join us every Monday for our Schnitzel & Pasta night!ONLY $17 for MEMBERS!\nYour choice of:300g Chicken Breast Schnitzelserved with chips & choice of gravyORSpaghetti Bolognesetraditional slow cooked bologneseORFettucine Vegetarianw/ olives\, mushrooms\, garlic\, capsicum & onions in a napoletana sauceORFettucine Boscaiolaw/ bacon\, mushrooms\, garlic\, shallots\, cream & white wine sauce
URL:https://clubengadine.com.au/event/schnitzel-pasta-night/2025-03-17/
CATEGORIES:Mike's Grill Specials
ATTACH;FMTTYPE=image/png:https://clubengadine.com.au/wp-content/uploads/2025/01/5.png
END:VEVENT
BEGIN:VEVENT
DTSTART;TZID=Australia/Sydney:20250321T200000
DTEND;TZID=Australia/Sydney:20250321T230000
DTSTAMP:20260422T180128
CREATED:20240722T115736Z
LAST-MODIFIED:20250321T034423Z
UID:10009994-1742587200-1742598000@clubengadine.com.au
SUMMARY:Steve Tonge
DESCRIPTION:Join Steve Tonge playing live in the main lounge from 8pm! \n  \nSteve is a long time member of Shannon Noll’s touring band and performed with Adam Brand and a huge list of Australia’s top artists. \nSteve Tonge has been performing in Australia and all around the world in Bars and Restaurants and has built up a large and versatile repetoire of music which allows him to cater for all walks of life and age demographics.
URL:https://clubengadine.com.au/event/tim-conlon/
CATEGORIES:Entertainment
ATTACH;FMTTYPE=image/png:https://clubengadine.com.au/wp-content/uploads/2024/07/CE-tv-screens-1200-x-600-px-4.png
END:VEVENT
BEGIN:VEVENT
DTSTART;TZID=Australia/Sydney:20250330T180000
DTEND;TZID=Australia/Sydney:20250330T190000
DTSTAMP:20260422T180128
CREATED:20250107T020510Z
LAST-MODIFIED:20260221T021418Z
UID:10017667-1743357600-1743361200@clubengadine.com.au
SUMMARY:Seafood Raffle
DESCRIPTION:Join us on the last Sunday of each month for our Seafood Raffle! \n$900 of seafood trays to be won! \nTickets on sale from 10am | Drawn from 6pm \n  \n 
URL:https://clubengadine.com.au/event/seafood-raffle/2025-03-30/
CATEGORIES:Promotion & Raffles
ATTACH;FMTTYPE=image/png:https://clubengadine.com.au/wp-content/uploads/2026/01/TVL-2026-Weekly-whats-on-1200-x-600-px-1.png
END:VEVENT
BEGIN:VEVENT
DTSTART;TZID=Australia/Sydney:20250406T110000
DTEND;TZID=Australia/Sydney:20250406T160000
DTSTAMP:20260422T180128
CREATED:20250321T034131Z
LAST-MODIFIED:20250321T034131Z
UID:10022364-1743937200-1743955200@clubengadine.com.au
SUMMARY:Tszyu v Spencer Super Welterweight Bout
DESCRIPTION:Australian boxing superstar Tim Tszyu is set to make his highly anticipated return to home soil\, taking on highly-rated American contender Joey Spencer in a massive showdown at Newcastle Entertainment Centre\n\n\nTszyu’s redemption arc in being a two-time World Champion begins in ‘Tszyucastle’\, the city that has become synonymous with his legendary family name. Be sure to witness his journey back to the very top against the highly touted\, two-time PBC Prospect of the Year\, Joey Spencer.\n\n\nWatch it LIVE LOUD & FREE on the big screen!
URL:https://clubengadine.com.au/event/tszyu-v-spencer-super-welterweight-bout/
CATEGORIES:Entertainment,Special Events
ATTACH;FMTTYPE=image/png:https://clubengadine.com.au/wp-content/uploads/2025/03/CE-tv-screens-1200-x-600-px-3.png
END:VEVENT
BEGIN:VEVENT
DTSTART;TZID=Australia/Sydney:20250410T140000
DTEND;TZID=Australia/Sydney:20250410T160000
DTSTAMP:20260422T180128
CREATED:20250218T045400Z
LAST-MODIFIED:20250311T235229Z
UID:10021242-1744293600-1744300800@clubengadine.com.au
SUMMARY:Yesterday's Heroes
DESCRIPTION:Elvis to John Lennon\, Roy Orbison to Tom Jones\, plus many other 60’s groups like Manfred Man\, Rolling Stones & the Easybeats. Not to forget the ladies of the 50’s & 60’s like Connie Francis\, Lulu\, Dusty Springfield and many more!\n  \nJoin us in the Everest Room on Thursday 10th April | 2pm for our Yesterday’s Heroes Show starring Bill & Darlene Croft! \nTickets Available online or at reception: Book Online Here \n$10 Early Bird Tickets available until 12.3.25 \nNormal Ticket Price $15 \n  \nThere will be no allocated seating for this event
URL:https://clubengadine.com.au/event/yesterdays-heroes/
CATEGORIES:Entertainment,Special Events
ATTACH;FMTTYPE=image/png:https://clubengadine.com.au/wp-content/uploads/2025/02/YESTERDAYS-HEROES-1200-x-600-px.png
END:VEVENT
BEGIN:VEVENT
DTSTART;VALUE=DATE:20250413
DTEND;VALUE=DATE:20250414
DTSTAMP:20260422T180128
CREATED:20250411T014135Z
LAST-MODIFIED:20250411T014135Z
UID:10022445-1744502400-1744588799@clubengadine.com.au
SUMMARY:Kids Eat Free
DESCRIPTION:Kids Eat Free* – Sunday to Wednesday during the school holidays!\nWith every Adult meal purchased over $20\nAvailable for lunch & dinner\n\n\n*Kids ribs not included
URL:https://clubengadine.com.au/event/kids-eat-free-3/2025-04-13/
CATEGORIES:Mike's Grill Specials,Special Events
ATTACH;FMTTYPE=image/png:https://clubengadine.com.au/wp-content/uploads/2025/04/CE-tv-screens-1200-x-600-px-9.png
END:VEVENT
BEGIN:VEVENT
DTSTART;TZID=Australia/Sydney:20250416T183000
DTEND;TZID=Australia/Sydney:20250416T193000
DTSTAMP:20260422T180128
CREATED:20250331T051041Z
LAST-MODIFIED:20250331T051041Z
UID:10022369-1744828200-1744831800@clubengadine.com.au
SUMMARY:Eggstravagant Easter Raffle
DESCRIPTION:Our Eggstravagant Easter raffle is back! With Meat trays & Easter Eggs to be won there is something for everyone! $1600 of prizes.\n\nTickets are on sale from 10am | Drawn from 6.30pm\n\n(This raffle will replace the Marketplace raffle)
URL:https://clubengadine.com.au/event/eggstravagant-easter-raffle/
CATEGORIES:Promotion & Raffles,Special Events
ATTACH;FMTTYPE=image/png:https://clubengadine.com.au/wp-content/uploads/2025/03/CE-tv-screens-1200-x-600-px-6.png
END:VEVENT
BEGIN:VEVENT
DTSTART;TZID=Australia/Sydney:20250417T100000
DTEND;TZID=Australia/Sydney:20250417T120000
DTSTAMP:20260422T180128
CREATED:20250325T035809Z
LAST-MODIFIED:20250325T035809Z
UID:10022368-1744884000-1744891200@clubengadine.com.au
SUMMARY:Kids Bingo - School Holiday Fun!
DESCRIPTION:Join us for some school holiday fun! Kids Bingo! Prizes to be won!\n\nDoors open 10am | Eyes down 10.30am\n\nTickets can be purchased from reception or online.\nTickets are $5 per player or purchase a $12 Kids Meal Deal and get the Bingo session PLUS a Kids meal from Mikes Grill*\n\nCLICK HERE TO BOOK SCHOOL HOLIDAY FUN!\n\nTickets for the bingo session can be purchased on the door.Kids Meal deal must be booked by the 16th April.\n\n*kids meal is valid on Thursday 17th April only. Kids ribs are not included. Valid for children 12 & under only
URL:https://clubengadine.com.au/event/kids-bingo-school-holiday-fun/
CATEGORIES:Bingo & Cash Housie,Entertainment,Special Events
ATTACH;FMTTYPE=image/png:https://clubengadine.com.au/wp-content/uploads/2025/03/CE-tv-screens-1200-x-600-px-5.png
END:VEVENT
BEGIN:VEVENT
DTSTART;TZID=Australia/Sydney:20250417T183000
DTEND;TZID=Australia/Sydney:20250417T193000
DTSTAMP:20260422T180128
CREATED:20250331T051201Z
LAST-MODIFIED:20250331T051201Z
UID:10022370-1744914600-1744918200@clubengadine.com.au
SUMMARY:Easter Seafood Raffle
DESCRIPTION:Join us for our Easter Seafood Raffle. $1800 of Seafood trays to be won!\n\nTickets on sale from 10am | Drawn from 6.30pm
URL:https://clubengadine.com.au/event/easter-seafood-raffle/
CATEGORIES:Promotion & Raffles,Special Events
ATTACH;FMTTYPE=image/jpeg:https://clubengadine.com.au/wp-content/uploads/2025/03/EasterSeafoodRaffle-Webslide-CERSL.jpg
END:VEVENT
END:VCALENDAR