BEGIN:VCALENDAR
VERSION:2.0
PRODID:-//Club Engadine RSL - ECPv6.15.20//NONSGML v1.0//EN
CALSCALE:GREGORIAN
METHOD:PUBLISH
X-WR-CALNAME:Club Engadine RSL
X-ORIGINAL-URL:https://clubengadine.com.au
X-WR-CALDESC:Events for Club Engadine RSL
REFRESH-INTERVAL;VALUE=DURATION:PT1H
X-Robots-Tag:noindex
X-PUBLISHED-TTL:PT1H
BEGIN:VTIMEZONE
TZID:Australia/Sydney
BEGIN:STANDARD
TZOFFSETFROM:+1100
TZOFFSETTO:+1000
TZNAME:AEST
DTSTART:20250405T160000
END:STANDARD
BEGIN:DAYLIGHT
TZOFFSETFROM:+1000
TZOFFSETTO:+1100
TZNAME:AEDT
DTSTART:20251004T160000
END:DAYLIGHT
BEGIN:STANDARD
TZOFFSETFROM:+1100
TZOFFSETTO:+1000
TZNAME:AEST
DTSTART:20260404T160000
END:STANDARD
BEGIN:DAYLIGHT
TZOFFSETFROM:+1000
TZOFFSETTO:+1100
TZNAME:AEDT
DTSTART:20261003T160000
END:DAYLIGHT
BEGIN:STANDARD
TZOFFSETFROM:+1100
TZOFFSETTO:+1000
TZNAME:AEST
DTSTART:20270403T160000
END:STANDARD
BEGIN:DAYLIGHT
TZOFFSETFROM:+1000
TZOFFSETTO:+1100
TZNAME:AEDT
DTSTART:20271002T160000
END:DAYLIGHT
END:VTIMEZONE
BEGIN:VEVENT
DTSTART;TZID=Australia/Sydney:20260522T200000
DTEND;TZID=Australia/Sydney:20260522T230000
DTSTAMP:20260420T220953
CREATED:20260419T224942Z
LAST-MODIFIED:20260420T000155Z
UID:10025940-1779480000-1779490800@clubengadine.com.au
SUMMARY:Rider and Blairy
DESCRIPTION:With smooth harmonies and a stripped-back acoustic style\, Rider & Blairy bring an intimate and captivating energy to every performance. Blending rich vocals with skilled guitar work\, the duo delivers a refined yet relaxed sound that resonates with audiences\, making them a standout act across Sydney’s live music scene. \n\n\n\n\n\n\n\n\n\nMain Lounge
URL:https://clubengadine.com.au/event/rider-and-blairy/
CATEGORIES:Entertainment
ATTACH;FMTTYPE=image/png:https://clubengadine.com.au/wp-content/uploads/2026/04/Untitled-design-43.png
END:VEVENT
BEGIN:VEVENT
DTSTART;TZID=Australia/Sydney:20260523T200000
DTEND;TZID=Australia/Sydney:20260523T230000
DTSTAMP:20260420T220953
CREATED:20260417T021658Z
LAST-MODIFIED:20260419T235411Z
UID:10025939-1779566400-1779577200@clubengadine.com.au
SUMMARY:Dora D
DESCRIPTION:Blessed with powerhouse vocals\, and performing with only the best musicians in Sydney\, Dora D encapsulates the term ‘crowd favorite’. Signed to Mushroom records at just 18\, Dora charted with her hit single Casanova Baby on her way to becoming one of Sydney’s most treasured performers. \nMain Lounge
URL:https://clubengadine.com.au/event/dora-d-3/
CATEGORIES:Entertainment
ATTACH;FMTTYPE=image/png:https://clubengadine.com.au/wp-content/uploads/2026/04/Untitled-design-42.png
END:VEVENT
BEGIN:VEVENT
DTSTART;TZID=Australia/Sydney:20260530T200000
DTEND;TZID=Australia/Sydney:20260530T230000
DTSTAMP:20260420T220953
CREATED:20260419T225128Z
LAST-MODIFIED:20260419T225128Z
UID:10025941-1780171200-1780182000@clubengadine.com.au
SUMMARY:Levent
DESCRIPTION:Blending smooth vocals with skilled guitar work\, he brings a versatile repertoire spanning from timeless classics of the 1950s to today’s pop and rock favourites\, making him a true crowd-pleaser across every stage he plays. \n\n\n\n\n\n\n\n\n\nMain Lounge
URL:https://clubengadine.com.au/event/levent/
CATEGORIES:Entertainment
ATTACH;FMTTYPE=image/png:https://clubengadine.com.au/wp-content/uploads/2026/04/Untitled-design-41.png
END:VEVENT
END:VCALENDAR