BEGIN:VCALENDAR
VERSION:2.0
PRODID:-//Club Engadine RSL - ECPv6.15.20//NONSGML v1.0//EN
CALSCALE:GREGORIAN
METHOD:PUBLISH
X-ORIGINAL-URL:https://clubengadine.com.au
X-WR-CALDESC:Events for Club Engadine RSL
REFRESH-INTERVAL;VALUE=DURATION:PT1H
X-Robots-Tag:noindex
X-PUBLISHED-TTL:PT1H
BEGIN:VTIMEZONE
TZID:Australia/Sydney
BEGIN:STANDARD
TZOFFSETFROM:+1100
TZOFFSETTO:+1000
TZNAME:AEST
DTSTART:20240406T160000
END:STANDARD
BEGIN:DAYLIGHT
TZOFFSETFROM:+1000
TZOFFSETTO:+1100
TZNAME:AEDT
DTSTART:20241005T160000
END:DAYLIGHT
BEGIN:STANDARD
TZOFFSETFROM:+1100
TZOFFSETTO:+1000
TZNAME:AEST
DTSTART:20250405T160000
END:STANDARD
BEGIN:DAYLIGHT
TZOFFSETFROM:+1000
TZOFFSETTO:+1100
TZNAME:AEDT
DTSTART:20251004T160000
END:DAYLIGHT
BEGIN:STANDARD
TZOFFSETFROM:+1100
TZOFFSETTO:+1000
TZNAME:AEST
DTSTART:20260404T160000
END:STANDARD
BEGIN:DAYLIGHT
TZOFFSETFROM:+1000
TZOFFSETTO:+1100
TZNAME:AEDT
DTSTART:20261003T160000
END:DAYLIGHT
END:VTIMEZONE
BEGIN:VEVENT
DTSTART;VALUE=DATE:20250407
DTEND;VALUE=DATE:20250408
DTSTAMP:20260422T153810
CREATED:20250303T085930Z
LAST-MODIFIED:20250305T020122Z
UID:10021997-1743984000-1744070399@clubengadine.com.au
SUMMARY:CUSTOMER SATISFACTION SURVEY
DESCRIPTION:WE WANT TO HEAR FROM YOU! \nWe at Club Engadine RSL are committed to providing you with the best possible guest experience. We invite you to take part of a short Customer Satisfaction Survey to assist us in understanding your expectations and enable us to improve the quality of our service in 2025 and beyond. \nThe survey will take approximately 10 minutes of your time. Complete before 6th April 2025 & you’ll go into the Draw to WIN a $250 VISA GIFT CARD! \nSimply visit click here to undertake the survey
URL:https://clubengadine.com.au/event/customer-satisfaction-survey/2025-04-07/
CATEGORIES:Promotion & Raffles,Special Events
ATTACH;FMTTYPE=image/jpeg:https://clubengadine.com.au/wp-content/uploads/2025/03/1200x600-Customer-Satisfaction_Web-Slide.jpg
END:VEVENT
BEGIN:VEVENT
DTSTART;TZID=Australia/Sydney:20250407T103000
DTEND;TZID=Australia/Sydney:20250407T123000
DTSTAMP:20260422T153810
CREATED:20240722T134451Z
LAST-MODIFIED:20260113T040504Z
UID:10014340-1744021800-1744029000@clubengadine.com.au
SUMMARY:Bingo
DESCRIPTION:$500 in prizes to be won every Monday\, Tuesday & Wednesday \nPlus with every game played you have the chance of winning the Bingo Deluxe Jackpot! \nBooks from $5 | Eyes down 10.30am
URL:https://clubengadine.com.au/event/bingo/2025-04-07/
CATEGORIES:Bingo & Cash Housie
ATTACH;FMTTYPE=image/png:https://clubengadine.com.au/wp-content/uploads/2024/07/TVL-2026-Weekly-whats-on-1200-x-600-px-4.png
END:VEVENT
BEGIN:VEVENT
DTSTART;TZID=Australia/Sydney:20250407T150000
DTEND;TZID=Australia/Sydney:20250407T180000
DTSTAMP:20260422T153810
CREATED:20250102T052925Z
LAST-MODIFIED:20251031T011511Z
UID:10016421-1744038000-1744048800@clubengadine.com.au
SUMMARY:Members Happy Hour
DESCRIPTION:Join us for Members Happy Hour! One hour just wasn’t enough so we have tripled it! \nMonday to Friday \n3pm – 6pm \nSchooners & House Wine from $5
URL:https://clubengadine.com.au/event/members-happy-hour/2025-04-07/
CATEGORIES:Special Events
ATTACH;FMTTYPE=image/jpeg:https://clubengadine.com.au/wp-content/uploads/2025/01/ClubEngadine_MembersHappyHour_WEBSLIDE.jpg
END:VEVENT
BEGIN:VEVENT
DTSTART;TZID=Australia/Sydney:20250407T173000
DTEND;TZID=Australia/Sydney:20250407T203000
DTSTAMP:20260422T153810
CREATED:20250114T234333Z
LAST-MODIFIED:20250114T234333Z
UID:10020699-1744047000-1744057800@clubengadine.com.au
SUMMARY:Schnitzel & Pasta Night
DESCRIPTION:Join us every Monday for our Schnitzel & Pasta night!ONLY $17 for MEMBERS!\nYour choice of:300g Chicken Breast Schnitzelserved with chips & choice of gravyORSpaghetti Bolognesetraditional slow cooked bologneseORFettucine Vegetarianw/ olives\, mushrooms\, garlic\, capsicum & onions in a napoletana sauceORFettucine Boscaiolaw/ bacon\, mushrooms\, garlic\, shallots\, cream & white wine sauce
URL:https://clubengadine.com.au/event/schnitzel-pasta-night/2025-04-07/
CATEGORIES:Mike's Grill Specials
ATTACH;FMTTYPE=image/png:https://clubengadine.com.au/wp-content/uploads/2025/01/5.png
END:VEVENT
BEGIN:VEVENT
DTSTART;VALUE=DATE:20250408
DTEND;VALUE=DATE:20250409
DTSTAMP:20260422T153810
CREATED:20250303T085930Z
LAST-MODIFIED:20250305T020122Z
UID:10021998-1744070400-1744156799@clubengadine.com.au
SUMMARY:CUSTOMER SATISFACTION SURVEY
DESCRIPTION:WE WANT TO HEAR FROM YOU! \nWe at Club Engadine RSL are committed to providing you with the best possible guest experience. We invite you to take part of a short Customer Satisfaction Survey to assist us in understanding your expectations and enable us to improve the quality of our service in 2025 and beyond. \nThe survey will take approximately 10 minutes of your time. Complete before 6th April 2025 & you’ll go into the Draw to WIN a $250 VISA GIFT CARD! \nSimply visit click here to undertake the survey
URL:https://clubengadine.com.au/event/customer-satisfaction-survey/2025-04-08/
CATEGORIES:Promotion & Raffles,Special Events
ATTACH;FMTTYPE=image/jpeg:https://clubengadine.com.au/wp-content/uploads/2025/03/1200x600-Customer-Satisfaction_Web-Slide.jpg
END:VEVENT
BEGIN:VEVENT
DTSTART;TZID=Australia/Sydney:20250408T103000
DTEND;TZID=Australia/Sydney:20250408T123000
DTSTAMP:20260422T153810
CREATED:20240722T134451Z
LAST-MODIFIED:20260113T040504Z
UID:10014341-1744108200-1744115400@clubengadine.com.au
SUMMARY:Bingo
DESCRIPTION:$500 in prizes to be won every Monday\, Tuesday & Wednesday \nPlus with every game played you have the chance of winning the Bingo Deluxe Jackpot! \nBooks from $5 | Eyes down 10.30am
URL:https://clubengadine.com.au/event/bingo/2025-04-08/
CATEGORIES:Bingo & Cash Housie
ATTACH;FMTTYPE=image/png:https://clubengadine.com.au/wp-content/uploads/2024/07/TVL-2026-Weekly-whats-on-1200-x-600-px-4.png
END:VEVENT
BEGIN:VEVENT
DTSTART;TZID=Australia/Sydney:20250408T150000
DTEND;TZID=Australia/Sydney:20250408T180000
DTSTAMP:20260422T153810
CREATED:20250102T052925Z
LAST-MODIFIED:20251031T011511Z
UID:10016422-1744124400-1744135200@clubengadine.com.au
SUMMARY:Members Happy Hour
DESCRIPTION:Join us for Members Happy Hour! One hour just wasn’t enough so we have tripled it! \nMonday to Friday \n3pm – 6pm \nSchooners & House Wine from $5
URL:https://clubengadine.com.au/event/members-happy-hour/2025-04-08/
CATEGORIES:Special Events
ATTACH;FMTTYPE=image/jpeg:https://clubengadine.com.au/wp-content/uploads/2025/01/ClubEngadine_MembersHappyHour_WEBSLIDE.jpg
END:VEVENT
BEGIN:VEVENT
DTSTART;TZID=Australia/Sydney:20250408T173000
DTEND;TZID=Australia/Sydney:20250408T203000
DTSTAMP:20260422T153810
CREATED:20250114T234432Z
LAST-MODIFIED:20250115T002307Z
UID:10020960-1744133400-1744144200@clubengadine.com.au
SUMMARY:Steak Night
DESCRIPTION:Join us on Tuesday night for our Steak special!\n250g Black Angus Rump cooked to your likingserved with chips & salad and choice of gravy\nONLY $18 for MEMBERS!\n\n\nSpecials may not be available on special event nights or public holiday
URL:https://clubengadine.com.au/event/steak-night/2025-04-08/
CATEGORIES:Mike's Grill Specials
ATTACH;FMTTYPE=image/png:https://clubengadine.com.au/wp-content/uploads/2025/01/4.png
END:VEVENT
BEGIN:VEVENT
DTSTART;VALUE=DATE:20250409
DTEND;VALUE=DATE:20250410
DTSTAMP:20260422T153810
CREATED:20240722T120719Z
LAST-MODIFIED:20260113T035748Z
UID:10010067-1744156800-1744243199@clubengadine.com.au
SUMMARY:Poker
DESCRIPTION:Every Wednesday & Sunday \nWednesday from 7pm\nProgressive bounty on offer $100-$2000 each game \n$15 entry with a $10 add on. Starting stack 30k Tournament Chips \nSunday from 2pm\nProgressive bounty on offer $100-$2000 each game \n$25 entry. Starting stack 50k Tournament Chips
URL:https://clubengadine.com.au/event/poker/2025-04-09/
CATEGORIES:Bingo & Cash Housie
ATTACH;FMTTYPE=image/png:https://clubengadine.com.au/wp-content/uploads/2024/07/TVL-2026-Weekly-whats-on-1200-x-600-px-6.png
END:VEVENT
BEGIN:VEVENT
DTSTART;VALUE=DATE:20250409
DTEND;VALUE=DATE:20250410
DTSTAMP:20260422T153810
CREATED:20240722T133731Z
LAST-MODIFIED:20260401T021512Z
UID:10018899-1744156800-1744243199@clubengadine.com.au
SUMMARY:Jackpot Joker
DESCRIPTION:FIND THE JOKER\, WIN THE JACKPOT! \nTo participate\, simply purchase $20 of raffle tickets from the bar. Pop your ticket in the barrel and be here for your chance to win! \nIf you pick the Joker card from the deck you will win the cash jackpot. \nT&C’s apply
URL:https://clubengadine.com.au/event/jackpot-joker/2025-04-09/
CATEGORIES:Promotion & Raffles
ATTACH;FMTTYPE=image/webp:https://clubengadine.com.au/wp-content/uploads/2024/07/Jackpot-Joker.webp
END:VEVENT
BEGIN:VEVENT
DTSTART;VALUE=DATE:20250409
DTEND;VALUE=DATE:20250410
DTSTAMP:20260422T153810
CREATED:20250303T085930Z
LAST-MODIFIED:20250305T020122Z
UID:10021999-1744156800-1744243199@clubengadine.com.au
SUMMARY:CUSTOMER SATISFACTION SURVEY
DESCRIPTION:WE WANT TO HEAR FROM YOU! \nWe at Club Engadine RSL are committed to providing you with the best possible guest experience. We invite you to take part of a short Customer Satisfaction Survey to assist us in understanding your expectations and enable us to improve the quality of our service in 2025 and beyond. \nThe survey will take approximately 10 minutes of your time. Complete before 6th April 2025 & you’ll go into the Draw to WIN a $250 VISA GIFT CARD! \nSimply visit click here to undertake the survey
URL:https://clubengadine.com.au/event/customer-satisfaction-survey/2025-04-09/
CATEGORIES:Promotion & Raffles,Special Events
ATTACH;FMTTYPE=image/jpeg:https://clubengadine.com.au/wp-content/uploads/2025/03/1200x600-Customer-Satisfaction_Web-Slide.jpg
END:VEVENT
BEGIN:VEVENT
DTSTART;TZID=Australia/Sydney:20250409T103000
DTEND;TZID=Australia/Sydney:20250409T123000
DTSTAMP:20260422T153810
CREATED:20240722T134451Z
LAST-MODIFIED:20260113T040504Z
UID:10014342-1744194600-1744201800@clubengadine.com.au
SUMMARY:Bingo
DESCRIPTION:$500 in prizes to be won every Monday\, Tuesday & Wednesday \nPlus with every game played you have the chance of winning the Bingo Deluxe Jackpot! \nBooks from $5 | Eyes down 10.30am
URL:https://clubengadine.com.au/event/bingo/2025-04-09/
CATEGORIES:Bingo & Cash Housie
ATTACH;FMTTYPE=image/png:https://clubengadine.com.au/wp-content/uploads/2024/07/TVL-2026-Weekly-whats-on-1200-x-600-px-4.png
END:VEVENT
BEGIN:VEVENT
DTSTART;TZID=Australia/Sydney:20250409T150000
DTEND;TZID=Australia/Sydney:20250409T180000
DTSTAMP:20260422T153810
CREATED:20250102T052925Z
LAST-MODIFIED:20251031T011511Z
UID:10016423-1744210800-1744221600@clubengadine.com.au
SUMMARY:Members Happy Hour
DESCRIPTION:Join us for Members Happy Hour! One hour just wasn’t enough so we have tripled it! \nMonday to Friday \n3pm – 6pm \nSchooners & House Wine from $5
URL:https://clubengadine.com.au/event/members-happy-hour/2025-04-09/
CATEGORIES:Special Events
ATTACH;FMTTYPE=image/jpeg:https://clubengadine.com.au/wp-content/uploads/2025/01/ClubEngadine_MembersHappyHour_WEBSLIDE.jpg
END:VEVENT
BEGIN:VEVENT
DTSTART;TZID=Australia/Sydney:20250409T173000
DTEND;TZID=Australia/Sydney:20250409T203000
DTSTAMP:20260422T153810
CREATED:20250114T232126Z
LAST-MODIFIED:20250114T232126Z
UID:10019920-1744219800-1744230600@clubengadine.com.au
SUMMARY:Schnitzel Night
DESCRIPTION:Wednesdays are Schnitzel Night!\nONLY $18 for MEMBERS\n300g Chicken Schnitzel served with chips & salad and your choice of gravy\n\n\n\nMay not be available on public holidays or special event nights
URL:https://clubengadine.com.au/event/schnitzel-night/2025-04-09/
CATEGORIES:Mike's Grill Specials
ATTACH;FMTTYPE=image/png:https://clubengadine.com.au/wp-content/uploads/2025/01/3.png
END:VEVENT
BEGIN:VEVENT
DTSTART;TZID=Australia/Sydney:20250409T183000
DTEND;TZID=Australia/Sydney:20250409T193000
DTSTAMP:20260422T153810
CREATED:20240722T121135Z
LAST-MODIFIED:20251013T010219Z
UID:10017721-1744223400-1744227000@clubengadine.com.au
SUMMARY:Members Marketplace Free Raffles
DESCRIPTION:FREE RAFFLES! Our Members will receive $10 of free raffle tickets every Wednesday for our Members Free Marketplace Raffles. With $800 worth of prizes to be won you don’t want to miss out! \nTo receive your tickets simply swipe your membership card at the kiosk\, receive your voucher for $10 of free raffle tickets and present it to the bar to claim. \nMembers must be on premises at time of draw to claim your prize. \nMembers are welcome to purchase extra tickets from the bar. Visitors are welcome to purchase tickets from the bar. \nT&C’s apply.
URL:https://clubengadine.com.au/event/members-marketplace-free-raffles/2025-04-09/
CATEGORIES:Promotion & Raffles
ATTACH;FMTTYPE=image/png:https://clubengadine.com.au/wp-content/uploads/2024/12/2025-webslides-1200-x-600-px-2.png
END:VEVENT
BEGIN:VEVENT
DTSTART;VALUE=DATE:20250410
DTEND;VALUE=DATE:20250411
DTSTAMP:20260422T153810
CREATED:20250303T085930Z
LAST-MODIFIED:20250305T020122Z
UID:10022000-1744243200-1744329599@clubengadine.com.au
SUMMARY:CUSTOMER SATISFACTION SURVEY
DESCRIPTION:WE WANT TO HEAR FROM YOU! \nWe at Club Engadine RSL are committed to providing you with the best possible guest experience. We invite you to take part of a short Customer Satisfaction Survey to assist us in understanding your expectations and enable us to improve the quality of our service in 2025 and beyond. \nThe survey will take approximately 10 minutes of your time. Complete before 6th April 2025 & you’ll go into the Draw to WIN a $250 VISA GIFT CARD! \nSimply visit click here to undertake the survey
URL:https://clubengadine.com.au/event/customer-satisfaction-survey/2025-04-10/
CATEGORIES:Promotion & Raffles,Special Events
ATTACH;FMTTYPE=image/jpeg:https://clubengadine.com.au/wp-content/uploads/2025/03/1200x600-Customer-Satisfaction_Web-Slide.jpg
END:VEVENT
BEGIN:VEVENT
DTSTART;VALUE=DATE:20250410
DTEND;VALUE=DATE:20250411
DTSTAMP:20260422T153810
CREATED:20250413T093632Z
LAST-MODIFIED:20250413T093643Z
UID:10022003-1744243200-1744329599@clubengadine.com.au
SUMMARY:CUSTOMER SATISFACTION SURVEY
DESCRIPTION:WE WANT TO HEAR FROM YOU! \nWe at Club Engadine RSL are committed to providing you with the best possible guest experience. We invite you to take part of a short Customer Satisfaction Survey to assist us in understanding your expectations and enable us to improve the quality of our service in 2025 and beyond. \nThe survey will take approximately 10 minutes of your time. Complete before 6th April 2025 & you’ll go into the Draw to WIN a $250 VISA GIFT CARD! \nSimply visit click here to undertake the survey
URL:https://clubengadine.com.au/event/customer-satisfaction-survey-2/
CATEGORIES:Promotion & Raffles,Special Events
ATTACH;FMTTYPE=image/jpeg:https://clubengadine.com.au/wp-content/uploads/2025/03/1200x600-Customer-Satisfaction_Web-Slide.jpg
END:VEVENT
BEGIN:VEVENT
DTSTART;TZID=Australia/Sydney:20250410T140000
DTEND;TZID=Australia/Sydney:20250410T160000
DTSTAMP:20260422T153810
CREATED:20250218T045400Z
LAST-MODIFIED:20250311T235229Z
UID:10021242-1744293600-1744300800@clubengadine.com.au
SUMMARY:Yesterday's Heroes
DESCRIPTION:Elvis to John Lennon\, Roy Orbison to Tom Jones\, plus many other 60’s groups like Manfred Man\, Rolling Stones & the Easybeats. Not to forget the ladies of the 50’s & 60’s like Connie Francis\, Lulu\, Dusty Springfield and many more!\n  \nJoin us in the Everest Room on Thursday 10th April | 2pm for our Yesterday’s Heroes Show starring Bill & Darlene Croft! \nTickets Available online or at reception: Book Online Here \n$10 Early Bird Tickets available until 12.3.25 \nNormal Ticket Price $15 \n  \nThere will be no allocated seating for this event
URL:https://clubengadine.com.au/event/yesterdays-heroes/
CATEGORIES:Entertainment,Special Events
ATTACH;FMTTYPE=image/png:https://clubengadine.com.au/wp-content/uploads/2025/02/YESTERDAYS-HEROES-1200-x-600-px.png
END:VEVENT
BEGIN:VEVENT
DTSTART;TZID=Australia/Sydney:20250410T150000
DTEND;TZID=Australia/Sydney:20250410T180000
DTSTAMP:20260422T153810
CREATED:20250102T052925Z
LAST-MODIFIED:20251031T011511Z
UID:10016424-1744297200-1744308000@clubengadine.com.au
SUMMARY:Members Happy Hour
DESCRIPTION:Join us for Members Happy Hour! One hour just wasn’t enough so we have tripled it! \nMonday to Friday \n3pm – 6pm \nSchooners & House Wine from $5
URL:https://clubengadine.com.au/event/members-happy-hour/2025-04-10/
CATEGORIES:Special Events
ATTACH;FMTTYPE=image/jpeg:https://clubengadine.com.au/wp-content/uploads/2025/01/ClubEngadine_MembersHappyHour_WEBSLIDE.jpg
END:VEVENT
BEGIN:VEVENT
DTSTART;TZID=Australia/Sydney:20250410T173000
DTEND;TZID=Australia/Sydney:20250410T203000
DTSTAMP:20260422T153810
CREATED:20250114T232313Z
LAST-MODIFIED:20250114T232313Z
UID:10020181-1744306200-1744317000@clubengadine.com.au
SUMMARY:Parmi Night
DESCRIPTION:Parmi Night!\nChoose any Parmi from our Menu\, only $22 for Members!\nYou have a choice of….\n– Traditionaltopped with napoletana sauce\, shaved ham & melted mozzarella cheeseOR– BologneseTopped with bolognese sauce & melted mozzarella cheeseOR– MexicanTopped with spicy beef\, jalapenos\, melted mozzarella\, sour cream\, guacamole & corn chipsOR– GreekTopped with slow cooked lamb\, feta cheese\, melted mozzarella cheese & tzatzikiOR– LoadedTopped with bacon\, mushrooms\, jalapenos\, melted mozzarella & smoky bbq sauceOR– SpanishTopped with spanish onion\, chorizo sausage\, black olives & melted mozzarella cheese\n\nSpecials may not be available on public holidays or special event nights
URL:https://clubengadine.com.au/event/parmi-night/2025-04-10/
CATEGORIES:Mike's Grill Specials
ATTACH;FMTTYPE=image/png:https://clubengadine.com.au/wp-content/uploads/2025/01/2.png
END:VEVENT
BEGIN:VEVENT
DTSTART;TZID=Australia/Sydney:20250410T190000
DTEND;TZID=Australia/Sydney:20250410T210000
DTSTAMP:20260422T153810
CREATED:20240722T125639Z
LAST-MODIFIED:20260113T041816Z
UID:10011853-1744311600-1744318800@clubengadine.com.au
SUMMARY:Trivia
DESCRIPTION:Join us every Thursday night for Trivia! \nFree entry. Cash prizes to be won! \nFrom 7pm in the main lounge
URL:https://clubengadine.com.au/event/trivia/2025-04-10/
CATEGORIES:Bingo & Cash Housie
ATTACH;FMTTYPE=image/png:https://clubengadine.com.au/wp-content/uploads/2024/07/TVL-2026-Weekly-whats-on-1200-x-600-px-7.png
END:VEVENT
BEGIN:VEVENT
DTSTART;VALUE=DATE:20250411
DTEND;VALUE=DATE:20250412
DTSTAMP:20260422T153810
CREATED:20240722T133731Z
LAST-MODIFIED:20260401T021512Z
UID:10018900-1744329600-1744415999@clubengadine.com.au
SUMMARY:Jackpot Joker
DESCRIPTION:FIND THE JOKER\, WIN THE JACKPOT! \nTo participate\, simply purchase $20 of raffle tickets from the bar. Pop your ticket in the barrel and be here for your chance to win! \nIf you pick the Joker card from the deck you will win the cash jackpot. \nT&C’s apply
URL:https://clubengadine.com.au/event/jackpot-joker/2025-04-11/
CATEGORIES:Promotion & Raffles
ATTACH;FMTTYPE=image/webp:https://clubengadine.com.au/wp-content/uploads/2024/07/Jackpot-Joker.webp
END:VEVENT
BEGIN:VEVENT
DTSTART;VALUE=DATE:20250411
DTEND;VALUE=DATE:20250412
DTSTAMP:20260422T153810
CREATED:20250303T085930Z
LAST-MODIFIED:20250305T020122Z
UID:10022001-1744329600-1744415999@clubengadine.com.au
SUMMARY:CUSTOMER SATISFACTION SURVEY
DESCRIPTION:WE WANT TO HEAR FROM YOU! \nWe at Club Engadine RSL are committed to providing you with the best possible guest experience. We invite you to take part of a short Customer Satisfaction Survey to assist us in understanding your expectations and enable us to improve the quality of our service in 2025 and beyond. \nThe survey will take approximately 10 minutes of your time. Complete before 6th April 2025 & you’ll go into the Draw to WIN a $250 VISA GIFT CARD! \nSimply visit click here to undertake the survey
URL:https://clubengadine.com.au/event/customer-satisfaction-survey/2025-04-11/
CATEGORIES:Promotion & Raffles,Special Events
ATTACH;FMTTYPE=image/jpeg:https://clubengadine.com.au/wp-content/uploads/2025/03/1200x600-Customer-Satisfaction_Web-Slide.jpg
END:VEVENT
BEGIN:VEVENT
DTSTART;TZID=Australia/Sydney:20250411T150000
DTEND;TZID=Australia/Sydney:20250411T180000
DTSTAMP:20260422T153810
CREATED:20250102T052925Z
LAST-MODIFIED:20251031T011511Z
UID:10016425-1744383600-1744394400@clubengadine.com.au
SUMMARY:Members Happy Hour
DESCRIPTION:Join us for Members Happy Hour! One hour just wasn’t enough so we have tripled it! \nMonday to Friday \n3pm – 6pm \nSchooners & House Wine from $5
URL:https://clubengadine.com.au/event/members-happy-hour/2025-04-11/
CATEGORIES:Special Events
ATTACH;FMTTYPE=image/jpeg:https://clubengadine.com.au/wp-content/uploads/2025/01/ClubEngadine_MembersHappyHour_WEBSLIDE.jpg
END:VEVENT
BEGIN:VEVENT
DTSTART;TZID=Australia/Sydney:20250411T180000
DTEND;TZID=Australia/Sydney:20250411T200000
DTSTAMP:20260422T153810
CREATED:20250220T034851Z
LAST-MODIFIED:20260113T042755Z
UID:10021265-1744394400-1744401600@clubengadine.com.au
SUMMARY:Members Cocktail Happy Hour
DESCRIPTION:Members! Join us every Friday for our Cocktail Happy Hour(s)!\nAll cocktails from the menu $12 each from 6pm – 8pm!\n\n\nClub Engadine practices the responsible service of alcohol
URL:https://clubengadine.com.au/event/members-cocktail-happy-hour/2025-04-11/
CATEGORIES:Promotion & Raffles,Special Events
ATTACH;FMTTYPE=image/png:https://clubengadine.com.au/wp-content/uploads/2025/02/TVL-2026-Weekly-whats-on-1200-x-600-px-10.png
END:VEVENT
BEGIN:VEVENT
DTSTART;TZID=Australia/Sydney:20250411T183000
DTEND;TZID=Australia/Sydney:20250411T193000
DTSTAMP:20260422T153810
CREATED:20241231T025851Z
LAST-MODIFIED:20251120T042018Z
UID:10017768-1744396200-1744399800@clubengadine.com.au
SUMMARY:Points & Protein Raffle
DESCRIPTION:Join us every Friday for our Points & Protein Raffle. \n20 x Meat Trays and $125 in Members Bonus Points to be won \nTickets on sale from 10am | Drawn from 6.30pm \n 
URL:https://clubengadine.com.au/event/points-protein-raffle/2025-04-11/
CATEGORIES:Promotion & Raffles
ATTACH;FMTTYPE=image/png:https://clubengadine.com.au/wp-content/uploads/2024/12/2025-webslides-1200-x-600-px-1.png
END:VEVENT
BEGIN:VEVENT
DTSTART;VALUE=DATE:20250412
DTEND;VALUE=DATE:20250413
DTSTAMP:20260422T153810
CREATED:20250303T085930Z
LAST-MODIFIED:20250305T020122Z
UID:10022002-1744416000-1744502399@clubengadine.com.au
SUMMARY:CUSTOMER SATISFACTION SURVEY
DESCRIPTION:WE WANT TO HEAR FROM YOU! \nWe at Club Engadine RSL are committed to providing you with the best possible guest experience. We invite you to take part of a short Customer Satisfaction Survey to assist us in understanding your expectations and enable us to improve the quality of our service in 2025 and beyond. \nThe survey will take approximately 10 minutes of your time. Complete before 6th April 2025 & you’ll go into the Draw to WIN a $250 VISA GIFT CARD! \nSimply visit click here to undertake the survey
URL:https://clubengadine.com.au/event/customer-satisfaction-survey/2025-04-12/
CATEGORIES:Promotion & Raffles,Special Events
ATTACH;FMTTYPE=image/jpeg:https://clubengadine.com.au/wp-content/uploads/2025/03/1200x600-Customer-Satisfaction_Web-Slide.jpg
END:VEVENT
BEGIN:VEVENT
DTSTART;VALUE=DATE:20250413
DTEND;VALUE=DATE:20250414
DTSTAMP:20260422T153810
CREATED:20240722T121440Z
LAST-MODIFIED:20260113T035536Z
UID:10010810-1744502400-1744588799@clubengadine.com.au
SUMMARY:Poker
DESCRIPTION:Every Wednesday & Sunday \nWednesday from 7pm\nProgressive bounty on offer $100-$2000 each game \n$15 entry with a $10 add on. Starting stack 30k Tournament Chips \nSunday from 2pm\nProgressive bounty on offer $100-$2000 each game \n$25 entry. Starting stack 50k Tournament Chips
URL:https://clubengadine.com.au/event/poker-2/2025-04-13/
CATEGORIES:Bingo & Cash Housie
ATTACH;FMTTYPE=image/png:https://clubengadine.com.au/wp-content/uploads/2024/07/TVL-2026-Weekly-whats-on-1200-x-600-px-6.png
END:VEVENT
BEGIN:VEVENT
DTSTART;VALUE=DATE:20250413
DTEND;VALUE=DATE:20250414
DTSTAMP:20260422T153810
CREATED:20240722T133731Z
LAST-MODIFIED:20260401T021512Z
UID:10018901-1744502400-1744588799@clubengadine.com.au
SUMMARY:Jackpot Joker
DESCRIPTION:FIND THE JOKER\, WIN THE JACKPOT! \nTo participate\, simply purchase $20 of raffle tickets from the bar. Pop your ticket in the barrel and be here for your chance to win! \nIf you pick the Joker card from the deck you will win the cash jackpot. \nT&C’s apply
URL:https://clubengadine.com.au/event/jackpot-joker/2025-04-13/
CATEGORIES:Promotion & Raffles
ATTACH;FMTTYPE=image/webp:https://clubengadine.com.au/wp-content/uploads/2024/07/Jackpot-Joker.webp
END:VEVENT
BEGIN:VEVENT
DTSTART;VALUE=DATE:20250413
DTEND;VALUE=DATE:20250414
DTSTAMP:20260422T153810
CREATED:20250411T014135Z
LAST-MODIFIED:20250411T014135Z
UID:10022445-1744502400-1744588799@clubengadine.com.au
SUMMARY:Kids Eat Free
DESCRIPTION:Kids Eat Free* – Sunday to Wednesday during the school holidays!\nWith every Adult meal purchased over $20\nAvailable for lunch & dinner\n\n\n*Kids ribs not included
URL:https://clubengadine.com.au/event/kids-eat-free-3/2025-04-13/
CATEGORIES:Mike's Grill Specials,Special Events
ATTACH;FMTTYPE=image/png:https://clubengadine.com.au/wp-content/uploads/2025/04/CE-tv-screens-1200-x-600-px-9.png
END:VEVENT
END:VCALENDAR