BEGIN:VCALENDAR
VERSION:2.0
PRODID:-//Club Engadine RSL - ECPv6.15.20//NONSGML v1.0//EN
CALSCALE:GREGORIAN
METHOD:PUBLISH
X-WR-CALNAME:Club Engadine RSL
X-ORIGINAL-URL:https://clubengadine.com.au
X-WR-CALDESC:Events for Club Engadine RSL
REFRESH-INTERVAL;VALUE=DURATION:PT1H
X-Robots-Tag:noindex
X-PUBLISHED-TTL:PT1H
BEGIN:VTIMEZONE
TZID:Australia/Sydney
BEGIN:STANDARD
TZOFFSETFROM:+1100
TZOFFSETTO:+1000
TZNAME:AEST
DTSTART:20240406T160000
END:STANDARD
BEGIN:DAYLIGHT
TZOFFSETFROM:+1000
TZOFFSETTO:+1100
TZNAME:AEDT
DTSTART:20241005T160000
END:DAYLIGHT
BEGIN:STANDARD
TZOFFSETFROM:+1100
TZOFFSETTO:+1000
TZNAME:AEST
DTSTART:20250405T160000
END:STANDARD
BEGIN:DAYLIGHT
TZOFFSETFROM:+1000
TZOFFSETTO:+1100
TZNAME:AEDT
DTSTART:20251004T160000
END:DAYLIGHT
BEGIN:STANDARD
TZOFFSETFROM:+1100
TZOFFSETTO:+1000
TZNAME:AEST
DTSTART:20260404T160000
END:STANDARD
BEGIN:DAYLIGHT
TZOFFSETFROM:+1000
TZOFFSETTO:+1100
TZNAME:AEDT
DTSTART:20261003T160000
END:DAYLIGHT
END:VTIMEZONE
BEGIN:VEVENT
DTSTART;TZID=Australia/Sydney:20251222T103000
DTEND;TZID=Australia/Sydney:20251222T123000
DTSTAMP:20260422T154511
CREATED:20240722T134451Z
LAST-MODIFIED:20260113T040504Z
UID:10014488-1766399400-1766406600@clubengadine.com.au
SUMMARY:Bingo
DESCRIPTION:$500 in prizes to be won every Monday\, Tuesday & Wednesday \nPlus with every game played you have the chance of winning the Bingo Deluxe Jackpot! \nBooks from $5 | Eyes down 10.30am
URL:https://clubengadine.com.au/event/bingo/2025-12-22/
CATEGORIES:Bingo & Cash Housie
ATTACH;FMTTYPE=image/png:https://clubengadine.com.au/wp-content/uploads/2024/07/TVL-2026-Weekly-whats-on-1200-x-600-px-4.png
END:VEVENT
BEGIN:VEVENT
DTSTART;TZID=Australia/Sydney:20251222T173000
DTEND;TZID=Australia/Sydney:20251222T203000
DTSTAMP:20260422T154511
CREATED:20250114T234333Z
LAST-MODIFIED:20250114T234333Z
UID:10020735-1766424600-1766435400@clubengadine.com.au
SUMMARY:Schnitzel & Pasta Night
DESCRIPTION:Join us every Monday for our Schnitzel & Pasta night!ONLY $17 for MEMBERS!\nYour choice of:300g Chicken Breast Schnitzelserved with chips & choice of gravyORSpaghetti Bolognesetraditional slow cooked bologneseORFettucine Vegetarianw/ olives\, mushrooms\, garlic\, capsicum & onions in a napoletana sauceORFettucine Boscaiolaw/ bacon\, mushrooms\, garlic\, shallots\, cream & white wine sauce
URL:https://clubengadine.com.au/event/schnitzel-pasta-night/2025-12-22/
CATEGORIES:Mike's Grill Specials
ATTACH;FMTTYPE=image/png:https://clubengadine.com.au/wp-content/uploads/2025/01/5.png
END:VEVENT
BEGIN:VEVENT
DTSTART;TZID=Australia/Sydney:20251223T103000
DTEND;TZID=Australia/Sydney:20251223T123000
DTSTAMP:20260422T154511
CREATED:20240722T134451Z
LAST-MODIFIED:20260113T040504Z
UID:10014489-1766485800-1766493000@clubengadine.com.au
SUMMARY:Bingo
DESCRIPTION:$500 in prizes to be won every Monday\, Tuesday & Wednesday \nPlus with every game played you have the chance of winning the Bingo Deluxe Jackpot! \nBooks from $5 | Eyes down 10.30am
URL:https://clubengadine.com.au/event/bingo/2025-12-23/
CATEGORIES:Bingo & Cash Housie
ATTACH;FMTTYPE=image/png:https://clubengadine.com.au/wp-content/uploads/2024/07/TVL-2026-Weekly-whats-on-1200-x-600-px-4.png
END:VEVENT
BEGIN:VEVENT
DTSTART;TZID=Australia/Sydney:20251223T173000
DTEND;TZID=Australia/Sydney:20251223T203000
DTSTAMP:20260422T154511
CREATED:20250114T234432Z
LAST-MODIFIED:20250115T002307Z
UID:10020997-1766511000-1766521800@clubengadine.com.au
SUMMARY:Steak Night
DESCRIPTION:Join us on Tuesday night for our Steak special!\n250g Black Angus Rump cooked to your likingserved with chips & salad and choice of gravy\nONLY $18 for MEMBERS!\n\n\nSpecials may not be available on special event nights or public holiday
URL:https://clubengadine.com.au/event/steak-night/2025-12-23/
CATEGORIES:Mike's Grill Specials
ATTACH;FMTTYPE=image/png:https://clubengadine.com.au/wp-content/uploads/2025/01/4.png
END:VEVENT
BEGIN:VEVENT
DTSTART;VALUE=DATE:20251224
DTEND;VALUE=DATE:20251225
DTSTAMP:20260422T154511
CREATED:20240722T120719Z
LAST-MODIFIED:20260113T035748Z
UID:10010141-1766534400-1766620799@clubengadine.com.au
SUMMARY:Poker
DESCRIPTION:Every Wednesday & Sunday \nWednesday from 7pm\nProgressive bounty on offer $100-$2000 each game \n$15 entry with a $10 add on. Starting stack 30k Tournament Chips \nSunday from 2pm\nProgressive bounty on offer $100-$2000 each game \n$25 entry. Starting stack 50k Tournament Chips
URL:https://clubengadine.com.au/event/poker/2025-12-24/
CATEGORIES:Bingo & Cash Housie
ATTACH;FMTTYPE=image/png:https://clubengadine.com.au/wp-content/uploads/2024/07/TVL-2026-Weekly-whats-on-1200-x-600-px-6.png
END:VEVENT
BEGIN:VEVENT
DTSTART;VALUE=DATE:20251224
DTEND;VALUE=DATE:20251225
DTSTAMP:20260422T154511
CREATED:20240722T133731Z
LAST-MODIFIED:20260401T021512Z
UID:10019010-1766534400-1766620799@clubengadine.com.au
SUMMARY:Jackpot Joker
DESCRIPTION:FIND THE JOKER\, WIN THE JACKPOT! \nTo participate\, simply purchase $20 of raffle tickets from the bar. Pop your ticket in the barrel and be here for your chance to win! \nIf you pick the Joker card from the deck you will win the cash jackpot. \nT&C’s apply
URL:https://clubengadine.com.au/event/jackpot-joker/2025-12-24/
CATEGORIES:Promotion & Raffles
ATTACH;FMTTYPE=image/webp:https://clubengadine.com.au/wp-content/uploads/2024/07/Jackpot-Joker.webp
END:VEVENT
BEGIN:VEVENT
DTSTART;TZID=Australia/Sydney:20251224T103000
DTEND;TZID=Australia/Sydney:20251224T123000
DTSTAMP:20260422T154511
CREATED:20240722T134451Z
LAST-MODIFIED:20260113T040504Z
UID:10014490-1766572200-1766579400@clubengadine.com.au
SUMMARY:Bingo
DESCRIPTION:$500 in prizes to be won every Monday\, Tuesday & Wednesday \nPlus with every game played you have the chance of winning the Bingo Deluxe Jackpot! \nBooks from $5 | Eyes down 10.30am
URL:https://clubengadine.com.au/event/bingo/2025-12-24/
CATEGORIES:Bingo & Cash Housie
ATTACH;FMTTYPE=image/png:https://clubengadine.com.au/wp-content/uploads/2024/07/TVL-2026-Weekly-whats-on-1200-x-600-px-4.png
END:VEVENT
BEGIN:VEVENT
DTSTART;TZID=Australia/Sydney:20251224T173000
DTEND;TZID=Australia/Sydney:20251224T203000
DTSTAMP:20260422T154511
CREATED:20250114T232126Z
LAST-MODIFIED:20250114T232126Z
UID:10019957-1766597400-1766608200@clubengadine.com.au
SUMMARY:Schnitzel Night
DESCRIPTION:Wednesdays are Schnitzel Night!\nONLY $18 for MEMBERS\n300g Chicken Schnitzel served with chips & salad and your choice of gravy\n\n\n\nMay not be available on public holidays or special event nights
URL:https://clubengadine.com.au/event/schnitzel-night/2025-12-24/
CATEGORIES:Mike's Grill Specials
ATTACH;FMTTYPE=image/png:https://clubengadine.com.au/wp-content/uploads/2025/01/3.png
END:VEVENT
BEGIN:VEVENT
DTSTART;TZID=Australia/Sydney:20251224T183000
DTEND;TZID=Australia/Sydney:20251224T193000
DTSTAMP:20260422T154511
CREATED:20241205T021301Z
LAST-MODIFIED:20251120T010249Z
UID:10015709-1766601000-1766604600@clubengadine.com.au
SUMMARY:Christmas Seafood Raffle
DESCRIPTION:Join us for our Christmas Seafood Raffle with $1200 dollars’ worth of seafood to be won\, and an additional 10 x meat trays up for grabs!\nTickets on sale from 10am\, drawn from 6:30pm.
URL:https://clubengadine.com.au/event/christmas-seafood-raffle/
CATEGORIES:Promotion & Raffles,Special Events
ATTACH;FMTTYPE=image/png:https://clubengadine.com.au/wp-content/uploads/2024/12/Entertainment_Webslides-3.png
END:VEVENT
BEGIN:VEVENT
DTSTART;TZID=Australia/Sydney:20251224T183000
DTEND;TZID=Australia/Sydney:20251224T193000
DTSTAMP:20260422T154511
CREATED:20251111T031214Z
LAST-MODIFIED:20251223T014034Z
UID:10023747-1766601000-1766604600@clubengadine.com.au
SUMMARY:Christmas Ham Raffles
DESCRIPTION:40 x 1/2 Hams to be won every Wednesday & Friday from December 3rd to December 19th. \nTickets on sale from 10am | Drawn from 6.30pm
URL:https://clubengadine.com.au/event/christmas-ham-raffles-2/2025-12-24/
ATTACH;FMTTYPE=image/png:https://clubengadine.com.au/wp-content/uploads/2024/12/Entertainment_Webslides-7.png
END:VEVENT
BEGIN:VEVENT
DTSTART;TZID=Australia/Sydney:20251225T173000
DTEND;TZID=Australia/Sydney:20251225T203000
DTSTAMP:20260422T154511
CREATED:20250114T232313Z
LAST-MODIFIED:20250114T232313Z
UID:10020218-1766683800-1766694600@clubengadine.com.au
SUMMARY:Parmi Night
DESCRIPTION:Parmi Night!\nChoose any Parmi from our Menu\, only $22 for Members!\nYou have a choice of….\n– Traditionaltopped with napoletana sauce\, shaved ham & melted mozzarella cheeseOR– BologneseTopped with bolognese sauce & melted mozzarella cheeseOR– MexicanTopped with spicy beef\, jalapenos\, melted mozzarella\, sour cream\, guacamole & corn chipsOR– GreekTopped with slow cooked lamb\, feta cheese\, melted mozzarella cheese & tzatzikiOR– LoadedTopped with bacon\, mushrooms\, jalapenos\, melted mozzarella & smoky bbq sauceOR– SpanishTopped with spanish onion\, chorizo sausage\, black olives & melted mozzarella cheese\n\nSpecials may not be available on public holidays or special event nights
URL:https://clubengadine.com.au/event/parmi-night/2025-12-25/
CATEGORIES:Mike's Grill Specials
ATTACH;FMTTYPE=image/png:https://clubengadine.com.au/wp-content/uploads/2025/01/2.png
END:VEVENT
BEGIN:VEVENT
DTSTART;TZID=Australia/Sydney:20251225T190000
DTEND;TZID=Australia/Sydney:20251225T210000
DTSTAMP:20260422T154511
CREATED:20240722T125639Z
LAST-MODIFIED:20260113T041816Z
UID:10011890-1766689200-1766696400@clubengadine.com.au
SUMMARY:Trivia
DESCRIPTION:Join us every Thursday night for Trivia! \nFree entry. Cash prizes to be won! \nFrom 7pm in the main lounge
URL:https://clubengadine.com.au/event/trivia/2025-12-25/
CATEGORIES:Bingo & Cash Housie
ATTACH;FMTTYPE=image/png:https://clubengadine.com.au/wp-content/uploads/2024/07/TVL-2026-Weekly-whats-on-1200-x-600-px-7.png
END:VEVENT
BEGIN:VEVENT
DTSTART;VALUE=DATE:20251226
DTEND;VALUE=DATE:20251227
DTSTAMP:20260422T154511
CREATED:20240722T133731Z
LAST-MODIFIED:20260401T021512Z
UID:10019011-1766707200-1766793599@clubengadine.com.au
SUMMARY:Jackpot Joker
DESCRIPTION:FIND THE JOKER\, WIN THE JACKPOT! \nTo participate\, simply purchase $20 of raffle tickets from the bar. Pop your ticket in the barrel and be here for your chance to win! \nIf you pick the Joker card from the deck you will win the cash jackpot. \nT&C’s apply
URL:https://clubengadine.com.au/event/jackpot-joker/2025-12-26/
CATEGORIES:Promotion & Raffles
ATTACH;FMTTYPE=image/webp:https://clubengadine.com.au/wp-content/uploads/2024/07/Jackpot-Joker.webp
END:VEVENT
BEGIN:VEVENT
DTSTART;TZID=Australia/Sydney:20251226T180000
DTEND;TZID=Australia/Sydney:20251226T200000
DTSTAMP:20260422T154511
CREATED:20250220T034851Z
LAST-MODIFIED:20260113T042755Z
UID:10021302-1766772000-1766779200@clubengadine.com.au
SUMMARY:Members Cocktail Happy Hour
DESCRIPTION:Members! Join us every Friday for our Cocktail Happy Hour(s)!\nAll cocktails from the menu $12 each from 6pm – 8pm!\n\n\nClub Engadine practices the responsible service of alcohol
URL:https://clubengadine.com.au/event/members-cocktail-happy-hour/2025-12-26/
CATEGORIES:Promotion & Raffles,Special Events
ATTACH;FMTTYPE=image/png:https://clubengadine.com.au/wp-content/uploads/2025/02/TVL-2026-Weekly-whats-on-1200-x-600-px-10.png
END:VEVENT
BEGIN:VEVENT
DTSTART;TZID=Australia/Sydney:20251226T183000
DTEND;TZID=Australia/Sydney:20251226T193000
DTSTAMP:20260422T154511
CREATED:20251111T031214Z
LAST-MODIFIED:20251223T014034Z
UID:10023748-1766773800-1766777400@clubengadine.com.au
SUMMARY:Christmas Ham Raffles
DESCRIPTION:40 x 1/2 Hams to be won every Wednesday & Friday from December 3rd to December 19th. \nTickets on sale from 10am | Drawn from 6.30pm
URL:https://clubengadine.com.au/event/christmas-ham-raffles-2/2025-12-26/
ATTACH;FMTTYPE=image/png:https://clubengadine.com.au/wp-content/uploads/2024/12/Entertainment_Webslides-7.png
END:VEVENT
BEGIN:VEVENT
DTSTART;TZID=Australia/Sydney:20251227T200000
DTEND;TZID=Australia/Sydney:20251227T230000
DTSTAMP:20260422T154511
CREATED:20251022T005636Z
LAST-MODIFIED:20251127T015712Z
UID:10023662-1766865600-1766876400@clubengadine.com.au
SUMMARY:Ron Ashton
DESCRIPTION:Ron Ashton will be performing crowd favorites from 8pm-11pm in the main lounge. Pop on over to enjoy some great tunes!
URL:https://clubengadine.com.au/event/ron-ashton/
CATEGORIES:Entertainment
ATTACH;FMTTYPE=image/png:https://clubengadine.com.au/wp-content/uploads/2025/10/Entertainment_Webslides-2.png
END:VEVENT
BEGIN:VEVENT
DTSTART;VALUE=DATE:20251228
DTEND;VALUE=DATE:20251229
DTSTAMP:20260422T154511
CREATED:20240722T121440Z
LAST-MODIFIED:20260113T035536Z
UID:10010847-1766880000-1766966399@clubengadine.com.au
SUMMARY:Poker
DESCRIPTION:Every Wednesday & Sunday \nWednesday from 7pm\nProgressive bounty on offer $100-$2000 each game \n$15 entry with a $10 add on. Starting stack 30k Tournament Chips \nSunday from 2pm\nProgressive bounty on offer $100-$2000 each game \n$25 entry. Starting stack 50k Tournament Chips
URL:https://clubengadine.com.au/event/poker-2/2025-12-28/
CATEGORIES:Bingo & Cash Housie
ATTACH;FMTTYPE=image/png:https://clubengadine.com.au/wp-content/uploads/2024/07/TVL-2026-Weekly-whats-on-1200-x-600-px-6.png
END:VEVENT
BEGIN:VEVENT
DTSTART;TZID=Australia/Sydney:20251228T113000
DTEND;TZID=Australia/Sydney:20251228T200000
DTSTAMP:20260422T154511
CREATED:20250114T232834Z
LAST-MODIFIED:20250825T034533Z
UID:10020477-1766921400-1766952000@clubengadine.com.au
SUMMARY:Kids Eat Free*
DESCRIPTION:Kids Eat FREE* All Day Sunday!\n\n*Bring the family in for Lunch OR Dinner and kids eat free with every paying adult of $20+. Excludes Kids Ribs.\n\n*Not available on public holidays\, Mothers Day or Fathers Day.
URL:https://clubengadine.com.au/event/kids-eat-free-2/2025-12-28/
CATEGORIES:Mike's Grill Specials
ATTACH;FMTTYPE=image/png:https://clubengadine.com.au/wp-content/uploads/2025/01/6.png
END:VEVENT
END:VCALENDAR